{"text_format":"1","workbook":"xlsx","n_sheets":21,"sheets":["slozenka","zmeny","Oblasti","Verze","Vstupy","Export","HelpPoznamky","Help","Import1","Import2","Vystup1","Tisky","PAL","ProtZjPot","Pouceni","Vypocty0","Vypocty1","Vypocty2","splatky","spolecnosti","Sheet1"],"not_rendered":{"charts":2,"images":54,"macros":1,"external_links":1,"defined_names":24,"comments":5,"pivot_tables":0},"unopened":[],"bounds":{"document_bytes":16777216,"sheet_cells":100000,"rows_first":2000,"rows_last":500,"rows_between":2000,"halvings":0,"cell_chars":16384,"cell_head_chars":4096},"cells_cut":0,"cells_raw":0,"read":"whole","date_system":"1900"}

{"sheet":"slozenka","index":0,"n_rows":116,"n_cols":111,"rows_kept":116,"cut":false,"hidden":false,"merged":[[125,59,127,59],[125,60,127,60],[125,61,127,61],[125,62,127,62],[125,63,127,63],[125,64,127,64],[125,65,127,65],[125,66,127,66],[128,66,130,66],[128,65,130,65],[128,64,130,64],[128,63,130,63],[128,62,130,62],[128,61,130,61],[128,60,130,60],[128,59,130,59],[137,59,139,59],[137,60,139,60],[137,61,139,61],[137,62,139,62],[137,63,139,63],[137,64,139,64],[137,65,139,65],[137,66,139,66],[131,65,133,65],[134,65,136,65],[134,66,136,66],[131,66,133,66],[131,64,133,64],[134,64,136,64],[134,63,136,63],[131,63,133,63],[131,62,133,62],[134,62,136,62],[134,61,136,61],[131,61,133,61],[131,60,133,60],[134,60,136,60],[134,59,136,59],[131,59,133,59],[115,59,117,59],[115,60,117,60],[115,61,117,61],[115,62,117,62],[115,63,117,63],[115,64,117,64],[115,65,117,65],[115,66,117,66],[115,67,117,67],[112,59,114,59],[112,60,114,60],[112,61,114,61],[112,62,114,62],[112,63,114,63],[112,64,114,64],[112,65,114,65],[112,66,114,66],[112,67,114,67],[109,59,111,59],[109,60,111,60],[109,61,111,61],[109,62,111,62],[109,63,111,63],[109,64,111,64],[109,65,111,65],[109,66,111,66],[109,67,111,67],[106,59,108,59],[106,60,108,60],[106,61,108,61],[106,62,108,62],[106,63,108,63],[106,64,108,64],[106,65,108,65],[106,66,108,66],[106,67,108,67],[103,59,105,59],[103,60,105,60],[103,61,105,61],[103,62,105,62],[103,63,105,63],[103,64,105,64],[103,65,105,65],[103,66,105,66],[103,67,105,67],[100,59,102,59],[100,60,102,60],[100,61,102,61],[100,62,102,62],[100,63,102,63],[100,64,102,64],[100,65,102,65],[100,66,102,66],[100,67,102,67],[97,59,99,59],[97,60,99,60],[97,61,99,61],[97,62,99,62],[97,63,99,63],[97,64,99,64],[97,65,99,65],[97,66,99,66],[97,67,99,67],[94,59,96,59],[94,60,96,60],[94,61,96,61],[94,62,96,62],[94,63,96,63],[94,64,96,64],[94,65,96,65],[94,66,96,66],[94,67,96,67],[91,59,93,59],[91,60,93,60],[91,61,93,61],[91,62,93,62],[91,63,93,63],[91,64,93,64],[91,65,93,65],[91,66,93,66],[91,67,93,67],[88,59,90,59],[88,60,90,60],[88,61,90,61],[88,62,90,62],[88,63,90,63],[88,64,90,64],[88,65,90,65],[88,66,90,66],[88,67,90,67],[85,59,87,59],[85,60,87,60],[85,61,87,61],[85,62,87,62],[85,63,87,63],[85,64,87,64],[85,65,87,65],[85,66,87,66],[85,67,87,67],[82,59,84,59],[82,60,84,60],[82,61,84,61],[82,62,84,62],[82,63,84,63],[82,64,84,64],[82,65,84,65],[82,66,84,66],[82,67,84,67],[79,59,81,59],[79,60,81,60],[79,61,81,61],[79,62,81,62],[79,63,81,63],[79,64,81,64],[79,65,81,65],[79,66,81,66],[79,67,81,67],[76,59,78,59],[76,60,78,60],[76,61,78,61],[76,62,78,62],[76,63,78,63],[76,64,78,64],[76,65,78,65],[76,66,78,66],[76,67,78,67],[73,59,75,59],[73,60,75,60],[73,61,75,61],[73,62,75,62],[73,63,75,63],[73,64,75,64],[73,65,75,65],[73,66,75,66],[73,67,75,67],[8,102,8,107],[9,13,9,24],[70,59,72,59],[70,60,72,60],[70,61,72,61],[70,62,72,62],[70,63,72,63],[70,64,72,64],[70,65,72,65],[70,66,72,66],[70,67,72,67],[10,59,12,59],[10,60,12,60],[10,61,12,61],[10,62,12,62],[10,63,12,63],[10,64,12,64],[10,65,12,65],[10,66,12,66],[10,67,12,67],[13,77,16,77],[13,78,16,78],[13,79,16,79],[23,73,26,73],[49,1,51,8],[9,76,9,79],[7,83,7,86],[8,83,8,86],[7,90,7,95],[8,90,8,95],[8,73,8,75],[7,76,7,79],[8,76,8,79],[13,61,15,61],[16,61,18,61],[19,61,21,61],[22,61,24,61],[13,84,16,84],[13,85,16,85],[18,75,21,75],[13,75,16,75],[13,76,16,76],[13,80,16,80],[13,81,16,81],[13,82,16,82],[13,83,16,83],[13,73,16,73],[18,73,21,73],[18,45,21,46],[18,47,21,48],[18,49,21,50],[18,51,21,52],[18,53,21,54],[18,55,21,56],[13,49,16,50],[13,51,16,52],[13,53,16,54],[13,55,16,56],[13,45,16,46],[13,47,16,48],[28,73,31,73],[36,73,39,73],[40,73,43,73],[44,73,47,73],[48,73,51,73],[52,73,55,73],[13,74,16,74],[48,53,51,54],[48,55,51,56],[13,62,15,62],[13,64,15,64],[13,65,15,65],[13,66,15,66],[13,67,15,67],[16,59,18,59],[16,60,18,60],[16,62,18,62],[16,64,18,64],[16,65,18,65],[16,66,18,66],[16,67,18,67],[13,63,15,63],[16,63,18,63],[13,59,15,59],[36,49,39,50],[36,51,39,52],[36,53,39,54],[36,55,39,56],[48,39,51,40],[48,41,51,42],[18,33,21,34],[18,35,21,36],[13,33,16,34],[18,37,21,38],[28,51,31,52],[28,53,31,54],[28,55,31,56],[23,43,26,44],[23,45,26,46],[23,47,26,48],[23,49,26,50],[23,51,26,52],[23,53,26,54],[23,55,26,56],[28,45,31,46],[28,47,31,48],[28,49,31,50],[28,43,31,44],[13,37,16,38],[13,39,16,40],[13,41,16,42],[13,43,16,44],[18,39,21,40],[23,26,26,26],[18,41,21,42],[9,5,9,12],[10,5,10,12],[10,13,10,24],[18,29,21,30],[18,31,21,32],[18,43,21,44],[18,27,21,28],[40,33,43,34],[40,35,43,36],[40,37,43,38],[40,39,43,40],[40,41,43,42],[13,35,16,36],[25,1,28,10],[28,26,31,26],[28,27,31,28],[28,29,31,30],[28,31,31,32],[28,37,31,38],[13,27,16,28],[13,29,16,30],[13,31,16,32],[23,27,26,28],[23,29,26,30],[23,31,26,32],[23,37,26,38],[23,39,26,40],[23,41,26,42],[36,37,39,38],[36,39,39,40],[36,41,39,42],[55,3,56,12],[29,1,32,7],[29,11,32,12],[29,15,32,24],[44,37,47,38],[48,26,51,26],[48,27,51,28],[48,29,51,30],[48,31,51,32],[48,33,51,34],[48,35,51,36],[48,37,51,38],[33,14,36,24],[36,26,39,26],[39,1,42,12],[40,26,43,26],[43,1,45,12],[44,26,47,26],[37,14,39,16],[37,17,39,24],[46,1,48,3],[40,29,43,30],[40,31,43,32],[46,4,48,12],[3,105,3,113],[4,73,4,79],[4,92,4,99],[4,100,4,107],[8,18,8,24],[52,51,55,52],[52,53,55,54],[52,55,55,56],[52,33,55,34],[52,35,55,36],[52,37,55,38],[52,39,55,40],[52,41,55,42],[52,43,55,44],[52,26,55,26],[52,27,55,28],[52,29,55,30],[52,31,55,32],[48,43,51,44],[48,45,51,46],[48,47,51,48],[48,49,51,50],[48,51,51,52],[40,27,43,28],[13,60,15,60],[19,67,21,67],[22,59,24,59],[22,60,24,60],[22,62,24,62],[22,64,24,64],[22,65,24,65],[22,66,24,66],[22,67,24,67],[25,59,27,59],[25,60,27,60],[25,62,27,62],[25,64,27,64],[25,65,27,65],[25,66,27,66],[25,67,27,67],[25,61,27,61],[19,59,21,59],[19,60,21,60],[19,62,21,62],[19,64,21,64],[19,65,21,65],[19,66,21,66],[19,63,21,63],[22,63,24,63],[25,63,27,63],[28,64,30,64],[28,65,30,65],[28,66,30,66],[28,67,30,67],[31,59,33,59],[31,60,33,60],[31,62,33,62],[31,64,33,64],[31,65,33,65],[31,66,33,66],[31,67,33,67],[28,61,30,61],[31,61,33,61],[31,63,33,63],[28,63,30,63],[34,64,36,64],[34,65,36,65],[34,66,36,66],[34,67,36,67],[37,59,39,59],[37,60,39,60],[37,62,39,62],[37,64,39,64],[37,65,39,65],[37,66,39,66],[37,67,39,67],[34,61,36,61],[37,61,39,61],[34,63,36,63],[37,63,39,63],[34,59,36,59],[34,60,36,60],[34,62,36,62],[46,60,48,60],[46,62,48,62],[40,64,42,64],[40,65,42,65],[40,66,42,66],[40,67,42,67],[43,59,45,59],[43,60,45,60],[43,62,45,62],[43,64,45,64],[43,65,45,65],[43,66,45,66],[43,67,45,67],[40,61,42,61],[43,61,45,61],[40,63,42,63],[43,63,45,63],[40,59,42,59],[40,60,42,60],[40,62,42,62],[46,63,48,63],[52,66,54,66],[52,67,54,67],[55,59,57,59],[55,60,57,60],[55,62,57,62],[55,64,57,64],[55,65,57,65],[55,66,57,66],[55,67,57,67],[52,63,54,63],[55,63,57,63],[52,61,54,61],[55,61,57,61],[52,59,54,59],[52,60,54,60],[52,62,54,62],[52,64,54,64],[52,65,54,65],[67,59,69,59],[67,60,69,60],[67,62,69,62],[67,64,69,64],[67,65,69,65],[67,66,69,66],[67,67,69,67],[64,63,66,63],[67,63,69,63],[64,61,66,61],[67,61,69,61],[64,59,66,59],[64,60,66,60],[64,62,66,62],[64,64,66,64],[64,65,66,65],[64,66,66,66],[64,67,66,67],[58,66,60,66],[58,67,60,67],[61,59,63,59],[61,60,63,60],[61,62,63,62],[61,64,63,64],[61,65,63,65],[61,66,63,66],[61,67,63,67],[58,63,60,63],[61,63,63,63],[58,61,60,61],[61,61,63,61],[58,59,60,59],[58,60,60,60],[58,62,60,62],[58,64,60,64],[58,65,60,65],[40,49,43,50],[40,51,43,52],[40,53,43,54],[40,55,43,56],[36,27,39,28],[36,29,39,30],[1,94,1,96],[49,9,51,9],[49,10,51,12],[46,64,48,64],[46,65,48,65],[46,66,48,66],[46,67,48,67],[49,59,51,59],[49,60,51,60],[49,62,51,62],[49,64,51,64],[49,65,51,65],[49,66,51,66],[49,67,51,67],[49,63,51,63],[46,61,48,61],[49,61,51,61],[46,59,48,59],[44,27,47,28],[44,29,47,30],[44,31,47,32],[44,33,47,34],[44,35,47,36],[28,59,30,59],[28,60,30,60],[28,62,30,62],[44,49,47,50],[44,51,47,52],[44,53,47,54],[44,55,47,56],[44,39,47,40],[44,41,47,42],[44,43,47,44],[40,47,43,48],[40,43,43,44],[40,45,43,46],[28,39,31,40],[28,41,31,42],[44,47,47,48],[36,31,39,32],[36,33,39,34],[36,35,39,36],[5,80,5,91],[36,43,39,44],[36,45,39,46],[36,47,39,48],[7,102,7,107],[61,1,64,12],[65,1,66,3],[65,4,66,12],[63,22,66,49],[57,2,60,12],[7,1,7,4],[8,1,8,4],[7,5,7,12],[7,13,7,17],[8,5,8,12],[8,13,8,17],[7,18,7,24],[18,26,21,26],[13,26,16,26],[57,1,60,1],[52,45,55,46],[52,47,55,48],[52,49,55,50],[52,3,54,12],[6,84,6,91],[44,45,47,46],[33,1,38,12],[9,93,9,95],[9,81,9,92],[7,25,7,38],[8,25,8,38],[0,1,0,4],[1,1,1,4],[2,1,2,4],[1,5,1,16],[2,5,2,16],[0,94,0,96],[3,73,3,79],[3,80,3,88],[3,89,3,100],[0,5,0,16],[8,96,8,101],[7,96,7,101],[3,101,3,104],[2,101,2,104],[4,80,4,83],[4,84,4,91],[2,94,2,96]]}
[null,"Číslo klienta",null,null,null,"KLIENT",null,null,null,null,null,null,null,null,null,null,null,null,null,null,null,null,null,null,null,null,null,null,null,null,null,null,null,null,null,null,null,null,null,null,null,null,null,null,null,null,null,null,null,null,null,null,null,null,null,null,null,null,null,null,null,null,null,null,null,null,null,null,null,null,null,null,null,"Jméno","Přímení","Ulice","PSČ","Obec",null,null,null,null,null,null,null,null,null,null,null,null,null,null,null,null,"mezera",null,null," "]
[null,1,null,null,null,{"$f":"CONCATENATE(BW2,BV2)","v":"00"},null,null,null,null,null,null,null,null,null,null,null,null,null,null,null,null,null,null,null,null,null,null,null,null,null,null,null,null,null,null,null,null,null,null,null,null,null,null,null,null,null,null,null,null,null,null,null,null,null,null,null,null,null,null,null,null,null,null,null,null,null,null,null,null,null,null,1,{"$f":"Vstupy!AF9","v":0},{"$f":"Vstupy!AI10","v":0},{"$f":"Vstupy!AI25","v":0},{"$f":"Vstupy!AV25","v":0},{"$f":"Vstupy!BB25","v":0},null,null,null,null,null,null,null,null,null,null,null,null,null,null,null,null,"lomítko"]
[null,2,null,null,null,{"$f":"CONCATENATE(BW3, BV3)","v":"00"},null,null,null,null,null,null,null,null,null,null,null,null,null,null,null,null,null,null,null,null,null,null,null,null,null,null,null,null,null,null,null,null,null,null,null,null,null,null,null,null,null,null,null,null,null,null,null,null,null,null,null,null,null,null,null,null,null,null,null,null,null,null,null,null,null,null,2,{"$f":"Vstupy!AQ9","v":0},{"$f":"Vstupy!AT10","v":0},{"$f":"Vstupy!AI25","v":0},{"$f":"Vstupy!AV25","v":0},{"$f":"Vstupy!BB25","v":0},null,null,null,null,null,null,null,null,null,null,null,null,null,null,null,null,"pomlčka",null,null,"-",null,null,null,{"$f":"CX4","v":0}]
[null,null,null,null,null,null,null,null,null,null,null,null,null,null,null,null,null,null,null,null,null,null,null,null,null,null,null,null,null,null,null,null,null,null,null,null,null,null,null,null,null,null,null,null,null,null,null,null,null,null,null,null,null,null,null,null,null,null,null,null,null,null,null,null,null,null,null,null,null,null,null,null,null,{"$f":"VLOOKUP($B$9,$BU$2:$BZ$3,2)","v":0},null,null,null,null,null,null,{"$f":"VLOOKUP($B$9,$BU$2:$BZ$3,3)","v":0},null,null,null,null,null,null,null,null,{"$f":"VLOOKUP($B$9,$BU$2:$BZ$3,4)","v":0},null,null,null,null,null,null,null,null,null,null,null,{"$f":"VLOOKUP($B$9,$BU$2:$BZ$3,5)","v":0},null,null,null,{"$f":"VLOOKUP($B$9,$BU$2:$BZ$3,6)","v":0}]
[null,null,null,null,null,null,null,null,null,null,null,null,null,null,null,null,null,null,null,null,null,null,null,null,null,null,null,null,null,null,null,null,null,null,null,null,null,null,null,null,null,null,null,null,null,null,null,null,null,null,null,null,null,null,null,null,null,null,null,null,null,null,null,null,null,null,null,null,null,null,null,null,null,{"$f":"VLOOKUP($F$9,$BH$8:$BP$89,2)","v":"Wüstenrot pojišťovna a.s."},null,null,null,null,null,null,{"$f":"VLOOKUP($F$9,$BH$8:$BP$89,3)","v":0},null,null,null,{"$f":"VLOOKUP($F$9,$BH$8:$BP$89,4)","v":"0222333222"},null,null,null,null,null,null,null,{"$f":"VLOOKUP($F$9,$BH$8:$BP$89,5)","v":"7980"},null,null,null,null,null,null,null,{"$f":"VLOOKUP($F$9,$BH$8:$BP$89,6)","v":"3558"},null,null,null,null,null,null,null,{"$f":"VLOOKUP($F$9,$BH$8:$BP$89,8)","v":"Praha 4"},{"$f":"VLOOKUP($F$9,$BH$8:$BP$89,7)","v":"Na Hřebenech II 1718/8"},{"$f":"VLOOKUP($F$9,$BH$8:$BP$89,9)","v":14023}]
[null,null,null,null,null,null,null,null,null,null,null,null,null,null,null,null,null,null,null,null,null,null,null,null,null,null,null,null,null,null,null,null,null,null,null,null,null,null,null,null,null,null,null,null,null,null,null,null,null,null,null,null,null,null,null,null,null,null,null,null,null,null,null,null,null,null,null,null,null,null,null,null,null,null,null,null,null,null,null,null,{"$f":"CONCATENATE(CC5,CT3,CG5)","v":"0-0222333222"}]
[null,null,null,null,null,null,null,null,null,null,null,null,null,null,null,null,null,null,null,null,null,null,null,null,null,null,null,null,null,null,null,null,null,null,null,null,null,null,null,null,null,null,null,null,null,null,null,null,null,null,null,null,null,null,null,null,null,null,null,null,null,null,null,null,null,null,null,null,null,null,null,null,null,null,null,null,null,null,"="]
[null,"číslo klienta",null,null,null,"číslo společnosti",null,null,null,null,null,null,null,"Kč",null,null,null,null,"Variabilní symbol",null,null,null,null,null,null,"Specifický symbol",null,null,null,null,null,null,null,null,null,null,null,null,null,null,null,null,null,null,null,null,null,null,null,null,null,null,null,null,null,null,null,null,null,null,null,null,null,null,null,null,null,null,null,null,null,null,null,{"$f":"LEN(BV9)","v":3},8,{"$f":"BW8-BV8","v":5},{"$f":"REPT(\"=\",BX8)","v":"====="},null,null,null,{"$f":"LEN(CC5)","v":1},6,{"$f":"CD8-CC8","v":5},{"$f":"REPT(\"a\",CE8)","v":"aaaaa"},null,null,null,{"$f":"LEN(CG5)","v":10},10,{"$f":"CK8-CJ8","v":0},{"$f":"REPT(\"a\",CL8)","v":""},null,null,null,null,null,{"$f":"REPT(0,CL8)","v":""},null,null,null,null,null,{"$f":"REPT(0,CE8)","v":"00000"}]
[null,1,null,null,null,17,null,null,null,null,null,null,null,114,null,null,null,null,"1111111",null,null,null,null,null,null,null,null,null,null,null,null,null,null,null,null,null,null,null,null,null,null,null,null,null,null,null,null,null,null,null,null,null,null,null,null,null,null,null,null,null,null,null,null,null,null,null,null,null,null,null,null,null,null,{"$f":"ROUND(N9,0)","v":114},null,null,{"$f":"CONCATENATE(BY8,BV9)","v":"=====114"},null,null,null,null,null,null,{"$f":"CONCATENATE(CF8,CC5)","v":"aaaaa0"},null,null,null,null,null,null,{"$f":"CONCATENATE(CM8,CG5)","v":"0222333222"},null,null,null,null,null,{"$f":"CONCATENATE(CS8,CG5)","v":"0222333222"},null,null,null,null,null,{"$f":"CONCATENATE(CY8,CC5)","v":"000000"}]
[null,null,null,null,null,"Částka slovy",null,null,null,null,null,null,null,{"$f":"slovy(N9)","v":"jednostoètrnáct"},null,null,null,null,null,null,null,null,null,null,null,null,null,null,null,null,null,null,null,null,null,null,null,null,null,null,null,null,null,null,null,null,null,null,null,null,null,null,null,null,null,null,null,null,null,null,null,null,null,null,null,null,null,null,null,null,null,null,null,null,null,null,{"$f":"CONCATENATE(CA7,BV9,CA7)","v":"=114="},null,null,null,null,{"$f":"$N$10","v":"jednostoètrnáct"},null,null,null,null,null,null,null,null,null,null,null,"korun"]
[null,null,null,null,null,"Účel platby",null,null,null,null,null,null,null,"Platba pojistného",null,null,null,null,null,null,null,null,null,null,null,null,null,null,null,null,null,null,null,null,null,null,null,null,null,null,null,null,null,null,null,null,null,null,null,null,null,null,null,null,null,null,null,null,null,"Číslo společnosti","Společnost","Předčíslí účtu","Číslo účtu","Kód banky","Konst. S.","Ulice, č.p.","Město","PSČ"]
[]
[]
[null,null,null,null,null,null,null,null,null,null,null,null,null,null,null,null,null,null,null,null,null,null,null,null,null,null,{"$f":"MID($BY$9,1,1)","v":"="},{"$f":"MID($BY$9,2,1)","v":"="},null,{"$f":"MID($BY$9,3,1)","v":"="},null,{"$f":"MID($BY$9,4,1)","v":"="},null,{"$f":"MID($BY$9,5,1)","v":"="},null,{"$f":"MID($BY$9,6,1)","v":"1"},null,{"$f":"MID($BY$9,7,1)","v":"1"},null,{"$f":"MID($BY$9,8,1)","v":"4"},null,0,null,0,null,null,null,null,null,null,null,null,null,null,null,null,null,null,null,1,"Allianz pojišťovna a.s.","20001","38138021","0100","3558","Ke Štvanici 656/3","Praha 8",18600,null,null,null,null,null,{"$f":"LEN(BV9)","v":3},{"$f":"MID($BV$9,$BV$14-5,1)","v":{"$error":"#VALUE!"}},{"$f":"MID($BV$9,$BV$14-4,1)","v":{"$error":"#VALUE!"}},{"$f":"MID($BV$9,$BV$14-3,1)","v":{"$error":"#VALUE!"}},{"$f":"MID($BV$9,$BV$14-2,1)","v":"1"},{"$f":"MID($BV$9,$BV$14-1,1)","v":"1"},{"$f":"MID($BV$9,$BV$14,1)","v":"4"}]
[]
[]
[null,null,null,null,null,null,null,null,null,null,null,null,null,null,null,null,null,null,null,null,null,null,null,null,null,null,null,null,null,null,null,null,null,null,null,null,null,null,null,null,null,null,null,null,null,null,null,null,null,null,null,null,null,null,null,null,null,null,null,2,"Allianz pojišťovna a.s.",null,"2700","2700","3558","Ke Štvanici 656/3","Praha 8",18600]
[]
[null,null,null,null,null,null,null,null,null,null,null,null,null,null,null,null,null,null,null,null,null,null,null,null,null,null,{"$f":"MID(CY9,1,1)","v":"0"},{"$f":"MID($CY$9,2,1)","v":"0"},null,{"$f":"MID($CY$9,3,1)","v":"0"},null,{"$f":"MID($CY$9,4,1)","v":"0"},null,{"$f":"MID($CY$9,5,1)","v":"0"},null,{"$f":"MID($CY$9,6,1)","v":"0"},null,{"$f":"MID($CS$9,1,1)","v":"0"},null,{"$f":"MID($CS$9,2,1)","v":"2"},null,{"$f":"MID($CS$9,3,1)","v":"2"},null,{"$f":"MID($CS$9,4,1)","v":"2"},null,{"$f":"MID($CS$9,5,1)","v":"3"},null,{"$f":"MID($CS$9,6,1)","v":"3"},null,{"$f":"MID($CS$9,7,1)","v":"3"},null,{"$f":"MID($CS$9,8,1)","v":"2"},null,{"$f":"MID($CS$9,9,1)","v":"2"},null,{"$f":"MID($CS$9,10,1)","v":"2"},null,null,null,null,null,null,null,null,null,null,null,null,null,null,null,null,null,6,null,{"$error":"#VALUE!"}]
[null,null,null,null,null,null,null,null,null,null,null,null,null,null,null,null,null,null,null,null,null,null,null,null,null,null,null,null,null,null,null,null,null,null,null,null,null,null,null,null,null,null,null,null,null,null,null,null,null,null,null,null,null,null,null,null,null,null,null,3,"Amcico pojišťovna",null,"2004530606","2600","3559","V Celnici 1028/10","Praha 1",11721]
[]
[]
[null,null,null,null,null,null,null,null,null,null,null,null,null,null,null,null,null,null,null,null,null,null,null,null,null,null,null,null,null,null,null,null,null,null,null,null,null,null,null,null,null,null,null,null,null,null,null,null,null,null,null,null,null,null,null,null,null,null,null,4,"Česká pojišťovna a.s.",null,"246000","5500","3559","Spálená 75/16","Praha 1",11304]
[null,null,null,null,null,null,null,null,null,null,null,null,null,null,null,null,null,null,null,null,null,null,null,null,null,null,{"$f":"MID($CO$5,1,1)","v":"7"},{"$f":"MID($CO$5,2,1)","v":"9"},null,{"$f":"MID($CO$5,3,1)","v":"8"},null,{"$f":"MID($CO$5,4,1)","v":"0"},null,null,null,null,null,{"$f":"MID($S$9,1,1)","v":"1"},null,{"$f":"MID($S$9,2,1)","v":"1"},null,{"$f":"MID($S$9,3,1)","v":"1"},null,{"$f":"MID($S$9,4,1)","v":"1"},null,{"$f":"MID($S$9,5,1)","v":"1"},null,{"$f":"MID($S$9,6,1)","v":"1"},null,{"$f":"MID($S$9,7,1)","v":"1"},null,{"$f":"MID($S$9,8,1)","v":""},null,{"$f":"MID($S$9,9,1)","v":""},null,{"$f":"MID($S$9,10,1)","v":""},null,null,null,null,null,null,null,null,null,null,null,null,null,null,null,null,null,6]
[]
[null,{"$f":"N11","v":"Platba pojistného"},null,null,null,null,null,null,null,null,null,null,null,null,null,null,null,null,null,null,null,null,null,null,null,null,null,null,null,null,null,null,null,null,null,null,null,null,null,null,null,null,null,null,null,null,null,null,null,null,null,null,null,null,null,null,null,null,null,5,"Českomoravská SS, a.s.",null,null,"7960","3559","Vinohradská 3218/169","Praha 10",10017]
[]
[]
[null,null,null,null,null,null,null,null,null,null,null,null,null,null,null,null,null,null,null,null,null,null,null,null,null,null,{"$f":"MID($CW$5,1,1)","v":"3"},{"$f":"MID($CW$5,2,1)","v":"5"},null,{"$f":"MID($CW$5,3,1)","v":"5"},null,{"$f":"MID($CW$5,4,1)","v":"8"},null,null,null,null,null,{"$f":"MID($Z$9,1,1)","v":""},null,{"$f":"MID($Z$9,2,1)","v":""},null,{"$f":"MID($Z$9,3,1)","v":""},null,{"$f":"MID($Z$9,4,1)","v":""},null,{"$f":"MID($Z$9,5,1)","v":""},null,{"$f":"MID($Z$9,6,1)","v":""},null,{"$f":"MID($Z$9,7,1)","v":""},null,{"$f":"MID($Z$9,8,1)","v":""},null,{"$f":"MID($Z$9,9,1)","v":""},null,{"$f":"MID($Z$9,10,1)","v":""},null,null,null,6,"ČSOB Penzijní fond",null,"212311003","2700","3559","Radlická 333/150","Praha 5",15057,null,null,null,null,null,6]
[null,{"$f":"BY10","v":"=114="},null,null,null,null,null,null,null,null,null,"00",null,null,null,{"$f":"BV5","v":"Wüstenrot pojišťovna a.s."}]
[]
[null,null,null,null,null,null,null,null,null,null,null,null,null,null,null,null,null,null,null,null,null,null,null,null,null,null,null,null,null,null,null,null,null,null,null,null,null,null,null,null,null,null,null,null,null,null,null,null,null,null,null,null,null,null,null,null,null,null,null,7,"ČSOB pojišťovna a.s.",null,"130450683","0300","3559","Masarykovo náměstí 1458","Pardubice",53218]
[]
[null,{"$f":"N10 & IF(RIGHT(N10,5)=\"jedna\",\"koruna\",IF(OR(RIGHT(N10,3)=\"dvě\",RIGHT(N10,3)=\"tři\",RIGHT(N10,5)=\"čtyři\"),\"koruny\",\"korun\"))","v":"jednostoètrnáctkorun"},null,null,null,null,null,null,null,null,null,null,null,null,{"$f":"DF5","v":"Na Hřebenech II 1718/8"}]
[null,null,null,null,null,null,null,null,null,null,null,null,null,null,null,null,null,null,null,null,null,null,null,null,null,null,null,null,null,null,null,null,null,null,null,null,null,null,null,null,null,null,null,null,null,null,null,null,null,null,null,null,null,null,null,null,null,null,null,8,"Deutscher Ring",null,"805982013","2700","3559","Rumunská 22","Praha 2",12000]
[]
[null,null,null,null,null,null,null,null,null,null,null,null,null,null,null,null,null,null,null,null,null,null,null,null,null,null,{"$f":"MID($BV$4,1,1)","v":"0"},{"$f":"MID($BV$4,2,1)","v":""},null,{"$f":"MID($BV$4,3,1)","v":""},null,{"$f":"MID($BV$4,4,1)","v":""},null,{"$f":"MID($BV$4,5,1)","v":""},null,{"$f":"MID($BV$4,6,1)","v":""},null,{"$f":"MID($BV$4,7,1)","v":""},null,{"$f":"MID($BV$4,8,1)","v":""},null,{"$f":"MID($BV$4,9,1)","v":""},null,{"$f":"MID($BV$4,10,1)","v":""},null,{"$f":"MID($BV$4,11,1)","v":""},null,{"$f":"MID($BV$4,12,1)","v":""},null,{"$f":"MID($BV$4,13,1)","v":""},null,{"$f":"MID($BV$4,14,1)","v":""},null,{"$f":"MID($BV$4,15,1)","v":""},null,{"$f":"MID($BV$4,16,1)","v":""},null,null,null,null,null,null,null,null,null,null,null,null,null,null,null,null,null,6]
[null,null,null,null,null,null,null,null,null,null,null,null,null,null,{"$f":"$DG$5","v":14023},null,null,{"$f":"$DE$5","v":"Praha 4"},null,null,null,null,null,null,null,null,null,null,null,null,null,null,null,null,null,null,null,null,null,null,null,null,null,null,null,null,null,null,null,null,null,null,null,null,null,null,null,null,null,9,"Generali penzijní fond",null,"01828555","2700","3559","Bělehradská 132","Praha 2",12084]
[]
[null,{"$f":"BV5","v":"Wüstenrot pojišťovna a.s."}]
[null,null,null,null,null,null,null,null,null,null,null,null,null,null,null,null,null,null,null,null,null,null,null,null,null,null,{"$f":"MID($CC$4,1,1)","v":"0"},{"$f":"MID($CC$4,2,1)","v":""},null,{"$f":"MID($CC$4,3,1)","v":""},null,{"$f":"MID($CC$4,4,1)","v":""},null,{"$f":"MID($CC$4,5,1)","v":""},null,{"$f":"MID($CC$4,6,1)","v":""},null,{"$f":"MID($CC$4,7,1)","v":""},null,{"$f":"MID($CC$4,8,1)","v":""},null,{"$f":"MID($CC$4,9,1)","v":""},null,{"$f":"MID($CC$4,10,1)","v":""},null,{"$f":"MID($CC$4,11,1)","v":""},null,{"$f":"MID($CC$4,12,1)","v":""},null,{"$f":"MID($CC$4,13,1)","v":""},null,{"$f":"MID($CC$4,14,1)","v":""},null,{"$f":"MID($CC$4,15,1)","v":""},null,{"$f":"MID($CC$4,16,1)","v":""},null,null,null,10,"Generali pojišťovna a.s.","19","2782180227","0100","3559","Bělehradská 132","Praha 2",12084,null,null,null,null,null,6]
[]
[]
[null,{"$f":"$DF$5","v":"Na Hřebenech II 1718/8"},null,null,null,null,null,null,null,null,null,null,null,null,null,null,null,null,null,null,null,null,null,null,null,null,null,null,null,null,null,null,null,null,null,null,null,null,null,null,null,null,null,null,null,null,null,null,null,null,null,null,null,null,null,null,null,null,null,11,"Generali pojišťovna a.s.",null,"4000006021","0100","3559","Bělehradská 132","Praha 2",12084]
[null,null,null,null,null,null,null,null,null,null,null,null,null,null,null,null,null,null,null,null,null,null,null,null,null,null,{"$f":"MID($CL$4,1,1)","v":"0"},{"$f":"MID($CL$4,2,1)","v":""},null,{"$f":"MID($CL$4,3,1)","v":""},null,{"$f":"MID($CL$4,4,1)","v":""},null,{"$f":"MID($CL$4,5,1)","v":""},null,{"$f":"MID($CL$4,6,1)","v":""},null,{"$f":"MID($CL$4,7,1)","v":""},null,{"$f":"MID($CL$4,8,1)","v":""},null,{"$f":"MID($CL$4,9,1)","v":""},null,{"$f":"MID($CL$4,10,1)","v":""},null,{"$f":"MID($CL$4,11,1)","v":""},null,{"$f":"MID($CL$4,12,1)","v":""},null,{"$f":"MID($CL$4,13,1)","v":""},null,{"$f":"MID($CL$4,14,1)","v":""},null,{"$f":"MID($CL$4,15,1)","v":""},null,{"$f":"MID($CL$4,16,1)","v":""},null,null,null,null,null,null,null,null,null,null,null,null,null,null,null,null,null,6]
[]
[null,{"$f":"DG5","v":14023},null,null,{"$f":"DE5","v":"Praha 4"},null,null,null,null,null,null,null,null,null,null,null,null,null,null,null,null,null,null,null,null,null,null,null,null,null,null,null,null,null,null,null,null,null,null,null,null,null,null,null,null,null,null,null,null,null,null,null,null,null,null,null,null,null,null,12,"ING Životní pojišťovna",null,"1010101010","3500","3559","Nádražní 344/25","Praha 5",15000]
[]
[null,null,null,null,null,null,null,null,null,null,null,null,null,null,null,null,null,null,null,null,null,null,null,null,null,null,{"$f":"MID($DB$4,1,1)","v":"0"},{"$f":"MID($DB$4,2,1)","v":""},null,{"$f":"MID($DB$4,3,1)","v":""},null,{"$f":"MID($DB$4,4,1)","v":""},null,{"$f":"MID($DB$4,5,1)","v":""},null,{"$f":"MID($DB$4,6,1)","v":""},null,{"$f":"MID($DB$4,7,1)","v":""},null,{"$f":"MID($DB$4,8,1)","v":""},null,{"$f":"MID($DB$4,9,1)","v":""},null,{"$f":"MID($DB$4,10,1)","v":""},null,{"$f":"MID($DB$4,11,1)","v":""},null,{"$f":"MID($DB$4,12,1)","v":""},null,{"$f":"MID($DB$4,13,1)","v":""},null,{"$f":"MID($DB$4,14,1)","v":""},null,{"$f":"MID($DB$4,15,1)","v":""},null,{"$f":"MID($DB$4,16,1)","v":""},null,null,null,null,null,null,null,null,null,null,null,null,null,null,null,null,null,6]
[null,{"$f":"$CC$6","v":"0-0222333222"},null,null,null,null,null,null,null," / ",{"$f":"$CO$5","v":"7980"},null,null,null,null,null,null,null,null,null,null,null,null,null,null,null,null,null,null,null,null,null,null,null,null,null,null,null,null,null,null,null,null,null,null,null,null,null,null,null,null,null,null,null,null,null,null,null,null,13,"Kooperativa pojišťovna a.s.",null,"32121202","0800","3559","Templová 747","Praha 1",11001]
[]
[]
[null,null,null,{"$f":"S9","v":"1111111"},null,null,null,null,null,null,null,null,null,null,null,null,null,null,null,null,null,null,null,null,null,null,{"$f":"MID($CX$4,1,1)","v":"0"},{"$f":"MID($CX$4,2,1)","v":""},null,{"$f":"MID($CX$4,3,1)","v":""},null,{"$f":"MID($CX$4,4,1)","v":""},null,{"$f":"MID($CX$4,5,1)","v":""},null,{"$f":"MID($CX$4,6,1)","v":""},null,{"$f":"MID($CX$4,7,1)","v":""},null,{"$f":"MID($CX$4,8,1)","v":""},null,{"$f":"MID($CX$4,9,1)","v":""},null,{"$f":"MID($CX$4,10,1)","v":""},null,{"$f":"MID($CX$4,11,1)","v":""},null,{"$f":"MID($CX$4,12,1)","v":""},null,{"$f":"MID($CX$4,13,1)","v":""},null,{"$f":"MID($CX$4,14,1)","v":""},null,{"$f":"MID($CX$4,15,1)","v":""},null,{"$f":"MID($CX$4,16,1)","v":""},null,null,null,14,"PF České pojišťovny",null,"7142110004","2700","3559","Truhlářská 1106/9","Praha 1",11000,null,null,null,null,null,6]
[]
[]
[null,null,null,{"$f":"H48","v":0},null,null,null,null,null,null,null,null,null,null,null,null,null,null,null,null,null,null,null,null,null,null,null,null,null,null,null,null,null,null,null,null,null,null,null,null,null,null,null,null,null,null,null,null,null,null,null,null,null,null,null,null,null,null,null,15,"UNIQA pojišťovna a.s.",null,"1071001005","5500","3559","Evropská 136","Praha 6",16012]
[]
[null,null,{"$f":"CONCATENATE($BV$4,$CT$1,$CC$4)","v":"0 0"}]
[null,null,null,null,null,null,null,null,null,null,null,null,null,null,null,null,null,null,null,null,null,null,null,null,null,null,null,null,null,null,null,null,null,null,null,null,null,null,null,null,null,null,null,null,null,null,null,null,null,null,null,null,null,null,null,null,null,null,null,16,"Wüstenrot pojišťovna a.s.",null,"0222333222","7980","3558","náměstí Kinských 602/2","Praha 5",15000]
[]
[]
[null,{"$f":"CL4","v":0},null,null,null,null,null,null,null,null,null,null,null,null,null,null,null,null,null,null,null,null,null,null,null,null,null,null,null,null,null,null,null,null,null,null,null,null,null,null,null,null,null,null,null,null,null,null,null,null,null,null,null,null,null,null,null,null,null,17,"Wüstenrot pojišťovna a.s.",null,"0222333222","7980","3558","Na Hřebenech II 1718/8","Praha 4",14023]
[]
[]
[null,null,null,null,null,null,null,null,null,null,null,null,null,null,null,null,null,null,null,null,null,null,null,null,null,null,null,null,null,null,null,null,null,null,null,null,null,null,null,null,null,null,null,null,null,null,null,null,null,null,null,null,null,null,null,null,null,null,null,18,"Wüstenrot stavební spořitelna",null,null,"7970","3559","Na Hřebenech II 1718/8","Praha 4",14023]
[null,{"$f":"CX4","v":0},null,null,{"$f":"DB4","v":0}]
[]
[null,null,null,null,null,null,null,null,null,null,null,null,null,null,null,null,null,null,null,null,null,null,null,null,null,null,null,null,null,null,null,null,null,null,null,null,null,null,null,null,null,null,null,null,null,null,null,null,null,null,null,null,null,null,null,null,null,null,null,19]
[]
[]
[null,null,null,null,null,null,null,null,null,null,null,null,null,null,null,null,null,null,null,null,null,null,null,null,null,null,null,null,null,null,null,null,null,null,null,null,null,null,null,null,null,null,null,null,null,null,null,null,null,null,null,null,null,null,null,null,null,null,null,20]
[]
[]
[null,null,null,null,null,null,null,null,null,null,null,null,null,null,null,null,null,null,null,null,null,null,null,null,null,null,null,null,null,null,null,null,null,null,null,null,null,null,null,null,null,null,null,null,null,null,null,null,null,null,null,null,null,null,null,null,null,null,null,21]
[]
[]
[null,null,null,null,null,null,null,null,null,null,null,null,null,null,null,null,null,null,null,null,null,null,null,null,null,null,null,null,null,null,null,null,null,null,null,null,null,null,null,null,null,null,null,null,null,null,null,null,null,null,null,null,null,null,null,null,null,null,null,22]
[]
[]
[null,null,null,null,null,null,null,null,null,null,null,null,null,null,null,null,null,null,null,null,null,null,null,null,null,null,null,null,null,null,null,null,null,null,null,null,null,null,null,null,null,null,null,null,null,null,null,null,null,null,null,null,null,null,null,null,null,null,null,23]
[]
[]
[null,null,null,null,null,null,null,null,null,null,null,null,null,null,null,null,null,null,null,null,null,null,null,null,null,null,null,null,null,null,null,null,null,null,null,null,null,null,null,null,null,null,null,null,null,null,null,null,null,null,null,null,null,null,null,null,null,null,null,24]
[]
[]
[null,null,null,null,null,null,null,null,null,null,null,null,null,null,null,null,null,null,null,null,null,null,null,null,null,null,null,null,null,null,null,null,null,null,null,null,null,null,null,null,null,null,null,null,null,null,null,null,null,null,null,null,null,null,null,null,null,null,null,25]
[]
[]
[null,null,null,null,null,null,null,null,null,null,null,null,null,null,null,null,null,null,null,null,null,null,null,null,null,null,null,null,null,null,null,null,null,null,null,null,null,null,null,null,null,null,null,null,null,null,null,null,null,null,null,null,null,null,null,null,null,null,null,26]
[]
[]
[null,null,null,null,null,null,null,null,null,null,null,null,null,null,null,null,null,null,null,null,null,null,null,null,null,null,null,null,null,null,null,null,null,null,null,null,null,null,null,null,null,null,null,null,null,null,null,null,null,null,null,null,null,null,null,null,null,null,null,27]
[]
[]
[null,null,null,null,null,null,null,null,null,null,null,null,null,null,null,null,null,null,null,null,null,null,null,null,null,null,null,null,null,null,null,null,null,null,null,null,null,null,null,null,null,null,null,null,null,null,null,null,null,null,null,null,null,null,null,null,null,null,null,28]
[]
[]
[null,null,null,null,null,null,null,null,null,null,null,null,null,null,null,null,null,null,null,null,null,null,null,null,null,null,null,null,null,null,null,null,null,null,null,null,null,null,null,null,null,null,null,null,null,null,null,null,null,null,null,null,null,null,null,null,null,null,null,29]
[]
[]
[null,null,null,null,null,null,null,null,null,null,null,null,null,null,null,null,null,null,null,null,null,null,null,null,null,null,null,null,null,null,null,null,null,null,null,null,null,null,null,null,null,null,null,null,null,null,null,null,null,null,null,null,null,null,null,null,null,null,null,30]
[]
[]
[null,null,null,null,null,null,null,null,null,null,null,null,null,null,null,null,null,null,null,null,null,null,null,null,null,null,null,null,null,null,null,null,null,null,null,null,null,null,null,null,null,null,null,null,null,null,null,null,null,null,null,null,null,null,null,null,null,null,null,31]
[]
[]
[null,null,null,null,null,null,null,null,null,null,null,null,null,null,null,null,null,null,null,null,null,null,null,null,null,null,null,null,null,null,null,null,null,null,null,null,null,null,null,null,null,null,null,null,null,null,null,null,null,null,null,null,null,null,null,null,null,null,null,32]
[]
[]
[null,null,null,null,null,null,null,null,null,null,null,null,null,null,null,null,null,null,null,null,null,null,null,null,null,null,null,null,null,null,null,null,null,null,null,null,null,null,null,null,null,null,null,null,null,null,null,null,null,null,null,null,null,null,null,null,null,null,null,33]
[]
[]
[null,null,null,null,null,null,null,null,null,null,null,null,null,null,null,null,null,null,null,null,null,null,null,null,null,null,null,null,null,null,null,null,null,null,null,null,null,null,null,null,null,null,null,null,null,null,null,null,null,null,null,null,null,null,null,null,null,null,null,34]
[]
[]
[null,null,null,null,null,null,null,null,null,null,null,null,null,null,null,null,null,null,null,null,null,null,null,null,null,null,null,null,null,null,null,null,null,null,null,null,null,null,null,null,null,null,null,null,null,null,null,null,null,null,null,null,null,null,null,null,null,null,null,35]

{"sheet":"zmeny","index":1,"n_rows":8,"n_cols":2,"rows_kept":8,"cut":false,"hidden":false,"merged":[]}
["změny"]
[1.1000000000000001,"na úvodní stránce odstraněno \"číslo VZ\" - VZ totiž používají IČ"]
[1.1000000000000001,"přihodit PAL AVIVA"]
[1.1000000000000001,"protokol zjištění potřeb a investiční dotazník - vyhozeno"]
[1.1000000000000001,"souhlas se zpracovanim osobnich udaju - vyhozeno"]
[1.1000000000000001,"vložen list smluvni dokumentace"]
[1.2,"vlozen opraveny formular pro zprostredkovani"]
[2,"opraven problem s aktualizaci"]

{"sheet":"Oblasti","index":2,"n_rows":18,"n_cols":13,"rows_kept":18,"cut":false,"hidden":false,"merged":[[19,13,19,15],[9,13,9,15],[6,8,6,9],[17,13,17,15],[15,13,15,15],[14,13,14,15],[8,13,8,15],[10,13,10,15],[13,13,13,15],[12,13,12,15],[11,13,11,15],[16,13,16,15]]}
[]
[]
[]
[]
[]
[null,null,null,"Finanční plán"]
[null,null,null,{"$f":"\"Verze \" & Verze!B5 & \".\" & Verze!D5","v":"Verze 2.3"}]
[null,null,null,"Chcete-li se blíže seznámit s tím, jak efektivně využívat tento nástroj, můžete shlédnout"]
[null,null,null,null,null,null,null,null,null,null,null,null,"Jméno, příjmení, titul: "]
[null,null,null,null,null,null,null,null,null,null,null,null,"Osobní číslo:"]
[null,null,null,null,null,null,null,null,null,null,null,null,"Pozice v rámci: "]
[null,null,null,null,null,null,null,null,null,null,null,null,"Telefon: "]
[null,null,null,null,null,null,null,null,null,null,null,null,"Mail: "]
[null,null,null,null,null,null,null,null,null,null,null,null,"Ulice, číslo: "]
[null,null,null,null,null,null,null,null,null,null,null,null,"PSČ, obec: "]
[null,null,null,null,null,null,null,null,null,null,null,null,"WWW: "]
[null,null,null,null,null,null,null,null,null,null,null,null,"Reg. č. PPZ: "]
[null,null,null,null,null,null,null,null,null,null,null,null,"IČ: "]

{"sheet":"Verze","index":3,"n_rows":15,"n_cols":12,"rows_kept":15,"cut":false,"hidden":false,"merged":[]}
[]
[null,null,null,null,null,null,null,"K dispozici je novější verze, přejete si ji stáhnout?"]
[]
[]
["verze",2,"podverze",3,{"$f":"B5+D5/IF(LEN(D5)=1,10,100)","v":2.2999999999999998},{"$f":"J9+K9/IF(LEN(D5)=1,10,100)","v":2.2999999999999998},null,{"$f":"\"Tato verze: \" & B5 & \".\" & D5","v":"Tato verze: 2.3"}]
[null,null,null,null,null,null,null,{"$f":"\"Aktuální verze: \" & J9 & \".\" & K9","v":"Aktuální verze: 2.3"}]
[]
[null,null,null,null,null,null,null,"Verze","Změny"]
[null,null,null,null,null,null,null,"Verze","aktuální verze / podverze",2,3,"https://www.ovbportal.cz/cz.portal.web.staging/GetFile.aspx?id=180913"]
[null,null,null,null,null,null,null,"1,10","Protokol zjištění potřeb, investiční dotazník a souhlas se zpracováním osobních údajů byl nahrazen novou smluvní dokumentací"]
[null,null,null,null,null,null,null,"1,20","Vložen opravený Formulář pro zprostředkování"]
[null,null,null,null,null,null,null,"2,00","Opraven problém s aktualizací"]
[null,null,null,null,null,null,null,"2,10","Nová verze formuláře pro zprostředkování, aktualizovány výpočty MPSV pro rok 2012"]
[null,null,null,null,null,null,null,"2,20","Opravena chyba načítání uloženého finančního plánu"]
[null,null,null,null,null,null,null,"2,30","Oprava drobných chyb "]

{"sheet":"Vstupy","index":4,"n_rows":294,"n_cols":110,"rows_kept":294,"cut":false,"hidden":false,"merged":[[144,32,144,35],[122,50,122,53],[123,50,123,53],[124,50,124,53],[125,50,125,53],[129,48,129,49],[128,50,128,53],[126,50,126,53],[130,48,130,49],[144,50,144,53],[140,48,140,49],[141,48,141,49],[142,48,142,49],[138,36,138,47],[139,36,139,47],[140,36,140,47],[141,36,141,47],[142,36,142,47],[143,50,143,53],[126,48,126,49],[143,32,143,35],[141,50,141,53],[142,50,142,53],[137,50,137,53],[139,48,139,49],[139,50,139,53],[129,50,129,53],[99,48,99,49],[119,50,119,53],[117,50,117,53],[105,50,105,53],[116,50,116,53],[138,32,138,35],[137,30,137,31],[142,26,142,29],[139,32,139,35],[138,18,138,25],[98,36,98,47],[99,36,99,47],[141,26,141,29],[137,32,137,35],[141,30,141,31],[142,30,142,31],[140,32,140,35],[120,26,120,29],[120,30,120,31],[123,32,123,35],[116,38,116,41],[136,18,136,25],[135,18,135,25],[129,36,129,47],[133,26,133,29],[135,32,135,35],[193,77,193,78],[192,59,192,63],[127,18,127,25],[126,18,126,25],[125,18,125,25],[124,18,124,25],[123,18,123,25],[122,18,122,25],[121,18,121,25],[193,66,193,67],[192,70,192,74],[153,32,153,33],[140,30,140,31],[148,42,148,45],[148,46,148,85],[148,32,148,33],[148,34,148,37],[148,38,148,41],[126,32,126,35],[131,48,131,49],[134,48,134,49],[134,50,134,53],[132,50,132,53],[139,18,139,25],[185,66,185,71],[185,72,185,74],[193,70,193,74],[185,50,185,52],[186,50,186,52],[183,37,183,41],[185,83,185,85],[156,32,156,33],[125,30,125,31],[149,54,149,57],[149,58,149,61],[153,38,153,41],[174,64,174,74],[159,55,159,58],[158,18,158,31],[159,18,159,31],[174,53,174,63],[175,53,175,63],[141,54,141,85],[154,71,154,74],[151,82,151,85],[149,30,149,33],[149,34,149,37],[149,38,149,41],[194,37,194,41],[194,42,194,46],[194,48,194,52],[174,18,174,23],[186,18,186,30],[185,18,185,30],[184,18,184,30],[183,18,183,30],[193,37,193,41],[186,33,186,38],[192,35,192,37],[192,46,192,48],[193,42,193,46],[193,48,193,52],[186,39,186,41],[193,31,193,35],[194,31,194,35],[188,31,188,35],[188,37,188,41],[188,42,188,46],[188,48,188,52],[151,74,151,77],[151,78,151,81],[91,30,91,31],[92,30,92,31],[138,54,138,85],[137,54,137,85],[136,54,136,85],[135,54,135,85],[133,50,133,53],[136,50,136,53],[136,30,136,31],[135,30,135,31],[112,30,112,31],[113,30,113,31],[134,30,134,31],[105,32,105,35],[96,54,96,85],[102,34,102,37],[102,38,102,41],[124,48,124,49],[149,74,149,77],[149,78,149,81],[149,82,149,85],[127,50,127,53],[95,48,95,49],[94,48,94,49],[97,30,97,31],[131,50,131,53],[130,50,130,53],[123,30,123,31],[124,30,124,31],[99,50,99,53],[125,48,125,49],[95,30,95,31],[96,30,96,31],[96,50,96,53],[119,32,119,35],[122,48,122,49],[96,48,96,49],[97,48,97,49],[98,48,98,49],[100,42,100,45],[101,34,101,37],[98,50,98,53],[131,7,131,10],[87,36,87,39],[87,7,87,10],[87,30,87,31],[107,30,107,31],[104,38,104,41],[104,42,104,45],[103,34,103,37],[103,38,103,41],[103,42,103,45],[104,34,104,37],[129,18,129,25],[127,7,127,10],[128,7,128,10],[118,7,118,10],[129,7,129,10],[130,7,130,10],[122,7,122,10],[123,7,123,10],[124,7,124,10],[125,7,125,10],[126,7,126,10],[119,7,119,10],[121,7,121,10],[140,54,140,85],[139,54,139,85],[138,50,138,53],[135,36,135,47],[136,36,136,47],[137,36,137,47],[135,50,135,53],[125,26,125,29],[126,26,126,29],[127,26,127,29],[128,26,128,29],[138,30,138,31],[139,30,139,31],[140,50,140,53],[127,30,127,31],[128,30,128,31],[129,30,129,31],[130,30,130,31],[131,30,131,31],[139,26,139,29],[140,26,140,29],[136,26,136,29],[137,26,137,29],[138,26,138,29],[156,80,156,85],[153,80,153,85],[155,80,155,85],[154,62,154,65],[154,66,154,69],[154,53,154,56],[154,57,154,60],[154,75,154,78],[155,53,155,56],[155,57,155,60],[155,62,155,65],[155,71,155,74],[155,75,155,78],[156,71,156,74],[156,75,156,78],[153,71,153,78],[154,80,154,85],[153,62,153,69],[150,74,150,77],[150,78,150,81],[150,82,150,85],[146,7,146,10],[150,62,150,65],[150,66,150,69],[150,70,150,73],[147,7,147,10],[146,32,146,35],[151,66,151,69],[100,38,100,41],[154,38,154,41],[154,32,154,33],[147,32,147,35],[151,58,151,61],[150,26,150,29],[150,30,150,33],[150,34,150,37],[150,38,150,41],[150,42,150,45],[150,46,150,49],[150,50,150,53],[150,54,150,57],[150,58,150,61],[149,26,149,29],[147,26,147,29],[151,30,151,33],[151,34,151,37],[149,42,149,45],[151,38,151,41],[151,42,151,45],[151,46,151,49],[149,46,149,49],[151,26,151,29],[84,7,84,10],[88,32,88,35],[89,32,89,35],[89,36,89,39],[89,7,89,10],[90,32,90,35],[90,36,90,39],[90,7,90,10],[85,7,85,10],[86,36,86,39],[88,36,88,39],[88,7,88,10],[86,7,86,10],[89,30,89,31],[90,30,90,31],[87,18,87,29],[93,7,93,10],[100,34,100,37],[88,30,88,31],[135,7,135,10],[137,18,137,25],[128,18,128,25],[95,18,95,29],[145,7,145,10],[144,7,144,10],[139,7,139,10],[140,7,140,10],[141,7,141,10],[142,7,142,10],[132,7,132,10],[133,7,133,10],[138,7,138,10],[143,7,143,10],[136,7,136,10],[137,7,137,10],[91,32,91,35],[98,30,98,31],[126,30,126,31],[113,32,113,35],[111,18,111,29],[112,18,112,29],[106,32,106,35],[108,18,108,29],[118,38,118,41],[124,32,124,35],[122,26,122,29],[123,26,123,29],[124,26,124,29],[124,36,124,47],[125,36,125,47],[126,36,126,47],[122,30,122,31],[125,32,125,35],[96,36,96,47],[99,30,99,31],[107,18,107,29],[93,36,93,39],[121,32,121,35],[121,30,121,31],[91,7,91,10],[92,32,92,35],[92,36,92,39],[92,7,92,10],[93,32,93,35],[94,32,94,35],[96,7,96,10],[95,7,95,10],[157,38,157,41],[129,26,129,29],[130,26,130,29],[131,26,131,29],[134,26,134,29],[135,26,135,29],[130,36,130,47],[155,42,155,45],[156,38,156,41],[156,42,156,45],[145,32,145,35],[131,36,131,47],[134,32,134,35],[153,34,153,37],[132,36,132,47],[136,32,136,35],[211,29,211,30],[204,31,204,85],[205,31,205,85],[212,33,212,38],[214,33,214,38],[212,44,212,49],[271,80,271,85],[211,18,211,28],[213,18,213,30],[214,18,214,30],[270,31,270,34],[270,44,270,47],[270,57,270,58],[270,70,270,72],[254,36,254,38],[254,42,254,45],[228,37,228,40],[240,31,240,85],[271,31,271,34],[271,44,271,47],[271,57,271,58],[271,70,271,72],[211,31,211,35],[211,37,211,41],[268,31,268,85],[247,31,247,75],[214,39,214,41],[185,39,185,41],[174,31,174,41],[279,31,279,85],[293,31,293,85],[261,31,261,85],[194,53,194,63],[194,64,194,74],[194,75,194,85],[195,53,195,63],[195,64,195,74],[195,75,195,85],[207,31,207,85],[200,55,200,56],[200,66,200,67],[200,77,200,78],[201,53,201,63],[201,64,201,74],[201,75,201,85],[202,53,202,63],[270,80,270,85],[289,31,289,85],[77,40,77,85],[76,40,76,85],[183,59,183,63],[183,64,183,68],[183,70,183,74],[183,75,183,79],[175,75,175,85],[185,33,185,38],[174,75,174,85],[184,33,184,38],[184,44,184,49],[184,55,184,60],[184,66,184,71],[184,77,184,82],[185,61,185,63],[183,81,183,85],[175,31,175,41],[174,42,174,52],[175,42,175,52],[185,31,185,32],[185,75,185,76],[185,77,185,82],[95,36,95,47],[101,38,101,41],[173,33,173,34],[74,32,74,35],[76,32,76,35],[77,32,77,35],[78,32,78,35],[79,32,79,35],[80,32,80,35],[85,32,85,35],[87,32,87,35],[95,32,95,35],[161,32,161,33],[129,32,129,35],[130,32,130,35],[131,32,131,35],[132,32,132,35],[133,32,133,35],[127,32,127,35],[128,32,128,35],[120,32,120,35],[84,32,84,35],[157,32,157,33],[158,32,158,33],[159,32,159,33],[155,32,155,33],[83,30,83,31],[86,32,86,35],[65,31,65,85],[62,31,62,85],[94,30,94,31],[95,50,95,53],[94,50,94,53],[95,54,95,85],[85,30,85,31],[86,30,86,31],[75,36,75,39],[76,36,76,39],[77,36,77,39],[78,36,78,39],[79,36,79,39],[80,36,80,39],[81,36,81,39],[84,30,84,31],[84,36,84,39],[81,32,81,35],[82,32,82,35],[83,32,83,35],[85,36,85,39],[75,40,75,85],[74,7,74,10],[74,36,74,39],[18,42,18,52],[19,42,19,52],[23,64,23,74],[21,53,21,63],[173,59,173,63],[178,31,178,85],[186,61,186,63],[183,53,183,57],[185,44,185,49],[185,53,185,54],[185,55,185,60],[185,64,185,65],[185,42,185,43],[96,32,96,35],[97,32,97,35],[98,32,98,35],[107,32,107,35],[108,32,108,35],[109,32,109,35],[110,32,110,35],[111,32,111,35],[122,32,122,35],[287,16,287,17],[60,14,60,17],[169,16,169,17],[208,16,208,17],[223,16,223,17],[234,16,234,17],[61,16,61,17],[170,31,170,85],[171,31,171,85],[187,31,187,85],[196,31,196,85],[197,31,197,40],[197,41,197,50],[197,51,197,60],[197,61,197,70],[197,71,197,80],[250,16,250,17],[63,31,63,85],[173,44,173,45],[173,48,173,52],[173,55,173,56],[172,16,172,17],[179,16,179,17],[173,66,173,67],[267,16,267,17],[272,16,272,17],[24,34,24,44],[24,47,24,49],[17,31,17,41],[18,31,18,41],[19,31,19,41],[20,31,20,41],[21,31,21,41],[22,31,22,41],[23,31,23,41],[22,42,22,52],[23,42,23,52],[183,42,183,46],[183,48,183,52],[253,31,253,33],[253,36,253,38],[253,42,253,45],[254,31,254,33],[183,31,183,35],[188,16,188,17],[210,31,210,85],[224,31,224,85],[225,31,225,85],[200,81,200,85],[195,42,195,46],[202,31,202,35],[202,37,202,41],[202,42,202,46],[202,48,202,52],[211,42,211,46],[211,48,211,52],[202,75,202,85],[201,31,201,35],[201,37,201,41],[201,42,201,46],[201,48,201,52],[200,37,200,41],[195,31,195,35],[200,42,200,46],[200,48,200,52],[200,59,200,63],[200,70,200,74],[209,31,209,85],[195,48,195,52],[200,31,200,35],[195,37,195,41],[202,64,202,74],[214,50,214,52],[213,31,213,32],[213,42,213,43],[255,60,255,62],[253,55,253,57],[255,66,255,69],[229,35,229,36],[253,66,253,69],[254,66,254,69],[227,31,227,34],[215,53,215,63],[227,37,227,40],[228,31,228,34],[254,55,254,57],[237,31,237,35],[237,44,237,48],[239,31,239,85],[215,75,215,85],[214,44,214,49],[251,31,251,85],[235,31,235,85],[236,31,236,85],[288,31,288,85],[213,39,213,41],[213,50,213,52],[255,31,255,33],[255,36,255,38],[255,42,255,45],[253,60,253,62],[254,60,254,62],[229,31,229,34],[220,31,220,75],[215,64,215,74],[229,37,229,40],[228,35,228,36],[211,53,214,63],[211,64,214,74],[255,55,255,57],[227,35,227,36],[252,31,252,85],[238,31,238,85],[269,31,269,85],[273,31,273,85],[274,31,274,85],[213,44,213,49],[213,33,213,38],[11,31,11,41],[12,31,12,41],[13,31,13,41],[14,31,14,41],[16,53,16,63],[17,53,17,63],[19,64,19,74],[173,70,173,74],[18,53,18,63],[19,53,19,63],[20,53,20,63],[48,31,48,85],[173,37,173,41],[20,75,20,85],[21,75,21,85],[173,81,173,85],[20,42,20,52],[20,64,20,74],[74,40,74,85],[81,40,81,85],[80,40,80,85],[79,40,79,85],[78,40,78,85],[69,18,69,37],[6,75,6,85],[8,75,8,85],[10,42,10,52],[11,42,11,52],[12,42,12,52],[9,75,9,85],[9,42,9,44],[9,45,9,52],[237,60,237,61],[193,81,193,85],[186,72,186,74],[9,53,9,63],[9,64,9,74],[186,77,186,82],[186,66,186,71],[186,55,186,60],[186,44,186,49],[193,55,193,56],[193,59,193,63],[186,83,186,85],[179,62,179,63],[25,34,25,44],[175,64,175,74],[173,77,173,78],[81,7,81,10],[82,36,82,39],[82,7,82,10],[83,36,83,39],[83,7,83,10],[6,31,6,41],[8,31,8,41],[6,42,6,52],[8,42,8,52],[13,42,13,52],[75,7,75,10],[76,7,76,10],[77,7,77,10],[78,7,78,10],[79,7,79,10],[80,7,80,10],[76,30,76,31],[77,30,77,31],[78,30,78,31],[79,30,79,31],[80,30,80,31],[81,30,81,31],[82,30,82,31],[82,40,82,85],[9,31,9,33],[9,34,9,41],[46,31,46,41],[44,31,44,41],[6,53,6,63],[8,53,8,63],[6,64,6,74],[8,64,8,74],[10,31,10,41],[14,42,14,52],[22,53,22,63],[23,53,23,63],[25,47,25,49],[25,53,25,85],[22,64,22,74],[43,31,43,41],[45,31,45,41],[15,64,15,74],[16,64,16,74],[17,64,17,74],[18,64,18,74],[21,64,21,74],[22,75,22,85],[23,75,23,85],[73,32,73,35],[73,36,73,39],[73,30,73,31],[69,38,69,85],[75,32,75,35],[74,30,74,31],[75,30,75,31],[15,42,15,52],[16,42,16,52],[17,42,17,52],[15,31,15,41],[16,31,16,41],[18,75,18,85],[19,75,19,85],[21,42,21,52],[49,31,49,85],[161,34,161,37],[141,32,141,35],[142,32,142,35],[154,34,154,37],[155,34,155,37],[156,34,156,37],[157,34,157,37],[158,34,158,37],[159,34,159,37],[160,34,160,41],[143,36,143,47],[144,36,144,47],[145,36,145,47],[146,36,146,47],[154,42,154,45],[157,42,157,45],[158,38,158,41],[158,42,158,45],[159,38,159,41],[159,42,159,45],[160,42,160,45],[161,38,161,41],[161,42,161,45],[155,38,155,41],[10,75,10,85],[11,75,11,85],[12,75,12,85],[13,75,13,85],[14,75,14,85],[15,75,15,85],[16,75,16,85],[17,75,17,85],[24,53,24,85],[10,53,10,63],[11,53,11,63],[12,53,12,63],[13,53,13,63],[14,53,14,63],[15,53,15,63],[10,64,10,74],[11,64,11,74],[12,64,12,74],[13,64,13,74],[14,64,14,74],[97,7,97,10],[99,32,99,35],[98,7,98,10],[96,18,96,29],[97,18,97,29],[98,18,98,29],[101,42,101,45],[97,36,97,47],[102,42,102,45],[99,7,99,10],[99,18,99,29],[145,50,145,53],[142,54,142,85],[157,71,157,74],[157,75,157,78],[156,66,156,69],[156,57,156,60],[156,62,156,65],[151,70,151,73],[149,70,149,73],[157,57,157,60],[157,62,157,65],[157,66,157,69],[157,53,157,56],[147,50,147,53],[149,66,149,69],[155,66,155,69],[156,53,156,56],[146,50,146,53],[153,53,153,60],[149,62,149,65],[151,50,151,53],[151,54,151,57],[149,50,149,53],[151,62,151,65],[105,7,105,10],[114,38,114,41],[114,50,114,53],[114,7,114,10],[115,38,115,41],[115,50,115,53],[115,7,115,10],[112,32,112,35],[108,50,108,53],[108,7,108,10],[109,50,109,53],[106,50,106,53],[107,50,107,53],[107,7,107,10],[106,30,106,31],[108,30,108,31],[109,30,109,31],[110,30,110,31],[111,30,111,31],[112,50,112,53],[112,7,112,10],[113,50,113,53],[113,18,113,29],[109,48,109,49],[117,7,117,10],[117,38,117,41],[118,50,118,53],[121,36,121,47],[122,36,122,47],[123,36,123,47],[121,50,121,53],[121,48,121,49],[123,48,123,49],[121,26,121,29],[116,7,116,10],[109,7,109,10],[110,50,110,53],[110,7,110,10],[110,48,110,49],[111,48,111,49],[112,48,112,49],[113,48,113,49],[113,7,113,10],[109,36,109,47],[109,18,109,29],[110,18,110,29],[111,7,111,10],[85,40,85,85],[84,40,84,85],[113,54,113,85],[112,54,112,85],[111,54,111,85],[110,54,110,85],[107,54,107,85],[97,50,97,53],[107,36,107,47],[108,36,108,47],[110,36,110,47],[111,36,111,47],[112,36,112,47],[113,36,113,47],[106,48,106,49],[107,48,107,49],[108,48,108,49],[91,36,91,39],[97,54,97,85],[98,54,98,85],[99,54,99,85],[111,50,111,53],[109,54,109,85],[108,54,108,85],[83,40,83,85],[138,48,138,49],[123,54,123,85],[122,54,122,85],[121,54,121,85],[131,54,131,85],[130,54,130,85],[129,54,129,85],[128,54,128,85],[127,54,127,85],[126,54,126,85],[125,54,125,85],[120,48,120,49],[120,50,120,53],[135,48,135,49],[136,48,136,49],[137,48,137,49],[124,54,124,85],[127,48,127,49],[128,48,128,49],[127,36,127,47],[128,36,128,47],[87,40,87,85],[86,40,86,85]]}
[]
[]
[]
[]
[]
[]
[null,false,false,null,0,null,null,null,null,null,null,null,null,null,null,null,null,null,null,null,null,null,null,null,null,null,null,null,null,null,null,"Klient",null,null,null,null,null,null,null,null,null,null,"Partner/ka",null,null,null,null,null,null,null,null,null,null,"Dítě 1",null,null,null,null,null,null,null,null,null,null,"Dítě 2",null,null,null,null,null,null,null,null,null,null,"Dítě 3"]
[]
[null,null,null,null,null,null,null,null,null,null,null,null,null,null,null,null,null,null,"Jméno"]
[null,null,null,null,null,null,{"$f":"IF(OR(AI10<>0,AQ10<>0,BB10<>0,BM10<>0,BX10<>0),1,0)","v":0},null,null,null,null,null,null,null,null,null,null,null,"Titul, příjmení"]
[null,null,null,null,null,null,{"$f":"IF(OR(AF11<>0,AQ11<>0,BB11<>0,BM11<>0,BX11<>0),1,0)","v":0},null,null,null,null,null,null,null,null,null,null,null,"Datum narození"]
[null,null,null,null,null,null,0,null,null,null,null,null,null,null,null,null,null,null,"Průměrný hrubý měsíční příjem"]
[null,null,null,null,null,null,0,null,null,null,null,null,null,null,null,null,null,null,"Průměrný čistý měsíční příjem"]
[null,null,null,null,null,null,0,null,null,null,null,null,null,null,null,null,null,null,"Počet let do důchodu"]
[null,null,null,null,null,null,0,null,null,null,null,null,null,null,null,null,null,null,"Rodné číslo"]
[{"$f":"IF(D16=TRUE,1,0)","v":1},"Analýza příjmů, nákladů","makro1",true,1,{"$f":"IF(SUM(A16:A$24)=0,0,1)","v":1},{"$f":"IF(OR(AF16<>0,AQ16<>0,BB16<>0,BM16<>0,BX16<>0),1,0)","v":0},null,null,null,null,null,null,null,null,null,null,null,"E-mail"]
[{"$f":"IF(D17=TRUE,1,0)","v":0},"Úraz, nemoc","PrejdiUrazNemoc1",false,0,{"$f":"IF(SUM(A17:A$24)=0,0,1)","v":0},{"$f":"IF(OR(AF17<>0,AQ17<>0,BB17<>0,BM17<>0,BX17<>0),1,0)","v":0},{"$f":"IF(A17=0,0,IF(OR(AF171=0,AF172=0),1,0))","v":0},null,null,null,null,null,null,null,null,null,null,"Rodinný stav"]
[0,"Penze","PrejdiPenze1",false,0,{"$f":"IF(SUM(A18:A$24)=0,0,1)","v":0},0,{"$f":"IF(A18=0,0,IF(OR(AF210=0,AF211=0),1,0))","v":0},null,null,null,null,null,null,null,null,null,null,"Provozovaný sport (registrace)"]
[0,"Ztráta zaměstnání","makro4",false,0,{"$f":"IF(SUM(A19:A$24)=0,0,1)","v":0},0,null,null,null,null,null,null,null,null,null,null,null,"Číslo OP (platnost)"]
[0,"Financování bydlení","makro5",false,0,{"$f":"IF(SUM(A20:A$24)=0,0,1)","v":0},0,{"$f":"IF(A20=0,0,IF(OR(AF237=0,AF236=0),1,0))","v":0},null,null,null,null,null,null,null,null,null,null,"Bankovní účet"]
[0,"Ochrana majetku, odpovědnost","makro6",false,0,{"$f":"IF(SUM(A21:A$24)=0,0,1)","v":0},0,{"$f":"IF(A21=0,0,IF(OR(AF252=0,AF253=0),1,0))","v":0},null,null,null,null,null,null,null,null,null,null,"Zdravotní pojišťovna"]
[0,"Zhodnocení peněz","makro7",false,0,{"$f":"IF(SUM(A22:A$24)=0,0,1)","v":0},0,{"$f":"IF(A22=0,0,IF(OR(AF269=0,AF270=0),1,0))","v":0},null,null,null,null,null,null,null,null,null,null,"Povolání / pozice"]
[0,"Úvěry jiné          než na bydlení","makro8",false,0,{"$f":"IF(SUM(A23:A$24)=0,0,1)","v":0},0,{"$f":"IF(A23=0,0,IF(OR(AF274=0,AF275=0),1,0))","v":0},null,null,null,null,null,null,null,null,null,null,"Zaměstnavatel"]
[0,"Jiné","makro9",false,0,{"$f":"IF(SUM(A24:A$24)=0,0,1)","v":0},0,{"$f":"IF(A24=0,0,IF(OR(AF290=0,AF289=0),1,0))","v":0},null,null,null,null,null,null,null,null,null,null,"Děti - počet"]
[{"$f":"SUM(A17:A22)","v":0},null,null,null,null,{"$f":"SUM(F16:F24)","v":1},{"$f":"IF(OR(AI25<>0,AV25<>0,BB25<>0),1,0)","v":0},{"$f":"SUM(H17:H24)","v":0},null,null,null,null,null,null,null,null,null,null,"Trvalé bydliště",null,null,null,null,null,null,null,null,null,null,null,null,null,null,"ulice č.:",null,null,null,null,null,null,null,null,null,null,null,null,"PSČ:",null,null,null,null,"obec:"]
[null,null,null,null,null,{"$f":"SUM(A18:A22)","v":0},{"$f":"IF(OR(AI26<>0,AV26<>0,BB26<>0),1,0)","v":0},null,null,null,null,null,null,null,null,null,null,null,"Korespondenční adreesa",null,null,null,null,null,null,null,null,null,null,null,null,null,null,"ulice č.:",null,null,null,null,null,null,null,null,null,null,null,null,"PSČ:",null,null,null,null,"obec:"]
[null,"Analýza příjmů a nákladů",null,null,null,null,0,null,null,null,null,null,null,null,null,null,null,null,"Děti - jména"]
[null,"Zajištění příjmu",null,null,null,null,0,null,null,null,null,null,null,null,null,null,null,null,"Děti - data narození"]
[null,"Zabezpečení na stáří",null,null,null,null,0]
[null,"Financování bydlení",null,null,null,null,0]
[null,null,null,null,null,null,0]
[null,"Investice",null,null,null,null,0]
[null,"Optimalizace úvěrů",null,null,null,null,0]
[null,"Jiné",null,null,null,null,0]
[null,null,null,null,null,null,0]
[null,null,null,null,null,null,0]
[null,null,null,null,null,null,0]
[null,null,null,null,null,null,0]
[null,null,null,null,null,null,0]
[null,null,null,null,null,null,0]
[null,null,null,null,null,null,0]
[null,null,null,null,null,null,0]
[null,null,null,null,null,null,0]
[null,null,null,null,null,null,{"$f":"IF(AF44=0,0,1)","v":0},null,null,null,null,null,null,null,null,null,null,null,"Nutné výdaje - za celou rodinu"]
[null,null,null,null,null,null,{"$f":"IF(AF45=0,0,1)","v":0},null,null,null,null,null,null,null,null,null,null,null,"Výše úvěrů - vč. doporučených"]
[null,null,null,null,null,null,{"$f":"IF(AF46=0,0,1)","v":0},null,null,null,null,null,null,null,null,null,null,null,"Měsíční možnosti (dohoda)"]
[null,null,null,null,null,null,{"$f":"IF(AF47=0,0,1)","v":0},null,null,null,null,null,null,null,null,null,null,null,"Předpokládaná dlouhodobá inflace"]
[]
[null,null,null,null,null,null,{"$f":"IF(AF49<>0,1,0)","v":0},null,null,null,null,null,null,null,null,null,null,null,"Požadavky na finanční plán a jeho priority"]
[null,null,null,null,null,null,0,null,null,null,null,null,null,null,null,null,null,null,"Návrh řešení"]
[null,null,null,null,null,null,0]
[null,null,null,null,null,null,0]
[null,null,null,null,null,null,0]
[null,null,null,null,null,null,0]
[]
[null,null,null,null,null,null,null,null,null,null,null,null,null,null,null,null,null,null,"Požadované oblasti řešení"]
[]
[]
[]
[]
[]
[false,null,null,null,null,null,null,null,null,null,null,null,null,null,null,null,null,null,"Analýza příjmů a výdajů"]
[null,null,null,null,null,null,{"$f":"IF(AF63<>0,1,0)","v":0},null,null,null,null,null,null,null,null,null,null,null,null,null,null,null,null,null,null,null,null,null,null,null,"Požadavek klienta",null,null,null,null,null,null,null,null,null,null,null,null,null,null,null,null,null,null,null,null,null,null,null,null,null,null,null,null,null,null,null,null,null,null,null,null,null,null,null,null,null,null,null,null,null,null,null,null,null,null,null,null,null,null,null,null,null,null,null,null,null,null,null,null,null,null,null,null,null,null,null,null,null,null,null,null,null,null,{"$f":"AF63","v":0}]
[null,null,null,null,null,null,{"$f":"IF(AF64<>0,1,0)","v":0},null,null,null,null,null,null,null,null,null,null,null,null,null,null,null,null,null,null,null,null,null,null,null,"Návrh řešení"]
[]
[0,null,null,null,null,null,null,null,null,null,null,null,null,null,null,null,null,null,null,null,null,null,null,null,null,null,null,null,null,null,"Informace","Cíl - vytvoření uceleného přehledu měsíčních příjmů a výdajů, který pomůže klientovi lépe si uvědomit jeho finanční možnosti, rezervy a případné komplikace ohrožující vyváženost rodinného rozpočtu."]
[]
[]
[]
[null,null,null,null,null,null,null,null,null,null,null,null,null,null,null,null,null,null,"SOUČASNÝ STAV",null,null,null,null,null,null,null,null,null,null,null,null,null,null,null,null,null,null,null,"DOPORUČENÍ"]
[]
[null,null,null,null,null,null,null,null,null,null,null,null,null,null,null,null,null,null,"Výdaje"]
[false]
[null,null,null,null,null,null,null,null,null,null,null,null,null,null,null,null,null,null,"Bydlení, auto, rodina - stav",null,null,null,null,null,null,null,null,null,null,null,"F",null,"Stav",null,null,null,"Doporučení",null,null,null,"Poznámky"]
[null,null,{"$f":"AE75*AG75","v":0},{"$f":"IF(AK75=\"\",C75,AE75*AK75)","v":0},null,null,null,{"$f":"IF(AK75=\"\",\"\",AK75-AG75)","v":""},null,null,null,null,null,null,null,null,null,null,"Nájem",null,null,null,null,null,null,null,null,null,null,null,12]
[null,null,0,{"$f":"IF(AK76=\"\",C76,AE76*AK76)","v":0},null,null,null,"",null,null,null,null,null,null,null,null,null,null,"Náklady na údržbu nem. - opravy, …",null,null,null,null,null,null,null,null,null,null,null,12]
[null,null,0,0,null,null,null,"",null,null,null,null,null,null,null,null,null,null,"Spotřební materiál do domácnosti",null,null,null,null,null,null,null,null,null,null,null,12]
[false,null,0,0,null,null,null,"",null,null,null,null,null,null,null,null,null,null,"Energie, topení, voda, plyn, apod.",null,null,null,null,null,null,null,null,null,null,null,12]
[null,null,0,0,null,null,null,"",null,null,null,null,null,null,null,null,null,null,"Telefon, internet, televize",null,null,null,null,null,null,null,null,null,null,null,12]
[null,null,0,0,null,null,null,"",null,null,null,null,null,null,null,null,null,null,"Jídlo",null,null,null,null,null,null,null,null,null,null,null,12]
[null,null,0,0,null,null,null,"",null,null,null,null,null,null,null,null,null,null,"Volnočasové aktivity",null,null,null,null,null,null,null,null,null,null,null,12]
[null,null,0,0,null,null,null,"",null,null,null,null,null,null,null,null,null,null,"Ošacení / čistírna",null,null,null,null,null,null,null,null,null,null,null,12]
[null,null,0,0,null,null,null,"",null,null,null,null,null,null,null,null,null,null,"Škola - učebnice, školné apod.",null,null,null,null,null,null,null,null,null,null,null,12]
[null,null,0,0,null,null,null,"",null,null,null,null,null,null,null,null,null,null,"Jízdné",null,null,null,null,null,null,null,null,null,null,null,12]
[null,null,0,0,null,null,null,"",null,null,null,null,null,null,null,null,null,null,"Zbytné výdaje (cigarety, alkohol apod.)",null,null,null,null,null,null,null,null,null,null,null,12]
[null,null,0,0,null,null,null,"",null,null,null,null,null,null,null,null,null,null,"Auto - pohonné hmoty, olej …",null,null,null,null,null,null,null,null,null,null,null,12]
[null,null,0,0,null,null,null,"",null,null,null,null,null,null,null,null,null,null,"Auto - opravy, údržby náhradní díly",null,null,null,null,null,null,null,null,null,null,null,12]
[null,null,0,0,null,null,null,"",null,null,null,null,null,null,null,null,null,null,"Jiné - zadejte",null,null,null,null,null,null,null,null,null,null,null,12]
[null,null,0,0,null,null,null,"",null,null,null,null,null,null,null,null,null,null,null,null,null,null,null,null,null,null,null,null,null,null,12]
[null,null,0,0,null,null,null,"",null,null,null,null,null,null,null,null,null,null,null,null,null,null,null,null,null,null,null,null,null,null,12]
[null,null,0,0,null,null,null,"",null,null,null,null,null,null,null,null,null,null,null,null,null,null,null,null,null,null,null,null,null,null,12]
[null,null,0,0,null,null,null,"",null,null,null,null,null,null,null,null,null,null,null,null,null,null,null,null,null,null,null,null,null,null,12]
[null,null,0,0,null,null,null,"",null,null,null,null,null,null,null,null,null,null,null,null,null,null,null,null,null,null,null,null,null,null,12]
[null,null,{"$f":"SUM(C75:C93)","v":0},{"$f":"SUM(D75:D93)","v":0},null,null,null,{"$f":"E94/12","v":0},null,null,null,null,null,null,null,null,null,null,null,null,null,null,null,null,null,null,null,null,null,null,null,"Měsíční výdaje",{"$f":"C94/12","v":0},null,null,null,{"$f":"D94/12","v":0}]
[null,null,{"$f":"AE95*AG95","v":{"$error":"#VALUE!"}},{"$f":"AE95*AK95","v":{"$error":"#VALUE!"}},null,null,null,null,null,null,null,null,null,null,null,null,null,null,"Pojištění osob / zajištění příjmu - stav",null,null,null,null,null,null,null,null,null,null,null,"F",null,"Výdaj",null,null,null,"Doporučení",null,null,null,null,null,null,null,null,null,null,null,"F",null,"Výdaj",null,null,null,"Poznámky"]
[null,null,0,{"$f":"IF(AY96=\"\",C96,AW96*AY96)","v":0},null,null,null,{"$f":"IF(AY96=\"\",\"\",AY96-AG96)","v":""},null,null,null,null,null,null,null,null,null,null,null,null,null,null,null,null,null,null,null,null,null,null,12,null,null,null,null,null,null,null,null,null,null,null,null,null,null,null,null,null,12]
[null,null,0,{"$f":"IF(AY97=\"\",C97,AW97*AY97)","v":0},null,null,null,{"$f":"IF(AY97=\"\",\"\",AY97-AG97)","v":""},null,null,null,null,null,null,null,null,null,null,null,null,null,null,null,null,null,null,null,null,null,null,12,null,null,null,null,null,null,null,null,null,null,null,null,null,null,null,null,null,12]
[null,null,0,{"$f":"IF(AY98=\"\",C98,AW98*AY98)","v":0},null,null,null,{"$f":"IF(AY98=\"\",\"\",AY98-AG98)","v":""},null,null,null,null,null,null,null,null,null,null,null,null,null,null,null,null,null,null,null,null,null,null,12,null,null,null,null,null,null,null,null,null,null,null,null,null,null,null,null,null,12]
[null,null,0,{"$f":"IF(AY99=\"\",C99,AW99*AY99)","v":0},null,null,null,{"$f":"IF(AY99=\"\",\"\",AY99-AG99)","v":""},null,null,null,null,null,null,null,null,null,null,null,null,null,null,null,null,null,null,null,null,null,null,12,null,null,null,null,null,null,null,null,null,null,null,null,null,null,null,null,null,12]
[null,null,0,{"$f":"IF(AY100=\"\",C100,AW100*AY100)","v":0},null,null,null,{"$f":"IF(AY100=\"\",\"\",AY100-AG100)","v":""},null,null,null,null,null,null,null,null,null,null,null,null,null,null,null,null,null,null,null,null,null,null,12,null,null,null,null,null,null,null,null,null,null,null,null,null,null,null,null,null,12]
[null,null,{"$f":"AG101*AI101","v":0},{"$f":"IF(AM101=\"\",AG101*AI101,AG101*AM101)","v":0},null,null,null,null,null,null,null,null,null,null,null,null,null,null,null,null,null,null,null,null,null,null,null,null,null,null,null,null,12,null,null,null,null,null,null,null,null,null,{"$f":"IF(AM101=\"\",\"\",AM101-AI101)","v":""}]
[null,null,{"$f":"AG102*AI102","v":0},{"$f":"IF(AM102=\"\",AG102*AI102,AG102*AM102)","v":0},null,null,null,null,null,null,null,null,null,null,null,null,null,null,null,null,null,null,null,null,null,null,null,null,null,null,null,null,12,null,null,null,null,null,null,null,null,null,{"$f":"IF(AM102=\"\",\"\",AM102-AI102)","v":""}]
[null,null,{"$f":"AG103*AI103","v":0},{"$f":"IF(AM103=\"\",AG103*AI103,AG103*AM103)","v":0},null,null,null,null,null,null,null,null,null,null,null,null,null,null,null,null,null,null,null,null,null,null,null,null,null,null,null,null,12,null,null,null,null,null,null,null,null,null,{"$f":"IF(AM103=\"\",\"\",AM103-AI103)","v":""}]
[null,null,{"$f":"AG104*AI104","v":0},{"$f":"IF(AM104=\"\",AG104*AI104,AG104*AM104)","v":0},null,null,null,null,null,null,null,null,null,null,null,null,null,null,null,null,null,null,null,null,null,null,null,null,null,null,null,null,12,null,null,null,null,null,null,null,null,null,{"$f":"IF(AM104=\"\",\"\",AM104-AI104)","v":""}]
[null,null,{"$f":"AG105*AI105","v":0},{"$f":"IF(AM105=\"\",AG105*AI105,AG105*AM105)","v":0},null,null,null,null,null,null,null,null,null,null,null,null,null,null,null,null,null,null,null,null,null,null,null,null,null,null,null,null,12,null,null,null,null,null,null,null,null,null,{"$f":"IF(AM105=\"\",\"\",AM105-AI105)","v":""}]
[null,null,{"$f":"SUM(C96:C105)","v":0},{"$f":"SUM(D96:D105)","v":0},null,null,null,{"$f":"AY106-AG106","v":0},null,null,null,null,null,null,null,null,null,null,null,null,null,null,null,null,null,null,null,null,null,null,null,"Měsíční výdaje",{"$f":"C106/12","v":0},null,null,null,null,null,null,null,null,null,null,null,null,null,null,null,null,"Měsíční výdaje",{"$f":"D106/12","v":0}]
[null,null,{"$f":"AE107*AM107","v":{"$error":"#VALUE!"}},{"$f":"AE107*AY107","v":{"$error":"#VALUE!"}},null,null,null,null,null,null,null,null,null,null,null,null,null,null,"Poj. majetku, auta, odpovědnosti - stav",null,null,null,null,null,null,null,null,null,null,null,"F",null,"Výdaj",null,null,null,"Doporučení",null,null,null,null,null,null,null,null,null,null,null,"F",null,"Výdaj",null,null,null,"Poznámky"]
[null,null,{"$f":"AE108*AG108","v":0},{"$f":"IF(AY108=\"\",C108,AW108*AY108)","v":0},null,null,null,{"$f":"IF(AY108=\"\",\"\",AY108-AG108)","v":""},null,null,null,null,null,null,null,null,null,null,null,null,null,null,null,null,null,null,null,null,null,null,12,null,null,null,null,null,null,null,null,null,null,null,null,null,null,null,null,null,12]
[null,null,0,{"$f":"IF(AY109=\"\",C109,AW109*AY109)","v":0},null,null,null,"",null,null,null,null,null,null,null,null,null,null,null,null,null,null,null,null,null,null,null,null,null,null,12,null,null,null,null,null,null,null,null,null,null,null,null,null,null,null,null,null,12]
[null,null,0,0,null,null,null,"",null,null,null,null,null,null,null,null,null,null,null,null,null,null,null,null,null,null,null,null,null,null,12,null,null,null,null,null,null,null,null,null,null,null,null,null,null,null,null,null,12]
[null,null,0,0,null,null,null,"",null,null,null,null,null,null,null,null,null,null,null,null,null,null,null,null,null,null,null,null,null,null,12,null,null,null,null,null,null,null,null,null,null,null,null,null,null,null,null,null,12]
[null,null,0,0,null,null,null,"",null,null,null,null,null,null,null,null,null,null,null,null,null,null,null,null,null,null,null,null,null,null,12,null,null,null,null,null,null,null,null,null,null,null,null,null,null,null,null,null,12]
[null,null,0,0,null,null,null,"",null,null,null,null,null,null,null,null,null,null,null,null,null,null,null,null,null,null,null,null,null,null,12,null,null,null,null,null,null,null,null,null,null,null,null,null,null,null,null,null,12]
[null,null,0,0,null,null,null,"",null,null,null,null,null,null,null,null,null,null,null,null,null,null,null,null,null,null,null,null,null,null,12,null,null,null,null,null,null,null,null,null,null,null,null,null,null,null,null,null,12]
[null,null,{"$f":"AG115*AM115","v":0},{"$f":"IF(AY115=\"\",AG115*AM115,AG115*AY115)","v":0},null,null,null,{"$f":"IF(AY115=\"\",\"\",AY115-AM115)","v":""},null,null,null,null,null,null,null,null,null,null,null,null,null,null,null,null,null,null,null,null,null,null,null,null,12]
[null,null,{"$f":"AG116*AM116","v":0},{"$f":"IF(AY116=\"\",AG116*AM116,AG116*AY116)","v":0},null,null,null,{"$f":"IF(AY116=\"\",\"\",AY116-AM116)","v":""},null,null,null,null,null,null,null,null,null,null,null,null,null,null,null,null,null,null,null,null,null,null,null,null,12]
[null,null,{"$f":"AG117*AM117","v":0},{"$f":"IF(AY117=\"\",AG117*AM117,AG117*AY117)","v":0},null,null,null,{"$f":"IF(AY117=\"\",\"\",AY117-AM117)","v":""},null,null,null,null,null,null,null,null,null,null,null,null,null,null,null,null,null,null,null,null,null,null,null,null,12]
[null,null,{"$f":"AG118*AM118","v":0},{"$f":"IF(AY118=\"\",AG118*AM118,AG118*AY118)","v":0},null,null,null,{"$f":"IF(AY118=\"\",\"\",AY118-AM118)","v":""},null,null,null,null,null,null,null,null,null,null,null,null,null,null,null,null,null,null,null,null,null,null,null,null,12]
[null,null,{"$f":"AG119*AM119","v":0},{"$f":"IF(AY119=\"\",AG119*AM119,AG119*AY119)","v":0},null,null,null,{"$f":"IF(AY119=\"\",\"\",AY119-AM119)","v":""},null,null,null,null,null,null,null,null,null,null,null,null,null,null,null,null,null,null,null,null,null,null,null,null,12]
[null,null,{"$f":"SUM(C108:C119)","v":0},{"$f":"SUM(D108:D119)","v":0},null,null,null,{"$f":"AY120-AG120","v":0},null,null,null,null,null,null,null,null,null,null,null,null,null,null,null,null,null,null,null,null,null,null,null,"Měsíční výdaje",{"$f":"C120/12","v":0},null,null,null,null,null,null,null,null,null,null,null,null,null,null,null,null,"Měsíční výdaje",{"$f":"D120/12","v":0}]
[null,null,{"$f":"AE121*AI121","v":{"$error":"#VALUE!"}},{"$f":"AE121*AM121","v":{"$error":"#VALUE!"}},null,null,null,null,null,null,null,null,null,null,null,null,null,null,"Spoření, investice - stav",null,null,null,null,null,null,null,"Naspořeno",null,null,null,"F",null,"Výdaj",null,null,null,"Doporučení",null,null,null,null,null,null,null,null,null,null,null,"F",null,"Výdaj",null,null,null,"Poznámky"]
[null,null,{"$f":"AE122*AG122","v":0},{"$f":"IF(AY122=\"\",C122,AW122*AY122)","v":0},null,null,null,{"$f":"IF(AY122=\"\",\"\",AY122-AG122)","v":""},null,null,null,null,null,null,null,null,null,null,null,null,null,null,null,null,null,null,null,null,null,null,12,null,null,null,null,null,null,null,null,null,null,null,null,null,null,null,null,null,12]
[null,null,0,{"$f":"IF(AY123=\"\",C123,AW123*AY123)","v":0},null,null,null,"",null,null,null,null,null,null,null,null,null,null,null,null,null,null,null,null,null,null,null,null,null,null,12,null,null,null,null,null,null,null,null,null,null,null,null,null,null,null,null,null,12]
[null,null,0,0,null,null,null,"",null,null,null,null,null,null,null,null,null,null,null,null,null,null,null,null,null,null,null,null,null,null,12,null,null,null,null,null,null,null,null,null,null,null,null,null,null,null,null,null,12]
[null,null,0,0,null,null,null,"",null,null,null,null,null,null,null,null,null,null,null,null,null,null,null,null,null,null,null,null,null,null,12,null,null,null,null,null,null,null,null,null,null,null,null,null,null,null,null,null,12]
[null,null,0,0,null,null,null,"",null,null,null,null,null,null,null,null,null,null,null,null,null,null,null,null,null,null,null,null,null,null,12,null,null,null,null,null,null,null,null,null,null,null,null,null,null,null,null,null,12]
[null,null,0,0,null,null,null,"",null,null,null,null,null,null,null,null,null,null,null,null,null,null,null,null,null,null,null,null,null,null,12,null,null,null,null,null,null,null,null,null,null,null,null,null,null,null,null,null,12]
[null,null,0,0,null,null,null,"",null,null,null,null,null,null,null,null,null,null,null,null,null,null,null,null,null,null,null,null,null,null,12,null,null,null,null,null,null,null,null,null,null,null,null,null,null,null,null,null,12]
[null,null,0,0,null,null,null,"",null,null,null,null,null,null,null,null,null,null,null,null,null,null,null,null,null,null,null,null,null,null,12,null,null,null,null,null,null,null,null,null,null,null,null,null,null,null,null,null,12]
[null,null,0,0,null,null,null,"",null,null,null,null,null,null,null,null,null,null,null,null,null,null,null,null,null,null,null,null,null,null,12,null,null,null,null,null,null,null,null,null,null,null,null,null,null,null,null,null,12]
[null,null,0,0,null,null,null,"",null,null,null,null,null,null,null,null,null,null,null,null,null,null,null,null,null,null,null,null,null,null,12,null,null,null,null,null,null,null,null,null,null,null,null,null,null,null,null,null,12]
[null,null,0,0,null,null,null,"",null,null,null,null,null,null,null,null,null,null,null,null,null,null,null,null,null,null,null,null,null,null,12,null,null,null,null,null,null,null,null,null,null,null,null,null,null,null,null,null,12]
[null,null,0,0,null,null,null,"",null,null,null,null,null,null,null,null,null,null,null,null,null,null,null,null,null,null,null,null,null,null,12,null,null,null,null,null,null,null,null,null,null,null,null,null,null,null,null,null,12]
[null,null,{"$f":"SUM(C122:C133)","v":0},{"$f":"SUM(D122:D133)","v":0},null,null,null,{"$f":"AY134-AG134","v":0},null,null,null,null,null,null,null,null,null,null,null,null,null,null,null,null,null,null,{"$f":"SUM(AA122:AD133)","v":0},null,null,null,null,null,{"$f":"C134/12","v":0},null,null,null,null,null,null,null,null,null,null,null,null,null,null,null,null,"Měsíční výdaje",{"$f":"D134/12","v":0}]
[null,null,{"$f":"AE135*AI135","v":{"$error":"#VALUE!"}},{"$f":"AE135*AM135","v":{"$error":"#VALUE!"}},null,null,null,null,null,null,null,null,null,null,null,null,null,null,"Úvěry / závazky",null,null,null,null,null,null,null,"Doplatit",null,null,null,"F",null,"Výdaj",null,null,null,"Doporučení",null,null,null,null,null,null,null,null,null,null,null,"F",null,"Výdaj",null,null,null,"Poznámky"]
[null,null,{"$f":"AE136*AG136","v":0},{"$f":"IF(AY136=\"\",C136,AW136*AY136)","v":0},null,null,null,{"$f":"IF(AY136=\"\",\"\",AY136-AG136)","v":""},null,null,null,null,null,null,null,null,null,null,null,null,null,null,null,null,null,null,null,null,null,null,12,null,null,null,null,null,null,null,null,null,null,null,null,null,null,null,null,null,12]
[null,null,0,{"$f":"IF(AY137=\"\",C137,AW137*AY137)","v":0},null,null,null,"",null,null,null,null,null,null,null,null,null,null,null,null,null,null,null,null,null,null,null,null,null,null,12,null,null,null,null,null,null,null,null,null,null,null,null,null,null,null,null,null,12]
[null,null,0,0,null,null,null,"",null,null,null,null,null,null,null,null,null,null,null,null,null,null,null,null,null,null,null,null,null,null,12,null,null,null,null,null,null,null,null,null,null,null,null,null,null,null,null,null,12]
[null,null,0,0,null,null,null,"",null,null,null,null,null,null,null,null,null,null,null,null,null,null,null,null,null,null,null,null,null,null,12,null,null,null,null,null,null,null,null,null,null,null,null,null,null,null,null,null,12]
[null,null,0,0,null,null,null,"",null,null,null,null,null,null,null,null,null,null,null,null,null,null,null,null,null,null,null,null,null,null,12,null,null,null,null,null,null,null,null,null,null,null,null,null,null,null,null,null,12]
[null,null,0,0,null,null,null,"",null,null,null,null,null,null,null,null,null,null,"Jiné",null,null,null,null,null,null,null,null,null,null,null,12,null,null,null,null,null,null,null,null,null,null,null,null,null,null,null,null,null,12,null,null,null,null,null,"w"]
[null,null,0,0,null,null,null,"",null,null,null,null,null,null,null,null,null,null,"Jiné",null,null,null,null,null,null,null,null,null,null,null,12,null,null,null,null,null,null,null,null,null,null,null,null,null,null,null,null,null,12,null,null,null,null,null,"w"]
[null,null,0,0,null,null,null,"",null,null,null,null,null,null,null,null,null,null,"Jiné",null,null,null,null,null,null,null,null,null,null,null,12,null,null,null,null,null,null,null,null,null,null,null,null,null,null,null,null,null,12,null,null,null,null,null,"w"]
[null,null,0,0,null,null,null,"",null,null,null,null,null,null,null,null,null,null,null,null,null,null,null,null,null,null,null,null,null,null,12,null,null,null,null,null,null,null,null,null,null,null,null,null,null,null,null,null,12]
[null,null,0,0,null,null,null,"",null,null,null,null,null,null,null,null,null,null,null,null,null,null,null,null,null,null,null,null,null,null,12,null,null,null,null,null,null,null,null,null,null,null,null,null,null,null,null,null,12]
[null,null,0,0,null,null,null,"",null,null,null,null,null,null,null,null,null,null,null,null,null,null,null,null,null,null,null,null,null,null,12,null,null,null,null,null,null,null,null,null,null,null,null,null,null,null,null,null,12]
[null,null,0,0,null,null,null,"",null,null,null,null,null,null,null,null,null,null,null,null,null,null,null,null,null,null,null,null,null,null,12,null,null,null,null,null,null,null,null,null,null,null,null,null,null,null,null,null,12]
[null,null,{"$f":"SUM(C136:C147)","v":0},{"$f":"SUM(D136:D147)","v":0},null,null,null,{"$f":"AY148-AG148","v":0},null,null,null,null,null,null,null,null,null,null,null,null,null,null,null,null,null,null,{"$f":"SUM(AA136:AD147)","v":0},null,null,null,null,null,{"$f":"C148/12","v":0},null,null,null,null,null,null,null,null,null,null,null,null,null,null,null,null,"Měsíční výdaje",{"$f":"D148/12","v":0}]
[null,null,null,null,null,null,null,null,null,null,null,null,null,null,null,null,null,null,"Očekávaná výplata spoření/investic"]
[null,null,null,null,null,null,null,null,null,null,null,null,null,null,null,null,null,null,"Rok výplaty",null,null,null,null,null,null,null,null,null,null,null,null,null,null,null,null,null,null,null,null,null,null,null,null,null,null,null,null,null,null,null,null,null,null,null,null,null,null,null,null,null,null,null,null,null,null,null,null,null,null,null,null,null,null,null,null,null,null,null,null,null,null,null,"Celkem"]
[null,null,null,null,null,null,null,null,null,null,null,null,null,null,null,null,null,null,"K výplatě stav",null,null,null,null,null,null,null,null,null,null,null,null,null,null,null,null,null,null,null,null,null,null,null,null,null,null,null,null,null,null,null,null,null,null,null,null,null,null,null,null,null,null,null,null,null,null,null,null,null,null,null,null,null,null,null,null,null,null,null,null,null,null,null,{"$f":"SUM(AA151:CD151)","v":0}]
[null,null,null,null,null,null,null,null,null,null,null,null,null,null,null,null,null,null,"K výplatě doporučení",null,null,null,null,null,null,null,null,null,null,null,null,null,null,null,null,null,null,null,null,null,null,null,null,null,null,null,null,null,null,null,null,null,null,null,null,null,null,null,null,null,null,null,null,null,null,null,null,null,null,null,null,null,null,null,null,null,null,null,null,null,null,null,{"$f":"SUM(AA152:CD152)","v":0}]
[null,null,{"$f":"AG153*AI153","v":0},{"$f":"AG153*AM153","v":0}]
[null,null,{"$error":"#VALUE!"},{"$error":"#VALUE!"},null,null,null,null,null,null,null,null,null,null,null,null,null,null,"Příjmy",null,null,null,null,null,null,null,null,null,null,null,null,null,"F",null,{"$f":"AF9","v":0},null,null,null,{"$f":"IF(AQ9=\"\",\"Partner/ka\",AQ9)","v":"Partner/ka"},null,null,null,null,null,null,null,"Shrnutí",null,null,null,null,null,null,"Současný stav",null,null,null,null,null,null,null,null,"Doporučení",null,null,null,null,null,null,null,null,"Doporučení - souč. stav",null,null,null,null,null,null,null,null,"Naspořeno"]
[null,null,0,0,null,null,null,null,null,null,null,null,null,null,null,null,null,null,"Průměrný čistý příjem",null,null,null,null,null,null,null,null,null,null,null,null,null,12,null,null,null,null,null,null,null,null,null,null,null,null,null,null,null,null,null,null,null,null,"měsíčně",null,null,null,"ročně",null,null,null,null,"měsíčně",null,null,null,"ročně",null,null,null,null,"měsíčně",null,null,null,"ročně",null,null,null,null,{"$f":"SUM(AA122:AD132)","v":0}]
[null,null,0,0,null,null,null,null,null,null,null,null,null,null,null,null,null,null,"Průměrný čistý příjem z podnikání",null,null,null,null,null,null,null,null,null,null,null,null,null,12,null,null,null,null,null,null,null,null,null,null,null,null,null,"Celkové výdaje",null,null,null,null,null,null,{"$f":"AG94+AG106+AG120+AG134+AG148","v":0},null,null,null,{"$f":"BB156*12","v":0},null,null,null,null,{"$f":"AK94+AY106+AY120+AY134+AY148","v":0},null,null,null,{"$f":"BK156*12","v":0},null,null,null,null,{"$f":"BK156-BB156","v":0},null,null,null,{"$f":"BO156-BF156","v":0},null,null,null,null,"Úvěry"]
[null,null,0,0,null,null,null,null,null,null,null,null,null,null,null,null,null,null,"Očekávané bonusy za celý rok",null,null,null,null,null,null,null,null,null,null,null,null,null,12,null,null,null,null,null,null,null,null,null,null,null,null,null,"Celkové příjmy",null,null,null,null,null,null,{"$f":"AI161","v":0},null,null,null,{"$f":"BB157*12","v":0},null,null,null,null,{"$f":"AI161","v":0},null,null,null,{"$f":"BK157*12","v":0},null,null,null,null,{"$f":"BK157-BB157","v":0},null,null,null,{"$f":"BO157-BF157","v":0},null,null,null,null,{"$f":"SUM(AA136:AD143)","v":0}]
[null,null,0,0,null,null,null,null,null,null,null,null,null,null,null,null,null,null,"Příjem z kapitálových investic",null,null,null,null,null,null,null,null,null,null,null,null,null,12,null,null,null,null,null,null,null,null,null,null,null,null,null,"Příjmy - výdaje",null,null,null,null,null,null,{"$f":"BB157-BB156","v":0},null,null,null,{"$f":"BB158*12","v":0},null,null,null,null,{"$f":"BK157-BK156","v":0},null,null,null,{"$f":"BK158*12","v":0},null,null,null,null,{"$f":"BK158-BB158","v":0},null,null,null,{"$f":"BO158-BF158","v":0}]
[null,null,0,0,null,null,null,null,null,null,null,null,null,null,null,null,null,null,"Jiné - zadejte",null,null,null,null,null,null,null,null,null,null,null,null,null,12]
[null,null,0,0,null,null,null,null,null,null,null,null,null,null,null,null,null,null,"Jiné - zadejte",null,null,null,null,null,null,null,null,null,null,null,null,null,12]
[null,null,{"$f":"SUM(C155:C160)","v":0},{"$f":"SUM(D155:D160)","v":0},null,null,null,null,null,null,null,null,null,null,null,null,null,null,null,null,null,null,null,null,null,null,null,null,null,null,null,null,null,"Měsíční příjmy celkem",{"$f":"(C161+D161)/12","v":0}]
[null,null,null,{"$f":"AG162*AM162","v":0}]
[]
[]
[]
[]
[]
[]
[]
[false,null,null,null,null,null,null,null,null,null,null,null,null,null,null,null,null,null,"Zajištění příjmu"]
[null,null,null,null,null,null,{"$f":"IF(AF171=0,0,1)","v":0},null,null,null,null,null,null,null,null,null,null,null,"Požadavek klienta",null,null,null,null,null,null,null,null,null,null,null,null,null,null,null,null,null,null,null,null,null,null,null,null,null,null,null,null,null,null,null,null,null,null,null,null,null,null,null,null,null,null,null,null,null,null,null,null,null,null,null,null,null,null,null,null,null,null,null,null,null,null,null,null,null,null,null,null,null,null,null,null,null,null,null,null,null,null,null,null,null,null,null,null,null,null,null,null,null,null,{"$f":"AF171","v":0}]
[false,null,null,null,null,null,{"$f":"IF(AF172=0,0,1)","v":0},null,null,null,null,null,null,null,null,null,null,null,"Návrh řešení, doporučené produkty"]
[false]
[null,null,null,null,null,null,{"$f":"AF176+AQ176","v":0},null,null,null,null,null,null,null,null,null,null,null,"X násobek čistého ročního příjmu",null,null,null,null,null,null,null,null,null,null,null,null,null,"X = ",null,null,null,null,{"$f":"AF13*12*AH174","v":0},null,null,null,null,null,"X = ",null,null,null,null,{"$f":"AQ13*12*AS174","v":0}]
[null,null,null,null,null,null,null,null,null,null,null,null,null,null,null,null,null,null,"Úvěry k vyrovnání",null,null,null,null,null,null,null,null,null,null,null,null,null,null,null,null,null,null,null,null,null,null,null,null,null,null,null,null,null,null,null,null,null,null,"nesjednávat",null,null,null,null,null,null,null,null,null,null,"nesjednávat",null,null,null,null,null,null,null,null,null,null,"nesjednávat"]
[null,null,null,null,null,null,null,null,null,null,null,null,null,null,null,null,null,null,"Pojistná částka",null,null,null,null,null,null,null,null,null,null,null,null,{"$f":"AL174+AF175","v":0},null,null,null,null,null,null,null,null,null,null,{"$f":"AW174+AQ175","v":0}]
[]
[0]
[0,null,null,null,null,null,null,null,null,null,null,null,null,null,null,null,null,null,null,null,null,null,null,null,null,null,null,null,null,null,"Informace","Cíl - zajištění pozůstalých a vyrovnání závazků\nDoporučená výše zajištění = výše nezajištěných závazků + 2x až 5x čistý roční příjem klienta (dle potřeb pozůstalých - především počet a stáří dětí).\nJe rozumné sjednat degresivní plnění, protože s rostoucím věkem klesá potřeba zajištění a předpokládá se umořování závazků klientem.\nV případě nezajištěných závazků u partnerů se jejich výše mezi partnery rozloží v jimi požadovaném poměru, především s ohledem na příjem."]
[false]
[]
[]
[]
[null,null,null,null,null,null,{"$f":"AF184+AL184+AQ184+AW184+BB184+BH184+BM184+BS184+BX184+CD184","v":0},null,null,null,null,null,null,null,null,null,null,null,"Měsíční dávky / závazky ke splacení",null,null,null,null,null,null,null,null,null,null,null,null,null,null,null,null,null,"/",null,null,null,null,null,null,null,null,null,null,"/",null,null,null,null,null,null,null,null,null,null,"/",null,null,null,null,null,null,null,null,null,null,"/",null,null,null,null,null,null,null,null,null,null,"/"]
[null,null,null,null,null,null,null,null,null,null,null,null,null,null,null,null,null,null,"Očekávaný inv. důch., popř. jiné dávky"]
[null,null,null,null,null,null,null,null,null,null,null,null,null,null,null,null,null,null,"Roky rozpouštění, PČ, míra zhod.",null,null,null,null,null,null,null,null,null,null,null,null,null,null,{"$f":"-PV((1+AN186)^(1/12)-1,AF186*12,AF184-AH185,0)+AL184","v":0},null,null,null,null,null,null,null,null,null,null,{"$f":"-PV((1+AY186)^(1/12)-1,AQ186*12,AQ184-AS185,0)+AW184","v":0},null,null,null,null,null,null,null,null,null,null,{"$f":"-PV((1+BJ186)^(1/12)-1,BB186*12,BB184-BD185,0)+BH184","v":0},null,null,null,null,null,null,null,null,null,null,{"$f":"-PV((1+BU186)^(1/12)-1,BM186*12,BM184-BO185,0)+BS184","v":0},null,null,null,null,null,null,null,null,null,null,{"$f":"-PV((1+CF186)^(1/12)-1,BX186*12,BX184-BZ185,0)+CD184","v":0}]
[0,null,null,null,null,null,null,null,null,null,null,null,null,null,null,null,null,null,"Investovaná PČ, míra zhodnocení",null,null,null,null,null,null,null,null,null,null,null,null,null,null,{"$f":"IF(AN187=0,0,12*(AF184-AH185)/AN187+AL184)","v":0},null,null,null,null,null,null,null,null,null,null,{"$f":"IF(AY187=0,0,12*(AQ184-AS185)/AY187+AW184)","v":0},null,null,null,null,null,null,null,null,null,null,{"$f":"IF(BJ187=0,0,12*(BB184-BD185)/BJ187+BH184)","v":0},null,null,null,null,null,null,null,null,null,null,{"$f":"IF(BU187=0,0,12*(BM184-BO185)/BU187+BS184)","v":0},null,null,null,null,null,null,null,null,null,null,{"$f":"IF(CF187=0,0,12*(BX184-BZ185)/CF187+CD184)","v":0}]
[0,null,null,null,null,null,null,null,null,null,null,null,null,null,null,null,null,null,null,null,null,null,null,null,null,null,null,null,null,null,"Informace","Cíl - dorovnání příjmu (v roce 2011 činí průměrná výše plného invalidního důchodu cca 11 000) do výše původního příjmu, popř. vyrovnání závazků\nDoporučená výše zajištění\nvar. 1 - Dávky, které budou do odchodu do důchodu dorovnávat výpadek příjmu. Po odchodu do důchodu nastává čerpání naspořeného důchodu.\nvar. 2 - Pojistná částka, ze které bude klient do odchodu do důchodu dorovnávat výpadek příjmu popř. z ní navíc vyrovná závazky – buď jejím rozpouštěním (je rozumné sjednat degresivní plnění, protože se krátí doba do důchodu = doba po kterou je potřeba PČ rozpouštět a s rostoucím věkem také klesá potřeba zajištění a předpokládá se umořování závazků klientem) nebo vybíráním zisků z investované PČ (po odchodu do důchodu zůstává klientovi celá investovaná PČ).\nMinimálně zajistit splacení / schopnost splácení finančních závazků\nDěti individuálně - aby mohli vést plnohodnotný život\nVe výpočtech nejsou žádným způsobem zohledněny daně\n\nK dispozici jsou zpravidla tyto produkty:\nPlná invalidita                                             výplata v případě přiznání invalidity 3. stupně z důvodu úrazu nebo nemoci\nTrvalé následky úrazu                             výplata v případě jakýchkoli TN způsobených úrazem\nZproštění od placení pojistného    většinou rozsah jako „Pracovní neschopnost“, ale plnění omezeno pouze na pojistné za příslušné pojištění\nZávažná onemocnění                             výplata při diagnóze v pojistných podmínkách vyjmenovaných závažných onemocnění. Buď dojde k vyléčení (po dobu léčení by klient měl mít sjednáno pojištění pro případ dočasné pracovní neschopnosti) nebo nastane invalidita 1., 2. nebo 3. stupně. Invaliditu 3. stupně je výhodnější zajistit „Plnou invaliditou“ – je sice o něco dražší, ale vztahuje se na veškeré nemoci a úrazy. Pojištěním závažných onemocnění není výhodné zajišťovat dlouhodobý výpadek příjmu, je lépe ho chápat jako jednorázové „bolestné“.\n"]
[false]
[]
[]
[]
[null,null,null,null,null,null,null,null,null,null,null,null,null,null,null,null,null,null,"OSVČ nemocensky pojištěn"]
[null,null,null,null,null,null,{"$f":"AF194+AQ194","v":0},null,null,null,null,null,null,null,null,null,null,null,"Požadovaný měsíční příjem = A",null,null,null,null,null,null,null,null,null,null,null,null,null,null,null,null,null,"/",{"$f":"AF194/30","v":0},null,null,null,null,null,null,null,null,null,"/",{"$f":"AQ194/30","v":0}]
[null,null,null,null,null,null,null,null,null,null,null,null,null,null,null,null,null,null,"Nemocenská (orientačně!) = B",null,null,null,null,null,null,null,null,null,null,null,null,{"$f":"30*AL195","v":0},null,null,null,null,"/",{"$f":"IF(AND(B7=TRUE,AJ193=\"NE\"),0,Vypocty0!Y8)","v":0},null,null,null,null,{"$f":"30*AW195","v":0},null,null,null,null,"/",{"$f":"IF(AND(C7=TRUE,AU193=\"NE\"),0,Vypocty0!Y33)","v":0},null,null,null,null,"nesjednávat",null,null,null,null,null,null,null,null,null,null,"nesjednávat",null,null,null,null,null,null,null,null,null,null,"nesjednávat"]
[0,null,null,null,null,null,null,null,null,null,null,null,null,null,null,null,null,null,"Potřebné dorovnání (A-B)",null,null,null,null,null,null,null,null,null,null,null,null,{"$f":"AF194-AF195","v":0},null,null,null,null,"/",{"$f":"AL194-AL195","v":0},null,null,null,null,{"$f":"AQ194-AQ195","v":0},null,null,null,null,"/",{"$f":"AW194-AW195","v":0}]
[0,null,null,null,null,null,null,null,null,null,null,null,null,null,null,null,null,null,null,null,null,null,null,null,null,null,null,null,null,null,"Informace","Cíl - dorovnání příjmu do výše původního příjmu\nDoporučená výše zajištění\nDávky, které budou po dobu pobytu na \"neschopence\" dorovnávat výpadek příjmu.\nMinimálně zajistit schopnost splácení finančních závazků.\n\nK dispozici jsou zpravidla tyto produkty:\nPracovní neschopnost                         jakákoli nemoc nebo úraz který klienta přivede na neschopenku – doma nebo v nemocnici\nDoba nezbytného léčení úrazu      jakýkoli úraz – s neschopenkou i bez ní – doma nebo v nemocnici\nPobyt v nemocnici                                 jakákoli nemoc nebo úraz který klienta přivede do nemocnice\nTělesné poškození úrazem                pouze vyjmenované úrazy – s neschopenkou i bez ní – doma nebo v nemocnici\nSplátky úvěru                                              většinou rozsah jako „Pracovní neschopnost“, ale plnění omezeno pouze na splátky úvěru\nPravidelné výdaje                                    většinou rozsah jako \"Prac. nesch.\", ale plnění omezeno pouze na prav. výdaje vyjm. v poj. podm. (např. inkaso)\nZproštění od placení pojistného    většinou rozsah jako „Pracovní neschopnost“, ale plnění omezeno pouze na pojistné za příslušné pojištění"]
[]
[false]
[false]
[null,null,null,null,null,null,{"$f":"AF201+AQ201","v":0},null,null,null,null,null,null,null,null,null,null,null,"Požadovaný měsíční příjem = A",null,null,null,null,null,null,null,null,null,null,null,null,null,null,null,null,null,"/",{"$f":"AF201/30","v":0},null,null,null,null,null,null,null,null,null,"/",{"$f":"AQ201/30","v":0}]
[null,null,null,null,null,null,null,null,null,null,null,null,null,null,null,null,null,null,"Ø podpora vyplacená PÚ (orientačně!) = B",null,null,null,null,null,null,null,null,null,null,null,null,{"$f":"IF(ISNUMBER(Vypocty0!AQ26),Vypocty0!AQ26,0)","v":0},null,null,null,null,"/",{"$f":"AF202/30","v":0},null,null,null,null,{"$f":"IF(ISNUMBER(Vypocty0!AQ49),Vypocty0!AQ49,0)","v":0},null,null,null,null,"/",{"$f":"AQ202/30","v":0},null,null,null,null,"nesjednávat",null,null,null,null,null,null,null,null,null,null,"nesjednávat",null,null,null,null,null,null,null,null,null,null,"nesjednávat"]
[null,null,null,null,null,null,null,null,null,null,null,null,null,null,null,null,null,null,"Potřebné dorovnání (A-B)",null,null,null,null,null,null,null,null,null,null,null,null,{"$f":"AF201-AF202","v":0},null,null,null,null,"/",{"$f":"AL201-AL202","v":0},null,null,null,null,{"$f":"AQ201-AQ202","v":0},null,null,null,null,"/",{"$f":"AW201-AW202","v":0}]
[null,null,null,null,null,null,null,null,null,null,null,null,null,null,null,null,null,null,"Ostatní pojištění osob (úrazové pojištění dětí, …)"]
[0,null,null,null,null,null,null,null,null,null,null,null,null,null,null,null,null,null,"Požadavek klienta"]
[0,null,null,null,null,null,null,null,null,null,null,null,null,null,null,null,null,null,"Návrh řešení, doporučené produkty"]
[]
[1,null,null,null,null,null,null,null,null,null,null,null,null,null,null,null,null,null,null,null,null,null,null,null,null,null,null,null,null,null,"Informace","Cíl - dorovnání příjmu do výše původního příjmu\nDoporučená výše zajištění\nDávky, které budou po dobu příjmu podpory dorovnávat výpadek příjmu.\nMinimálně zajistit schopnost splácení finančních závazků.\n\nK dispozici jsou zpravidla tyto produkty:\nSplátky úvěru                                               většinou rozsah jako „Pracovní neschopnost“, ale plnění omezeno pouze na splátky úvěru\nPravidelné výdaje                                     většinou rozsah jako \"Prac. nesch.\", ale plnění omezeno pouze na prav. výdaje vyjm. v poj. podm. (např. inkaso)\nZproštění od placení pojistného     většinou rozsah jako „Pracovní neschopnost“, ale plnění omezeno pouze na pojistné za příslušné pojištění"]
[false,null,null,null,null,null,null,null,null,null,null,null,null,null,null,null,null,null,"Penze formou finančního důchodu"]
[null,null,null,null,null,null,{"$f":"IF(AF210=0,0,1)","v":0},null,null,null,null,null,null,null,null,null,null,null,"Požadavek klienta"]
[null,null,null,null,null,null,{"$f":"IF(AF211=0,0,1)","v":0},null,null,null,null,null,null,null,null,null,null,null,"Návrh řešení"]
[null,null,null,null,null,null,{"$f":"AF212+AQ212","v":0},null,null,null,null,null,null,null,null,null,null,null,"Požadovaný důchod v souč. / bud.",null,null,null,null,null,null,null,null,null,null,1.4999999999999999E-2,null,null,null,null,null,null,"/",{"$f":"-FV(AD212/12,12*AF14,0,AF212,1)","v":0},null,null,null,null,null,null,null,null,null,"/",{"$f":"-FV(AD212/12,12*AQ14,0,AQ212,1)","v":0}]
[null,null,null,null,null,null,null,null,null,null,null,null,null,null,null,null,null,null,"Starobní důchod"]
[null,null,null,null,null,null,null,null,null,null,null,null,null,null,null,null,null,null,"Doba výplaty / naspoř. suma / míra zhod.",null,null,null,null,null,null,null,null,null,null,null,null,null,null,{"$f":"-PV(AN214/12,AF214*12,AL212-AH213,0,1)","v":0},null,null,null,null,null,null,null,null,null,null,{"$f":"-PV(AY214/12,AQ214*12,AW212-AS213,0,1)","v":0}]
[null,null,null,null,null,null,null,null,null,null,null,null,null,null,null,null,null,null,"Naspořená suma, míra zhodnocení",null,null,null,null,null,null,null,null,null,null,null,null,null,null,{"$f":"IF(AN215=0,0,12*(AL212-AH213)/AN215)","v":0},null,null,null,null,null,null,null,null,null,null,{"$f":"IF(AY215=0,0,12*(AW212-AS213)/AY215)","v":0}]
[]
[]
[]
[]
[0]
[0,null,null,null,null,null,null,null,null,null,null,null,null,null,null,null,null,null,null,null,null,null,null,null,null,null,null,null,null,null,"Informace","Cíl - dorovnání státní penze do klientem požadované výše (doporučená doba výplaty naspořené penze - 20 let)\n\nK dispozici jsou zpravidla tyto produkty:\nPenzijní připojištění\nInvestice do fondů\nInvestice do Life-Cycle produktů\nRezevotvorná část životního pojištění\nNákup nemovitosti, během ekonomicky aktivního života její splacení a v důchodu její pronájem nebo prodej"]
[]
[]
[null,null,null,null,null,null,null,null,null,null,null,null,null,null,null,null,null,null,"Ztráta zaměstnání"]
[null,null,null,null,null,null,null,null,null,null,null,null,null,null,null,null,null,null,null,null,null,null,null,null,null,null,null,null,null,null,"požadavek klienta","fbdfb"]
[null,null,null,null,null,null,null,null,null,null,null,null,null,null,null,null,null,null,null,null,null,null,null,null,null,null,null,null,null,null,"návrh řešení","dfbdf"]
[]
[null,null,null,null,null,null,null,null,null,null,null,null,null,null,null,null,null,null,null,null,null,null,null,null,null,null,null,null,null,null,"požadovaný měsíční příjem = A",20000,null,null,null,"/",null,{"$f":"AF228/30","v":666.66666666666663}]
[null,null,null,null,null,null,null,null,null,null,null,null,null,null,null,null,null,null,null,null,null,null,null,null,null,null,null,null,null,null,"Ø podpora vyplacená PÚ = B",{"$f":"Vypocty0!AQ26","v":{"$error":"#DIV/0!"}},null,null,null,"/",null,{"$f":"AF229/3","v":{"$error":"#DIV/0!"}}]
[null,null,null,null,null,null,null,null,null,null,null,null,null,null,null,null,null,null,null,null,null,null,null,null,null,null,null,null,null,null,"potřebné dorovnání (A-B)",{"$f":"AF228-AF229","v":{"$error":"#DIV/0!"}},null,null,null,"/",null,{"$f":"AL228-AL229","v":{"$error":"#DIV/0!"}}]
[]
[]
[]
[]
[false,null,null,null,null,null,null,null,null,null,null,null,null,null,null,null,null,null,"Financování bydlení"]
[null,null,null,null,null,null,{"$f":"IF(AF236=0,0,1)","v":0},null,null,null,null,null,null,null,null,null,null,null,"Požadavek klienta"]
[null,null,null,null,null,null,{"$f":"IF(AF237=0,0,1)","v":0},null,null,null,null,null,null,null,null,null,null,null,"Návrh řešení"]
[null,null,null,null,null,null,{"$f":"AF238+AS238+BI238","v":0},null,null,null,null,null,null,null,null,null,null,null,"Cena nemovitosti",null,null,null,null,null,null,null,null,null,null,null,null,null,null,null,null,null,null,null,null,null,null,null,null,"Výše úvěru",null,null,null,null,null,null,null,null,null,null,null,null,null,null,null,"Požadovaný počet roků splácení"]
[null,null,null,null,null,null,{"$f":"IF(OR(AF239=\"\",AF239=0),0,1)","v":0},null,null,null,null,null,null,null,null,null,null,null,"Řešení 1"]
[null,null,null,null,null,null,{"$f":"IF(OR(AF240=\"\",AF240=0),0,1)","v":0},null,null,null,null,null,null,null,null,null,null,null,"Řešení 2"]
[null,null,null,null,null,null,{"$f":"IF(OR(AF241=\"\",AF241=0),0,1)","v":0},null,null,null,null,null,null,null,null,null,null,null,"Řešení 3"]
[]
[]
[]
[]
[]
[]
[0,null,null,null,null,null,null,null,null,null,null,null,null,null,null,null,null,null,null,null,null,null,null,null,null,null,null,null,null,null,"Informace","Cíl - zajištění finančních zdrojů za účelem nákupu nemovitosti\n\nK dispozici jsou zpravidla tyto produkty:\nHypoteční úvěry\nStavební spoření / úvěry ze stavebního spoření"]
[]
[]
[false,null,null,null,null,null,null,null,null,null,null,null,null,null,null,null,null,null,"Pojištění majetku / odpovědnosti"]
[null,null,null,null,null,null,{"$f":"IF(AF252=0,0,1)","v":0},null,null,null,null,null,null,null,null,null,null,null,"Požadavek klienta"]
[null,null,null,null,null,null,{"$f":"IF(AF253=0,0,1)","v":0},null,null,null,null,null,null,null,null,null,null,null,"Návrh řešení"]
[null,null,null,null,null,null,{"$f":"AQ254+BO254","v":0},null,null,null,null,null,null,null,null,null,null,null,"Domácnost 1",null,null,null,null,null,null,null,null,null,null,null,null,null,null,null,"m2","X",null,null,null,"Kč/m2",null,"=",{"$f":"AF254*AK254","v":0},null,null,null,"Kč",null,null,null,null,null,null,null,"Domácnost 2",null,null,null,"m2","X",null,null,null,"Kč/m2",null,"=",{"$f":"BD254*BI254","v":0},null,null,null,"Kč"]
[null,null,null,null,null,null,{"$f":"AQ255+BO255","v":0},null,null,null,null,null,null,null,null,null,null,null,"Stavba 1",null,null,null,null,null,null,null,null,null,null,null,null,null,null,null,"m2","X",null,null,null,"Kč/m2",null,"=",{"$f":"AF255*AK255","v":0},null,null,null,"Kč",null,null,null,null,null,null,null,"Stavba 2",null,null,null,"m2","X",null,null,null,"Kč/m2",null,"=",{"$f":"BD255*BI255","v":0},null,null,null,"Kč"]
[null,null,null,null,null,null,{"$f":"AQ256+BO256","v":0},null,null,null,null,null,null,null,null,null,null,null,"Bytová jednotka 1",null,null,null,null,null,null,null,null,null,null,null,null,null,null,null,"m2","X",null,null,null,"Kč/m3",null,"=",{"$f":"AF256*AK256","v":0},null,null,null,"Kč",null,null,null,null,null,null,null,"Bytová jednotka 2",null,null,null,"m2","X",null,null,null,"Kč/m3",null,"=",{"$f":"BD256*BI256","v":0},null,null,null,"Kč"]
[]
[]
[]
[]
[]
[0,null,null,null,null,null,null,null,null,null,null,null,null,null,null,null,null,null,null,null,null,null,null,null,null,null,null,null,null,null,"Informace","Cíl - zabezpečení majetku pro případ především živelní škody, odcizení popř. havárie. Dále pojištění odpovědnosti.\n\nMajetek pojistit především pro případ živelních nebezpečí a odcizení. Pojišťovat vždy na \"Novou cenu\" = cena, za kterou je možno danou věc pořídit zcela novou. POZOR - kupní cena se může od nové ceny zásadně lišit. Kupní cena staré nemovitosti v levné lokalitě může být zlomken nové ceny, ovšem v případě totální škody bude chtít klient nemovitost postavit zcela novou za současné ceny - jinak ani nelze, nemůže si v obchodě koupit starou nemovitost a postavit si ji na svůj pozemek. \nOdpovědnost v občanském životě (pojistka na blbost) je podceňovaným produktem, ze kterého se ovšem hradí veškeré neúmyslně způsobené škody na cizím majetku či zdraví. Pojištění se většinou poskytuje v rámci pojištění domácnosti a bývají v něm zahrnuty i škody způsobené dětmi popř. domácími zvířaty. Jedná se v podstatě o povinné ručení pro lidi."]
[]
[]
[]
[]
[]
[false,null,null,null,null,null,null,null,null,null,null,null,null,null,null,null,null,null,"Investice"]
[null,null,null,null,null,null,{"$f":"IF(AF269=0,0,1)","v":0},null,null,null,null,null,null,null,null,null,null,null,"Požadavek klienta"]
[null,null,null,null,null,null,{"$f":"IF(AF270=0,0,1)","v":0},null,null,null,null,null,null,null,null,null,null,null,"Návrh řešení"]
[0,null,null,null,null,null,{"$f":"CC271","v":0},null,null,null,null,null,null,null,null,null,null,null,"Var. 1",null,null,null,null,null,null,null,null,null,null,null,"Jednorázový vklad na počátku",null,null,null,null,null,null,null,null,null,null,null,null,"Pravidelný měsíční vklad",null,null,null,null,null,null,null,null,null,null,null,null,"Počet roků investování",null,null,null,null,null,null,null,null,null,null,null,null,"Průměrné roční zhodnocení",null,null,null,null,null,null,null,null,null,"Výsledná suma",{"$f":"ROUND(FV(BS271,BF271,-12*AS271,-1*AF271,1),0)","v":0}]
[null,null,null,null,null,null,{"$f":"CC272","v":0},null,null,null,null,null,null,null,null,null,null,null,"Var. 2",null,null,null,null,null,null,null,null,null,null,null,"Jednorázový vklad na počátku",null,null,null,null,null,null,null,null,null,null,null,null,"Pravidelný měsíční vklad",null,null,null,null,null,null,null,null,null,null,null,null,"Počet roků investování",null,null,null,null,null,null,null,null,null,null,null,null,"Průměrné roční zhodnocení",null,null,null,null,null,null,null,null,null,"Výsledná suma",{"$f":"ROUND(FV(BS272,BF272,-12*AS272,-1*AF272,1),0)","v":0}]
[false,null,null,null,null,null,null,null,null,null,null,null,null,null,null,null,null,null,"Úvěry jiné než na bydlení - jejich optimalizace"]
[null,null,null,null,null,null,{"$f":"IF(AF274=0,0,1)","v":0},null,null,null,null,null,null,null,null,null,null,null,"Požadavek klienta"]
[null,null,null,null,null,null,{"$f":"IF(AF275=0,0,1)","v":0},null,null,null,null,null,null,null,null,null,null,null,"Návrh řešení"]
[]
[]
[]
[]
[0,null,null,null,null,null,null,null,null,null,null,null,null,null,null,null,null,null,null,null,null,null,null,null,null,null,null,null,null,null,"Informace","Cíl - přizpůsobení výše a frekvence splátek klientovým možnostem a případné snížení nákladů spojených s úvěry."]
[]
[]
[]
[]
[]
[]
[]
[false,null,null,null,null,null,null,null,null,null,null,null,null,null,null,null,null,null,"Jiné"]
[null,null,null,null,null,null,{"$f":"IF(AF289=0,0,1)","v":0},null,null,null,null,null,null,null,null,null,null,null,"Požadavek klienta"]
[null,null,null,null,null,null,{"$f":"IF(AF290=0,0,1)","v":0},null,null,null,null,null,null,null,null,null,null,null,"Návrh řešení"]
[]
[]
[]
[0,null,null,null,null,null,null,null,null,null,null,null,null,null,null,null,null,null,null,null,null,null,null,null,null,null,null,null,null,null,"Informace"]

{"sheet":"Export","index":5,"n_rows":510,"n_cols":15,"rows_kept":510,"cut":false,"hidden":false,"merged":[]}
[]
[]
[]
[]
[null,null,null,null,null,"verze",{"$f":"Verze!B5","v":2}]
[null,null,null,null,null,"počet polí",520]
[null,null,null,null,null,"datum",{"$f":"TODAY()","v":"2015-04-13"}]
[null,null,null,null,null,"nazev planu navrhovaný",{"$f":"\"FP - \" & Vstupy!AI10 & \" \" & Vstupy!AF9 & \" \" & TEXT(TODAY(),\"rrrrmmdd\")","v":"FP -   rrrr0413"}]
[null,null,null,null,null,null,"FP"]
[null,null,"Vstupy"]
[null,null,null,"personalie"]
[null,null,null,null,"Klient",null,{"$f":"IF(Vstupy!AI10=\"\",\"\",Vstupy!AI10)","v":""},null,null,null,null,null,null,null,"#Vstupy!AI10"]
[null,null,null,null,null,"OSVC",{"$f":"IF(Vstupy!B7=\"\",\"\",Vstupy!B7)","v":false},null,null,null,null,null,null,null,"#Vstupy!B7"]
[null,null,null,null,null,null,{"$f":"IF(Vstupy!AF9=\"\",\"\",Vstupy!AF9)","v":""},null,null,null,null,null,null,null,"#Vstupy!AF9"]
[null,null,null,null,null,null,{"$f":"IF(Vstupy!AF10=\"\",\"\",Vstupy!AF10)","v":""},null,null,null,null,null,null,null,"#Vstupy!AF10"]
[null,null,null,null,null,null,{"$f":"IF(Vstupy!AF11=\"\",\"\",Vstupy!AF11)","v":""},null,null,null,null,null,null,null,"#Vstupy!AF11"]
[null,null,null,null,null,null,{"$f":"IF(Vstupy!AF12=\"\",\"\",Vstupy!AF12)","v":""},null,null,null,null,null,null,null,"#Vstupy!AF12"]
[null,null,null,null,null,null,{"$f":"IF(Vstupy!AF13=\"\",\"\",Vstupy!AF13)","v":""},null,null,null,null,null,null,null,"#Vstupy!AF13"]
[null,null,null,null,null,null,{"$f":"IF(Vstupy!AF14=\"\",\"\",Vstupy!AF14)","v":""},null,null,null,null,null,null,null,"#Vstupy!AF14"]
[null,null,null,null,null,null,{"$f":"IF(Vstupy!AF15=\"\",\"\",Vstupy!AF15)","v":""},null,null,null,null,null,null,null,"#Vstupy!AF15"]
[null,null,null,null,null,null,{"$f":"IF(Vstupy!AF16=\"\",\"\",Vstupy!AF16)","v":""},null,null,null,null,null,null,null,"#Vstupy!AF16"]
[null,null,null,null,null,null,{"$f":"IF(Vstupy!AF17=\"\",\"\",Vstupy!AF17)","v":""},null,null,null,null,null,null,null,"#Vstupy!AF17"]
[null,null,null,null,null,null,{"$f":"IF(Vstupy!AF18=\"\",\"\",Vstupy!AF18)","v":""},null,null,null,null,null,null,null,"#Vstupy!AF18"]
[null,null,null,null,null,null,{"$f":"IF(Vstupy!AF19=\"\",\"\",Vstupy!AF19)","v":""},null,null,null,null,null,null,null,"#Vstupy!AF19"]
[null,null,null,null,null,null,{"$f":"IF(Vstupy!AF20=\"\",\"\",Vstupy!AF20)","v":""},null,null,null,null,null,null,null,"#Vstupy!AF20"]
[null,null,null,null,null,null,{"$f":"IF(Vstupy!AF21=\"\",\"\",Vstupy!AF21)","v":""},null,null,null,null,null,null,null,"#Vstupy!AF21"]
[null,null,null,null,null,null,{"$f":"IF(Vstupy!AF22=\"\",\"\",Vstupy!AF22)","v":""},null,null,null,null,null,null,null,"#Vstupy!AF22"]
[null,null,null,null,null,null,{"$f":"IF(Vstupy!AF23=\"\",\"\",Vstupy!AF23)","v":""},null,null,null,null,null,null,null,"#Vstupy!AF23"]
[null,null,null,null,null,null,{"$f":"IF(Vstupy!AF24=\"\",\"\",Vstupy!AF24)","v":""},null,null,null,null,null,null,null,"#Vstupy!AF24"]
[null,null,null,null,"partner",null,{"$f":"IF(Vstupy!AT10=\"\",\"\",Vstupy!AT10)","v":""},null,null,null,null,null,null,null,"#Vstupy!AT10"]
[null,null,null,null,null,"OSVC",{"$f":"IF(Vstupy!C7=\"\",\"\",Vstupy!C7)","v":false},null,null,null,null,null,null,null,"#Vstupy!C7"]
[null,null,null,null,null,null,{"$f":"IF(Vstupy!AQ9=\"\",\"\",Vstupy!AQ9)","v":""},null,null,null,null,null,null,null,"#Vstupy!AQ9"]
[null,null,null,null,null,null,{"$f":"IF(Vstupy!AQ10=\"\",\"\",Vstupy!AQ10)","v":""},null,null,null,null,null,null,null,"#Vstupy!AQ10"]
[null,null,null,null,null,null,{"$f":"IF(Vstupy!AQ11=\"\",\"\",Vstupy!AQ11)","v":""},null,null,null,null,null,null,null,"#Vstupy!AQ11"]
[null,null,null,null,null,null,{"$f":"IF(Vstupy!AQ12=\"\",\"\",Vstupy!AQ12)","v":""},null,null,null,null,null,null,null,"#Vstupy!AQ12"]
[null,null,null,null,null,null,{"$f":"IF(Vstupy!AQ13=\"\",\"\",Vstupy!AQ13)","v":""},null,null,null,null,null,null,null,"#Vstupy!AQ13"]
[null,null,null,null,null,null,{"$f":"IF(Vstupy!AQ14=\"\",\"\",Vstupy!AQ14)","v":""},null,null,null,null,null,null,null,"#Vstupy!AQ14"]
[null,null,null,null,null,null,{"$f":"IF(Vstupy!AQ15=\"\",\"\",Vstupy!AQ15)","v":""},null,null,null,null,null,null,null,"#Vstupy!AQ15"]
[null,null,null,null,null,null,{"$f":"IF(Vstupy!AQ16=\"\",\"\",Vstupy!AQ16)","v":""},null,null,null,null,null,null,null,"#Vstupy!AQ16"]
[null,null,null,null,null,null,{"$f":"IF(Vstupy!AQ17=\"\",\"\",Vstupy!AQ17)","v":""},null,null,null,null,null,null,null,"#Vstupy!AQ17"]
[null,null,null,null,null,null,{"$f":"IF(Vstupy!AQ18=\"\",\"\",Vstupy!AQ18)","v":""},null,null,null,null,null,null,null,"#Vstupy!AQ18"]
[null,null,null,null,null,null,{"$f":"IF(Vstupy!AQ19=\"\",\"\",Vstupy!AQ19)","v":""},null,null,null,null,null,null,null,"#Vstupy!AQ19"]
[null,null,null,null,null,null,{"$f":"IF(Vstupy!AQ20=\"\",\"\",Vstupy!AQ20)","v":""},null,null,null,null,null,null,null,"#Vstupy!AQ20"]
[null,null,null,null,null,null,{"$f":"IF(Vstupy!AQ21=\"\",\"\",Vstupy!AQ21)","v":""},null,null,null,null,null,null,null,"#Vstupy!AQ21"]
[null,null,null,null,null,null,{"$f":"IF(Vstupy!AQ22=\"\",\"\",Vstupy!AQ22)","v":""},null,null,null,null,null,null,null,"#Vstupy!AQ22"]
[null,null,null,null,null,null,{"$f":"IF(Vstupy!AQ23=\"\",\"\",Vstupy!AQ23)","v":""},null,null,null,null,null,null,null,"#Vstupy!AQ23"]
[null,null,null,null,null,null,{"$f":"IF(Vstupy!AQ24=\"\",\"\",Vstupy!AQ24)","v":""},null,null,null,null,null,null,null,"#Vstupy!AQ24"]
[null,null,null,null,"dite1",null,{"$f":"IF(Vstupy!BB9=\"\",\"\",Vstupy!BB9)","v":""},null,null,null,null,null,null,null,"#Vstupy!BB9"]
[null,null,null,null,null,null,{"$f":"IF(Vstupy!BB10=\"\",\"\",Vstupy!BB10)","v":""},null,null,null,null,null,null,null,"#Vstupy!BB10"]
[null,null,null,null,null,null,{"$f":"IF(Vstupy!BB11=\"\",\"\",Vstupy!BB11)","v":""},null,null,null,null,null,null,null,"#Vstupy!BB11"]
[null,null,null,null,null,null,{"$f":"IF(Vstupy!BB12=\"\",\"\",Vstupy!BB12)","v":""},null,null,null,null,null,null,null,"#Vstupy!BB12"]
[null,null,null,null,null,null,{"$f":"IF(Vstupy!BB13=\"\",\"\",Vstupy!BB13)","v":""},null,null,null,null,null,null,null,"#Vstupy!BB13"]
[null,null,null,null,null,null,{"$f":"IF(Vstupy!BB14=\"\",\"\",Vstupy!BB14)","v":""},null,null,null,null,null,null,null,"#Vstupy!BB14"]
[null,null,null,null,null,null,{"$f":"IF(Vstupy!BB15=\"\",\"\",Vstupy!BB15)","v":""},null,null,null,null,null,null,null,"#Vstupy!BB15"]
[null,null,null,null,null,null,{"$f":"IF(Vstupy!BB16=\"\",\"\",Vstupy!BB16)","v":""},null,null,null,null,null,null,null,"#Vstupy!BB16"]
[null,null,null,null,null,null,{"$f":"IF(Vstupy!BB17=\"\",\"\",Vstupy!BB17)","v":""},null,null,null,null,null,null,null,"#Vstupy!BB17"]
[null,null,null,null,null,null,{"$f":"IF(Vstupy!BB18=\"\",\"\",Vstupy!BB18)","v":""},null,null,null,null,null,null,null,"#Vstupy!BB18"]
[null,null,null,null,null,null,{"$f":"IF(Vstupy!BB19=\"\",\"\",Vstupy!BB19)","v":""},null,null,null,null,null,null,null,"#Vstupy!BB19"]
[null,null,null,null,null,null,{"$f":"IF(Vstupy!BB20=\"\",\"\",Vstupy!BB20)","v":""},null,null,null,null,null,null,null,"#Vstupy!BB20"]
[null,null,null,null,null,null,{"$f":"IF(Vstupy!BB21=\"\",\"\",Vstupy!BB21)","v":""},null,null,null,null,null,null,null,"#Vstupy!BB21"]
[null,null,null,null,"dite2",null,{"$f":"IF(Vstupy!BM9=\"\",\"\",Vstupy!BM9)","v":""},null,null,null,null,null,null,null,"#Vstupy!BM9"]
[null,null,null,null,null,null,{"$f":"IF(Vstupy!BM10=\"\",\"\",Vstupy!BM10)","v":""},null,null,null,null,null,null,null,"#Vstupy!BM10"]
[null,null,null,null,null,null,{"$f":"IF(Vstupy!BM11=\"\",\"\",Vstupy!BM11)","v":""},null,null,null,null,null,null,null,"#Vstupy!BM11"]
[null,null,null,null,null,null,{"$f":"IF(Vstupy!BM12=\"\",\"\",Vstupy!BM12)","v":""},null,null,null,null,null,null,null,"#Vstupy!BM12"]
[null,null,null,null,null,null,{"$f":"IF(Vstupy!BM13=\"\",\"\",Vstupy!BM13)","v":""},null,null,null,null,null,null,null,"#Vstupy!BM13"]
[null,null,null,null,null,null,{"$f":"IF(Vstupy!BM14=\"\",\"\",Vstupy!BM14)","v":""},null,null,null,null,null,null,null,"#Vstupy!BM14"]
[null,null,null,null,null,null,{"$f":"IF(Vstupy!BM15=\"\",\"\",Vstupy!BM15)","v":""},null,null,null,null,null,null,null,"#Vstupy!BM15"]
[null,null,null,null,null,null,{"$f":"IF(Vstupy!BM16=\"\",\"\",Vstupy!BM16)","v":""},null,null,null,null,null,null,null,"#Vstupy!BM16"]
[null,null,null,null,null,null,{"$f":"IF(Vstupy!BM17=\"\",\"\",Vstupy!BM17)","v":""},null,null,null,null,null,null,null,"#Vstupy!BM17"]
[null,null,null,null,null,null,{"$f":"IF(Vstupy!BM18=\"\",\"\",Vstupy!BM18)","v":""},null,null,null,null,null,null,null,"#Vstupy!BM18"]
[null,null,null,null,null,null,{"$f":"IF(Vstupy!BM19=\"\",\"\",Vstupy!BM19)","v":""},null,null,null,null,null,null,null,"#Vstupy!BM19"]
[null,null,null,null,null,null,{"$f":"IF(Vstupy!BM20=\"\",\"\",Vstupy!BM20)","v":""},null,null,null,null,null,null,null,"#Vstupy!BM20"]
[null,null,null,null,null,null,{"$f":"IF(Vstupy!BM21=\"\",\"\",Vstupy!BM21)","v":""},null,null,null,null,null,null,null,"#Vstupy!BM21"]
[null,null,null,null,"dite3",null,{"$f":"IF(Vstupy!BX9=\"\",\"\",Vstupy!BX9)","v":""},null,null,null,null,null,null,null,"#Vstupy!BX9"]
[null,null,null,null,null,null,{"$f":"IF(Vstupy!BX10=\"\",\"\",Vstupy!BX10)","v":""},null,null,null,null,null,null,null,"#Vstupy!BX10"]
[null,null,null,null,null,null,{"$f":"IF(Vstupy!BX11=\"\",\"\",Vstupy!BX11)","v":""},null,null,null,null,null,null,null,"#Vstupy!BX11"]
[null,null,null,null,null,null,{"$f":"IF(Vstupy!BX12=\"\",\"\",Vstupy!BX12)","v":""},null,null,null,null,null,null,null,"#Vstupy!BX12"]
[null,null,null,null,null,null,{"$f":"IF(Vstupy!BX13=\"\",\"\",Vstupy!BX13)","v":""},null,null,null,null,null,null,null,"#Vstupy!BX13"]
[null,null,null,null,null,null,{"$f":"IF(Vstupy!BX14=\"\",\"\",Vstupy!BX14)","v":""},null,null,null,null,null,null,null,"#Vstupy!BX14"]
[null,null,null,null,null,null,{"$f":"IF(Vstupy!BX15=\"\",\"\",Vstupy!BX15)","v":""},null,null,null,null,null,null,null,"#Vstupy!BX15"]
[null,null,null,null,null,null,{"$f":"IF(Vstupy!BX16=\"\",\"\",Vstupy!BX16)","v":""},null,null,null,null,null,null,null,"#Vstupy!BX16"]
[null,null,null,null,null,null,{"$f":"IF(Vstupy!BX17=\"\",\"\",Vstupy!BX17)","v":""},null,null,null,null,null,null,null,"#Vstupy!BX17"]
[null,null,null,null,null,null,{"$f":"IF(Vstupy!BX18=\"\",\"\",Vstupy!BX18)","v":""},null,null,null,null,null,null,null,"#Vstupy!BX18"]
[null,null,null,null,null,null,{"$f":"IF(Vstupy!BX19=\"\",\"\",Vstupy!BX19)","v":""},null,null,null,null,null,null,null,"#Vstupy!BX19"]
[null,null,null,null,null,null,{"$f":"IF(Vstupy!BX20=\"\",\"\",Vstupy!BX20)","v":""},null,null,null,null,null,null,null,"#Vstupy!BX20"]
[null,null,null,null,null,null,{"$f":"IF(Vstupy!BX21=\"\",\"\",Vstupy!BX21)","v":""},null,null,null,null,null,null,null,"#Vstupy!BX21"]
[null,null,null,null,"adresa apod",null,{"$f":"IF(Vstupy!AI25=\"\",\"\",Vstupy!AI25)","v":""},null,null,null,null,null,null,null,"#Vstupy!AI25"]
[null,null,null,null,null,null,{"$f":"IF(Vstupy!AV25=\"\",\"\",Vstupy!AV25)","v":""},null,null,null,null,null,null,null,"#Vstupy!AV25"]
[null,null,null,null,null,null,{"$f":"IF(Vstupy!BB25=\"\",\"\",Vstupy!BB25)","v":""},null,null,null,null,null,null,null,"#Vstupy!BB25"]
[null,null,null,null,null,null,{"$f":"IF(Vstupy!AI26=\"\",\"\",Vstupy!AI26)","v":""},null,null,null,null,null,null,null,"#Vstupy!AI26"]
[null,null,null,null,null,null,{"$f":"IF(Vstupy!AV26=\"\",\"\",Vstupy!AV26)","v":""},null,null,null,null,null,null,null,"#Vstupy!AV26"]
[null,null,null,null,null,null,{"$f":"IF(Vstupy!BB26=\"\",\"\",Vstupy!BB26)","v":""},null,null,null,null,null,null,null,"#Vstupy!BB26"]
[null,null,null,"analýza příjmů a nákladů -bydlení, auto",null,null,{"$f":"IF(Vstupy!S88=\"\",\"\",Vstupy!S88)","v":"Jiné - zadejte"},null,null,null,null,null,null,null,"#Vstupy!S88"]
[null,null,null,null,null,null,{"$f":"IF(Vstupy!AE75=\"\",\"\",Vstupy!AE75)","v":12},null,null,null,null,null,null,null,"#Vstupy!AE75"]
[null,null,null,null,null,null,{"$f":"IF(Vstupy!AE76=\"\",\"\",Vstupy!AE76)","v":12},null,null,null,null,null,null,null,"#Vstupy!AE76"]
[null,null,null,null,null,null,{"$f":"IF(Vstupy!AE77=\"\",\"\",Vstupy!AE77)","v":12},null,null,null,null,null,null,null,"#Vstupy!AE77"]
[null,null,null,null,null,null,{"$f":"IF(Vstupy!AE78=\"\",\"\",Vstupy!AE78)","v":12},null,null,null,null,null,null,null,"#Vstupy!AE78"]
[null,null,null,null,null,null,{"$f":"IF(Vstupy!AE79=\"\",\"\",Vstupy!AE79)","v":12},null,null,null,null,null,null,null,"#Vstupy!AE79"]
[null,null,null,null,null,null,{"$f":"IF(Vstupy!AE80=\"\",\"\",Vstupy!AE80)","v":12},null,null,null,null,null,null,null,"#Vstupy!AE80"]
[null,null,null,null,null,null,{"$f":"IF(Vstupy!AE81=\"\",\"\",Vstupy!AE81)","v":12},null,null,null,null,null,null,null,"#Vstupy!AE81"]
[null,null,null,null,null,null,{"$f":"IF(Vstupy!AE82=\"\",\"\",Vstupy!AE82)","v":12},null,null,null,null,null,null,null,"#Vstupy!AE82"]
[null,null,null,null,null,null,{"$f":"IF(Vstupy!AE83=\"\",\"\",Vstupy!AE83)","v":12},null,null,null,null,null,null,null,"#Vstupy!AE83"]
[null,null,null,null,null,null,{"$f":"IF(Vstupy!AE84=\"\",\"\",Vstupy!AE84)","v":12},null,null,null,null,null,null,null,"#Vstupy!AE84"]
[null,null,null,null,null,null,{"$f":"IF(Vstupy!AE85=\"\",\"\",Vstupy!AE85)","v":12},null,null,null,null,null,null,null,"#Vstupy!AE85"]
[null,null,null,null,null,null,{"$f":"IF(Vstupy!AE86=\"\",\"\",Vstupy!AE86)","v":12},null,null,null,null,null,null,null,"#Vstupy!AE86"]
[null,null,null,null,null,null,{"$f":"IF(Vstupy!AE87=\"\",\"\",Vstupy!AE87)","v":12},null,null,null,null,null,null,null,"#Vstupy!AE87"]
[null,null,null,null,null,null,{"$f":"IF(Vstupy!AE88=\"\",\"\",Vstupy!AE88)","v":12},null,null,null,null,null,null,null,"#Vstupy!AE88"]
[null,null,null,null,null,null,{"$f":"IF(Vstupy!AG75=\"\",\"\",Vstupy!AG75)","v":""},null,null,null,null,null,null,null,"#Vstupy!AG75"]
[null,null,null,null,null,null,{"$f":"IF(Vstupy!AG76=\"\",\"\",Vstupy!AG76)","v":""},null,null,null,null,null,null,null,"#Vstupy!AG76"]
[null,null,null,null,null,null,{"$f":"IF(Vstupy!AG77=\"\",\"\",Vstupy!AG77)","v":""},null,null,null,null,null,null,null,"#Vstupy!AG77"]
[null,null,null,null,null,null,{"$f":"IF(Vstupy!AG78=\"\",\"\",Vstupy!AG78)","v":""},null,null,null,null,null,null,null,"#Vstupy!AG78"]
[null,null,null,null,null,null,{"$f":"IF(Vstupy!AG79=\"\",\"\",Vstupy!AG79)","v":""},null,null,null,null,null,null,null,"#Vstupy!AG79"]
[null,null,null,null,null,null,{"$f":"IF(Vstupy!AG80=\"\",\"\",Vstupy!AG80)","v":""},null,null,null,null,null,null,null,"#Vstupy!AG80"]
[null,null,null,null,null,null,{"$f":"IF(Vstupy!AG81=\"\",\"\",Vstupy!AG81)","v":""},null,null,null,null,null,null,null,"#Vstupy!AG81"]
[null,null,null,null,null,null,{"$f":"IF(Vstupy!AG82=\"\",\"\",Vstupy!AG82)","v":""},null,null,null,null,null,null,null,"#Vstupy!AG82"]
[null,null,null,null,null,null,{"$f":"IF(Vstupy!AG83=\"\",\"\",Vstupy!AG83)","v":""},null,null,null,null,null,null,null,"#Vstupy!AG83"]
[null,null,null,null,null,null,{"$f":"IF(Vstupy!AG84=\"\",\"\",Vstupy!AG84)","v":""},null,null,null,null,null,null,null,"#Vstupy!AG84"]
[null,null,null,null,null,null,{"$f":"IF(Vstupy!AG85=\"\",\"\",Vstupy!AG85)","v":""},null,null,null,null,null,null,null,"#Vstupy!AG85"]
[null,null,null,null,null,null,{"$f":"IF(Vstupy!AG86=\"\",\"\",Vstupy!AG86)","v":""},null,null,null,null,null,null,null,"#Vstupy!AG86"]
[null,null,null,null,null,null,{"$f":"IF(Vstupy!AG87=\"\",\"\",Vstupy!AG87)","v":""},null,null,null,null,null,null,null,"#Vstupy!AG87"]
[null,null,null,null,null,null,{"$f":"IF(Vstupy!AG88=\"\",\"\",Vstupy!AG88)","v":""},null,null,null,null,null,null,null,"#Vstupy!AG88"]
[null,null,null,null,null,null,{"$f":"IF(Vstupy!AK75=\"\",\"\",Vstupy!AK75)","v":""},null,null,null,null,null,null,null,"#Vstupy!AK75"]
[null,null,null,null,null,null,{"$f":"IF(Vstupy!AK76=\"\",\"\",Vstupy!AK76)","v":""},null,null,null,null,null,null,null,"#Vstupy!AK76"]
[null,null,null,null,null,null,{"$f":"IF(Vstupy!AK77=\"\",\"\",Vstupy!AK77)","v":""},null,null,null,null,null,null,null,"#Vstupy!AK77"]
[null,null,null,null,null,null,{"$f":"IF(Vstupy!AK78=\"\",\"\",Vstupy!AK78)","v":""},null,null,null,null,null,null,null,"#Vstupy!AK78"]
[null,null,null,null,null,null,{"$f":"IF(Vstupy!AK79=\"\",\"\",Vstupy!AK79)","v":""},null,null,null,null,null,null,null,"#Vstupy!AK79"]
[null,null,null,null,null,null,{"$f":"IF(Vstupy!AK80=\"\",\"\",Vstupy!AK80)","v":""},null,null,null,null,null,null,null,"#Vstupy!AK80"]
[null,null,null,null,null,null,{"$f":"IF(Vstupy!AK81=\"\",\"\",Vstupy!AK81)","v":""},null,null,null,null,null,null,null,"#Vstupy!AK81"]
[null,null,null,null,null,null,{"$f":"IF(Vstupy!AK82=\"\",\"\",Vstupy!AK82)","v":""},null,null,null,null,null,null,null,"#Vstupy!AK82"]
[null,null,null,null,null,null,{"$f":"IF(Vstupy!AK83=\"\",\"\",Vstupy!AK83)","v":""},null,null,null,null,null,null,null,"#Vstupy!AK83"]
[null,null,null,null,null,null,{"$f":"IF(Vstupy!AK84=\"\",\"\",Vstupy!AK84)","v":""},null,null,null,null,null,null,null,"#Vstupy!AK84"]
[null,null,null,null,null,null,{"$f":"IF(Vstupy!AK85=\"\",\"\",Vstupy!AK85)","v":""},null,null,null,null,null,null,null,"#Vstupy!AK85"]
[null,null,null,null,null,null,{"$f":"IF(Vstupy!AK86=\"\",\"\",Vstupy!AK86)","v":""},null,null,null,null,null,null,null,"#Vstupy!AK86"]
[null,null,null,null,null,null,{"$f":"IF(Vstupy!AK87=\"\",\"\",Vstupy!AK87)","v":""},null,null,null,null,null,null,null,"#Vstupy!AK87"]
[null,null,null,null,null,null,{"$f":"IF(Vstupy!AK88=\"\",\"\",Vstupy!AK88)","v":""},null,null,null,null,null,null,null,"#Vstupy!AK88"]
[null,null,null,null,null,null,{"$f":"IF(Vstupy!AO75=\"\",\"\",Vstupy!AO75)","v":""},null,null,null,null,null,null,null,"#Vstupy!AO75"]
[null,null,null,null,null,null,{"$f":"IF(Vstupy!AO76=\"\",\"\",Vstupy!AO76)","v":""},null,null,null,null,null,null,null,"#Vstupy!AO76"]
[null,null,null,null,null,null,{"$f":"IF(Vstupy!AO77=\"\",\"\",Vstupy!AO77)","v":""},null,null,null,null,null,null,null,"#Vstupy!AO77"]
[null,null,null,null,null,null,{"$f":"IF(Vstupy!AO78=\"\",\"\",Vstupy!AO78)","v":""},null,null,null,null,null,null,null,"#Vstupy!AO78"]
[null,null,null,null,null,null,{"$f":"IF(Vstupy!AO79=\"\",\"\",Vstupy!AO79)","v":""},null,null,null,null,null,null,null,"#Vstupy!AO79"]
[null,null,null,null,null,null,{"$f":"IF(Vstupy!AO80=\"\",\"\",Vstupy!AO80)","v":""},null,null,null,null,null,null,null,"#Vstupy!AO80"]
[null,null,null,null,null,null,{"$f":"IF(Vstupy!AO81=\"\",\"\",Vstupy!AO81)","v":""},null,null,null,null,null,null,null,"#Vstupy!AO81"]
[null,null,null,null,null,null,{"$f":"IF(Vstupy!AO82=\"\",\"\",Vstupy!AO82)","v":""},null,null,null,null,null,null,null,"#Vstupy!AO82"]
[null,null,null,null,null,null,{"$f":"IF(Vstupy!AO83=\"\",\"\",Vstupy!AO83)","v":""},null,null,null,null,null,null,null,"#Vstupy!AO83"]
[null,null,null,null,null,null,{"$f":"IF(Vstupy!AO84=\"\",\"\",Vstupy!AO84)","v":""},null,null,null,null,null,null,null,"#Vstupy!AO84"]
[null,null,null,null,null,null,{"$f":"IF(Vstupy!AO85=\"\",\"\",Vstupy!AO85)","v":""},null,null,null,null,null,null,null,"#Vstupy!AO85"]
[null,null,null,null,null,null,{"$f":"IF(Vstupy!AO86=\"\",\"\",Vstupy!AO86)","v":""},null,null,null,null,null,null,null,"#Vstupy!AO86"]
[null,null,null,null,null,null,{"$f":"IF(Vstupy!AO87=\"\",\"\",Vstupy!AO87)","v":""},null,null,null,null,null,null,null,"#Vstupy!AO87"]
[null,null,null,null,null,null,{"$f":"IF(Vstupy!AO88=\"\",\"\",Vstupy!AO88)","v":""},null,null,null,null,null,null,null,"#Vstupy!AO88"]
[null,null,null,"analýza příjmů a nákladů -poj. Osob",null,null,{"$f":"IF(Vstupy!S96=\"\",\"\",Vstupy!S96)","v":""},null,null,null,null,null,null,null,"#Vstupy!S96"]
[null,null,null,null,null,null,{"$f":"IF(Vstupy!S97=\"\",\"\",Vstupy!S97)","v":""},null,null,null,null,null,null,null,"#Vstupy!S97"]
[null,null,null,null,null,null,{"$f":"IF(Vstupy!S98=\"\",\"\",Vstupy!S98)","v":""},null,null,null,null,null,null,null,"#Vstupy!S98"]
[null,null,null,null,null,null,{"$f":"IF(Vstupy!S99=\"\",\"\",Vstupy!S99)","v":""},null,null,null,null,null,null,null,"#Vstupy!S99"]
[null,null,null,null,null,null,{"$f":"IF(Vstupy!S100=\"\",\"\",Vstupy!S100)","v":""},null,null,null,null,null,null,null,"#Vstupy!S100"]
[null,null,null,null,null,null,{"$f":"IF(Vstupy!AE96=\"\",\"\",Vstupy!AE96)","v":12},null,null,null,null,null,null,null,"#Vstupy!AE96"]
[null,null,null,null,null,null,{"$f":"IF(Vstupy!AE97=\"\",\"\",Vstupy!AE97)","v":12},null,null,null,null,null,null,null,"#Vstupy!AE97"]
[null,null,null,null,null,null,{"$f":"IF(Vstupy!AE98=\"\",\"\",Vstupy!AE98)","v":12},null,null,null,null,null,null,null,"#Vstupy!AE98"]
[null,null,null,null,null,null,{"$f":"IF(Vstupy!AE99=\"\",\"\",Vstupy!AE99)","v":12},null,null,null,null,null,null,null,"#Vstupy!AE99"]
[null,null,null,null,null,null,{"$f":"IF(Vstupy!AE100=\"\",\"\",Vstupy!AE100)","v":12},null,null,null,null,null,null,null,"#Vstupy!AE100"]
[null,null,null,null,null,null,{"$f":"IF(Vstupy!AG96=\"\",\"\",Vstupy!AG96)","v":""},null,null,null,null,null,null,null,"#Vstupy!AG96"]
[null,null,null,null,null,null,{"$f":"IF(Vstupy!AG97=\"\",\"\",Vstupy!AG97)","v":""},null,null,null,null,null,null,null,"#Vstupy!AG97"]
[null,null,null,null,null,null,{"$f":"IF(Vstupy!AG98=\"\",\"\",Vstupy!AG98)","v":""},null,null,null,null,null,null,null,"#Vstupy!AG98"]
[null,null,null,null,null,null,{"$f":"IF(Vstupy!AG99=\"\",\"\",Vstupy!AG99)","v":""},null,null,null,null,null,null,null,"#Vstupy!AG99"]
[null,null,null,null,null,null,{"$f":"IF(Vstupy!AG100=\"\",\"\",Vstupy!AG100)","v":""},null,null,null,null,null,null,null,"#Vstupy!AG100"]
[null,null,null,null,null,null,{"$f":"IF(Vstupy!AK96=\"\",\"\",Vstupy!AK96)","v":""},null,null,null,null,null,null,null,"#Vstupy!AK96"]
[null,null,null,null,null,null,{"$f":"IF(Vstupy!AK97=\"\",\"\",Vstupy!AK97)","v":""},null,null,null,null,null,null,null,"#Vstupy!AK97"]
[null,null,null,null,null,null,{"$f":"IF(Vstupy!AK98=\"\",\"\",Vstupy!AK98)","v":""},null,null,null,null,null,null,null,"#Vstupy!AK98"]
[null,null,null,null,null,null,{"$f":"IF(Vstupy!AK99=\"\",\"\",Vstupy!AK99)","v":""},null,null,null,null,null,null,null,"#Vstupy!AK99"]
[null,null,null,null,null,null,{"$f":"IF(Vstupy!AK100=\"\",\"\",Vstupy!AK100)","v":""},null,null,null,null,null,null,null,"#Vstupy!AK100"]
[null,null,null,null,null,null,{"$f":"IF(Vstupy!AW96=\"\",\"\",Vstupy!AW96)","v":12},null,null,null,null,null,null,null,"#Vstupy!AW96"]
[null,null,null,null,null,null,{"$f":"IF(Vstupy!AW97=\"\",\"\",Vstupy!AW97)","v":12},null,null,null,null,null,null,null,"#Vstupy!AW97"]
[null,null,null,null,null,null,{"$f":"IF(Vstupy!AW98=\"\",\"\",Vstupy!AW98)","v":12},null,null,null,null,null,null,null,"#Vstupy!AW98"]
[null,null,null,null,null,null,{"$f":"IF(Vstupy!AW99=\"\",\"\",Vstupy!AW99)","v":12},null,null,null,null,null,null,null,"#Vstupy!AW99"]
[null,null,null,null,null,null,{"$f":"IF(Vstupy!AW100=\"\",\"\",Vstupy!AW100)","v":12},null,null,null,null,null,null,null,"#Vstupy!AW100"]
[null,null,null,null,null,null,{"$f":"IF(Vstupy!AY96=\"\",\"\",Vstupy!AY96)","v":""},null,null,null,null,null,null,null,"#Vstupy!AY96"]
[null,null,null,null,null,null,{"$f":"IF(Vstupy!AY97=\"\",\"\",Vstupy!AY97)","v":""},null,null,null,null,null,null,null,"#Vstupy!AY97"]
[null,null,null,null,null,null,{"$f":"IF(Vstupy!AY98=\"\",\"\",Vstupy!AY98)","v":""},null,null,null,null,null,null,null,"#Vstupy!AY98"]
[null,null,null,null,null,null,{"$f":"IF(Vstupy!AY99=\"\",\"\",Vstupy!AY99)","v":""},null,null,null,null,null,null,null,"#Vstupy!AY99"]
[null,null,null,null,null,null,{"$f":"IF(Vstupy!AY100=\"\",\"\",Vstupy!AY100)","v":""},null,null,null,null,null,null,null,"#Vstupy!AY100"]
[null,null,null,null,null,null,{"$f":"IF(Vstupy!BC96=\"\",\"\",Vstupy!BC96)","v":""},null,null,null,null,null,null,null,"#Vstupy!BC96"]
[null,null,null,null,null,null,{"$f":"IF(Vstupy!BC97=\"\",\"\",Vstupy!BC97)","v":""},null,null,null,null,null,null,null,"#Vstupy!BC97"]
[null,null,null,null,null,null,{"$f":"IF(Vstupy!BC98=\"\",\"\",Vstupy!BC98)","v":""},null,null,null,null,null,null,null,"#Vstupy!BC98"]
[null,null,null,null,null,null,{"$f":"IF(Vstupy!BC99=\"\",\"\",Vstupy!BC99)","v":""},null,null,null,null,null,null,null,"#Vstupy!BC99"]
[null,null,null,null,null,null,{"$f":"IF(Vstupy!BC100=\"\",\"\",Vstupy!BC100)","v":""},null,null,null,null,null,null,null,"#Vstupy!BC100"]
[null,null,null,"analýza příjmů a nákladů - majetek",null,null,{"$f":"IF(Vstupy!S108=\"\",\"\",Vstupy!S108)","v":""},null,null,null,null,null,null,null,"#Vstupy!S108"]
[null,null,null,null,null,null,{"$f":"IF(Vstupy!S109=\"\",\"\",Vstupy!S109)","v":""},null,null,null,null,null,null,null,"#Vstupy!S109"]
[null,null,null,null,null,null,{"$f":"IF(Vstupy!S110=\"\",\"\",Vstupy!S110)","v":""},null,null,null,null,null,null,null,"#Vstupy!S110"]
[null,null,null,null,null,null,{"$f":"IF(Vstupy!S111=\"\",\"\",Vstupy!S111)","v":""},null,null,null,null,null,null,null,"#Vstupy!S111"]
[null,null,null,null,null,null,{"$f":"IF(Vstupy!S112=\"\",\"\",Vstupy!S112)","v":""},null,null,null,null,null,null,null,"#Vstupy!S112"]
[null,null,null,null,null,null,{"$f":"IF(Vstupy!S113=\"\",\"\",Vstupy!S113)","v":""},null,null,null,null,null,null,null,"#Vstupy!S113"]
[null,null,null,null,null,null,{"$f":"IF(Vstupy!S114=\"\",\"\",Vstupy!S114)","v":""},null,null,null,null,null,null,null,"#Vstupy!S114"]
[null,null,null,null,null,null,{"$f":"IF(Vstupy!AE108=\"\",\"\",Vstupy!AE108)","v":12},null,null,null,null,null,null,null,"#Vstupy!AE108"]
[null,null,null,null,null,null,{"$f":"IF(Vstupy!AE109=\"\",\"\",Vstupy!AE109)","v":12},null,null,null,null,null,null,null,"#Vstupy!AE109"]
[null,null,null,null,null,null,{"$f":"IF(Vstupy!AE110=\"\",\"\",Vstupy!AE110)","v":12},null,null,null,null,null,null,null,"#Vstupy!AE110"]
[null,null,null,null,null,null,{"$f":"IF(Vstupy!AE111=\"\",\"\",Vstupy!AE111)","v":12},null,null,null,null,null,null,null,"#Vstupy!AE111"]
[null,null,null,null,null,null,{"$f":"IF(Vstupy!AE112=\"\",\"\",Vstupy!AE112)","v":12},null,null,null,null,null,null,null,"#Vstupy!AE112"]
[null,null,null,null,null,null,{"$f":"IF(Vstupy!AE113=\"\",\"\",Vstupy!AE113)","v":12},null,null,null,null,null,null,null,"#Vstupy!AE113"]
[null,null,null,null,null,null,{"$f":"IF(Vstupy!AE114=\"\",\"\",Vstupy!AE114)","v":12},null,null,null,null,null,null,null,"#Vstupy!AE114"]
[null,null,null,null,null,null,{"$f":"IF(Vstupy!AG108=\"\",\"\",Vstupy!AG108)","v":""},null,null,null,null,null,null,null,"#Vstupy!AG108"]
[null,null,null,null,null,null,{"$f":"IF(Vstupy!AG109=\"\",\"\",Vstupy!AG109)","v":""},null,null,null,null,null,null,null,"#Vstupy!AG109"]
[null,null,null,null,null,null,{"$f":"IF(Vstupy!AG110=\"\",\"\",Vstupy!AG110)","v":""},null,null,null,null,null,null,null,"#Vstupy!AG110"]
[null,null,null,null,null,null,{"$f":"IF(Vstupy!AG111=\"\",\"\",Vstupy!AG111)","v":""},null,null,null,null,null,null,null,"#Vstupy!AG111"]
[null,null,null,null,null,null,{"$f":"IF(Vstupy!AG112=\"\",\"\",Vstupy!AG112)","v":""},null,null,null,null,null,null,null,"#Vstupy!AG112"]
[null,null,null,null,null,null,{"$f":"IF(Vstupy!AG113=\"\",\"\",Vstupy!AG113)","v":""},null,null,null,null,null,null,null,"#Vstupy!AG113"]
[null,null,null,null,null,null,{"$f":"IF(Vstupy!AG114=\"\",\"\",Vstupy!AG114)","v":""},null,null,null,null,null,null,null,"#Vstupy!AG114"]
[null,null,null,null,null,null,{"$f":"IF(Vstupy!AK108=\"\",\"\",Vstupy!AK108)","v":""},null,null,null,null,null,null,null,"#Vstupy!AK108"]
[null,null,null,null,null,null,{"$f":"IF(Vstupy!AK109=\"\",\"\",Vstupy!AK109)","v":""},null,null,null,null,null,null,null,"#Vstupy!AK109"]
[null,null,null,null,null,null,{"$f":"IF(Vstupy!AK110=\"\",\"\",Vstupy!AK110)","v":""},null,null,null,null,null,null,null,"#Vstupy!AK110"]
[null,null,null,null,null,null,{"$f":"IF(Vstupy!AK111=\"\",\"\",Vstupy!AK111)","v":""},null,null,null,null,null,null,null,"#Vstupy!AK111"]
[null,null,null,null,null,null,{"$f":"IF(Vstupy!AK112=\"\",\"\",Vstupy!AK112)","v":""},null,null,null,null,null,null,null,"#Vstupy!AK112"]
[null,null,null,null,null,null,{"$f":"IF(Vstupy!AK113=\"\",\"\",Vstupy!AK113)","v":""},null,null,null,null,null,null,null,"#Vstupy!AK113"]
[null,null,null,null,null,null,{"$f":"IF(Vstupy!AK114=\"\",\"\",Vstupy!AK114)","v":""},null,null,null,null,null,null,null,"#Vstupy!AK114"]
[null,null,null,null,null,null,{"$f":"IF(Vstupy!AW108=\"\",\"\",Vstupy!AW108)","v":12},null,null,null,null,null,null,null,"#Vstupy!AW108"]
[null,null,null,null,null,null,{"$f":"IF(Vstupy!AW109=\"\",\"\",Vstupy!AW109)","v":12},null,null,null,null,null,null,null,"#Vstupy!AW109"]
[null,null,null,null,null,null,{"$f":"IF(Vstupy!AW110=\"\",\"\",Vstupy!AW110)","v":12},null,null,null,null,null,null,null,"#Vstupy!AW110"]
[null,null,null,null,null,null,{"$f":"IF(Vstupy!AW111=\"\",\"\",Vstupy!AW111)","v":12},null,null,null,null,null,null,null,"#Vstupy!AW111"]
[null,null,null,null,null,null,{"$f":"IF(Vstupy!AW112=\"\",\"\",Vstupy!AW112)","v":12},null,null,null,null,null,null,null,"#Vstupy!AW112"]
[null,null,null,null,null,null,{"$f":"IF(Vstupy!AW113=\"\",\"\",Vstupy!AW113)","v":12},null,null,null,null,null,null,null,"#Vstupy!AW113"]
[null,null,null,null,null,null,{"$f":"IF(Vstupy!AW114=\"\",\"\",Vstupy!AW114)","v":12},null,null,null,null,null,null,null,"#Vstupy!AW114"]
[null,null,null,null,null,null,{"$f":"IF(Vstupy!AY108=\"\",\"\",Vstupy!AY108)","v":""},null,null,null,null,null,null,null,"#Vstupy!AY108"]
[null,null,null,null,null,null,{"$f":"IF(Vstupy!AY109=\"\",\"\",Vstupy!AY109)","v":""},null,null,null,null,null,null,null,"#Vstupy!AY109"]
[null,null,null,null,null,null,{"$f":"IF(Vstupy!AY110=\"\",\"\",Vstupy!AY110)","v":""},null,null,null,null,null,null,null,"#Vstupy!AY110"]
[null,null,null,null,null,null,{"$f":"IF(Vstupy!AY111=\"\",\"\",Vstupy!AY111)","v":""},null,null,null,null,null,null,null,"#Vstupy!AY111"]
[null,null,null,null,null,null,{"$f":"IF(Vstupy!AY112=\"\",\"\",Vstupy!AY112)","v":""},null,null,null,null,null,null,null,"#Vstupy!AY112"]
[null,null,null,null,null,null,{"$f":"IF(Vstupy!AY113=\"\",\"\",Vstupy!AY113)","v":""},null,null,null,null,null,null,null,"#Vstupy!AY113"]
[null,null,null,null,null,null,{"$f":"IF(Vstupy!AY114=\"\",\"\",Vstupy!AY114)","v":""},null,null,null,null,null,null,null,"#Vstupy!AY114"]
[null,null,null,null,null,null,{"$f":"IF(Vstupy!BC108=\"\",\"\",Vstupy!BC108)","v":""},null,null,null,null,null,null,null,"#Vstupy!BC108"]
[null,null,null,null,null,null,{"$f":"IF(Vstupy!BC109=\"\",\"\",Vstupy!BC109)","v":""},null,null,null,null,null,null,null,"#Vstupy!BC109"]
[null,null,null,null,null,null,{"$f":"IF(Vstupy!BC110=\"\",\"\",Vstupy!BC110)","v":""},null,null,null,null,null,null,null,"#Vstupy!BC110"]
[null,null,null,null,null,null,{"$f":"IF(Vstupy!BC111=\"\",\"\",Vstupy!BC111)","v":""},null,null,null,null,null,null,null,"#Vstupy!BC111"]
[null,null,null,null,null,null,{"$f":"IF(Vstupy!BC112=\"\",\"\",Vstupy!BC112)","v":""},null,null,null,null,null,null,null,"#Vstupy!BC112"]
[null,null,null,null,null,null,{"$f":"IF(Vstupy!BC113=\"\",\"\",Vstupy!BC113)","v":""},null,null,null,null,null,null,null,"#Vstupy!BC113"]
[null,null,null,null,null,null,{"$f":"IF(Vstupy!BC114=\"\",\"\",Vstupy!BC114)","v":""},null,null,null,null,null,null,null,"#Vstupy!BC114"]
[null,null,null,"analýza příjmů a nákladů - investice",null,null,{"$f":"IF(Vstupy!S122=\"\",\"\",Vstupy!S122)","v":""},null,null,null,null,null,null,null,"#Vstupy!S122"]
[null,null,null,null,null,null,{"$f":"IF(Vstupy!S123=\"\",\"\",Vstupy!S123)","v":""},null,null,null,null,null,null,null,"#Vstupy!S123"]
[null,null,null,null,null,null,{"$f":"IF(Vstupy!S124=\"\",\"\",Vstupy!S124)","v":""},null,null,null,null,null,null,null,"#Vstupy!S124"]
[null,null,null,null,null,null,{"$f":"IF(Vstupy!S125=\"\",\"\",Vstupy!S125)","v":""},null,null,null,null,null,null,null,"#Vstupy!S125"]
[null,null,null,null,null,null,{"$f":"IF(Vstupy!S126=\"\",\"\",Vstupy!S126)","v":""},null,null,null,null,null,null,null,"#Vstupy!S126"]
[null,null,null,null,null,null,{"$f":"IF(Vstupy!S127=\"\",\"\",Vstupy!S127)","v":""},null,null,null,null,null,null,null,"#Vstupy!S127"]
[null,null,null,null,null,null,{"$f":"IF(Vstupy!S128=\"\",\"\",Vstupy!S128)","v":""},null,null,null,null,null,null,null,"#Vstupy!S128"]
[null,null,null,null,null,null,{"$f":"IF(Vstupy!S129=\"\",\"\",Vstupy!S129)","v":""},null,null,null,null,null,null,null,"#Vstupy!S129"]
[null,null,null,null,null,null,{"$f":"IF(Vstupy!S130=\"\",\"\",Vstupy!S130)","v":""},null,null,null,null,null,null,null,"#Vstupy!S130"]
[null,null,null,null,null,null,{"$f":"IF(Vstupy!AA122=\"\",\"\",Vstupy!AA122)","v":""},null,null,null,null,null,null,null,"#Vstupy!AA122"]
[null,null,null,null,null,null,{"$f":"IF(Vstupy!AA123=\"\",\"\",Vstupy!AA123)","v":""},null,null,null,null,null,null,null,"#Vstupy!AA123"]
[null,null,null,null,null,null,{"$f":"IF(Vstupy!AA124=\"\",\"\",Vstupy!AA124)","v":""},null,null,null,null,null,null,null,"#Vstupy!AA124"]
[null,null,null,null,null,null,{"$f":"IF(Vstupy!AA125=\"\",\"\",Vstupy!AA125)","v":""},null,null,null,null,null,null,null,"#Vstupy!AA125"]
[null,null,null,null,null,null,{"$f":"IF(Vstupy!AA126=\"\",\"\",Vstupy!AA126)","v":""},null,null,null,null,null,null,null,"#Vstupy!AA126"]
[null,null,null,null,null,null,{"$f":"IF(Vstupy!AA127=\"\",\"\",Vstupy!AA127)","v":""},null,null,null,null,null,null,null,"#Vstupy!AA127"]
[null,null,null,null,null,null,{"$f":"IF(Vstupy!AA128=\"\",\"\",Vstupy!AA128)","v":""},null,null,null,null,null,null,null,"#Vstupy!AA128"]
[null,null,null,null,null,null,{"$f":"IF(Vstupy!AA129=\"\",\"\",Vstupy!AA129)","v":""},null,null,null,null,null,null,null,"#Vstupy!AA129"]
[null,null,null,null,null,null,{"$f":"IF(Vstupy!AA130=\"\",\"\",Vstupy!AA130)","v":""},null,null,null,null,null,null,null,"#Vstupy!AA130"]
[null,null,null,null,null,null,{"$f":"IF(Vstupy!AE122=\"\",\"\",Vstupy!AE122)","v":12},null,null,null,null,null,null,null,"#Vstupy!AE122"]
[null,null,null,null,null,null,{"$f":"IF(Vstupy!AE123=\"\",\"\",Vstupy!AE123)","v":12},null,null,null,null,null,null,null,"#Vstupy!AE123"]
[null,null,null,null,null,null,{"$f":"IF(Vstupy!AE124=\"\",\"\",Vstupy!AE124)","v":12},null,null,null,null,null,null,null,"#Vstupy!AE124"]
[null,null,null,null,null,null,{"$f":"IF(Vstupy!AE125=\"\",\"\",Vstupy!AE125)","v":12},null,null,null,null,null,null,null,"#Vstupy!AE125"]
[null,null,null,null,null,null,{"$f":"IF(Vstupy!AE126=\"\",\"\",Vstupy!AE126)","v":12},null,null,null,null,null,null,null,"#Vstupy!AE126"]
[null,null,null,null,null,null,{"$f":"IF(Vstupy!AE127=\"\",\"\",Vstupy!AE127)","v":12},null,null,null,null,null,null,null,"#Vstupy!AE127"]
[null,null,null,null,null,null,{"$f":"IF(Vstupy!AE128=\"\",\"\",Vstupy!AE128)","v":12},null,null,null,null,null,null,null,"#Vstupy!AE128"]
[null,null,null,null,null,null,{"$f":"IF(Vstupy!AE129=\"\",\"\",Vstupy!AE129)","v":12},null,null,null,null,null,null,null,"#Vstupy!AE129"]
[null,null,null,null,null,null,{"$f":"IF(Vstupy!AE130=\"\",\"\",Vstupy!AE130)","v":12},null,null,null,null,null,null,null,"#Vstupy!AE130"]
[null,null,null,null,null,null,{"$f":"IF(Vstupy!AG122=\"\",\"\",Vstupy!AG122)","v":""},null,null,null,null,null,null,null,"#Vstupy!AG122"]
[null,null,null,null,null,null,{"$f":"IF(Vstupy!AG123=\"\",\"\",Vstupy!AG123)","v":""},null,null,null,null,null,null,null,"#Vstupy!AG123"]
[null,null,null,null,null,null,{"$f":"IF(Vstupy!AG124=\"\",\"\",Vstupy!AG124)","v":""},null,null,null,null,null,null,null,"#Vstupy!AG124"]
[null,null,null,null,null,null,{"$f":"IF(Vstupy!AG125=\"\",\"\",Vstupy!AG125)","v":""},null,null,null,null,null,null,null,"#Vstupy!AG125"]
[null,null,null,null,null,null,{"$f":"IF(Vstupy!AG126=\"\",\"\",Vstupy!AG126)","v":""},null,null,null,null,null,null,null,"#Vstupy!AG126"]
[null,null,null,null,null,null,{"$f":"IF(Vstupy!AG127=\"\",\"\",Vstupy!AG127)","v":""},null,null,null,null,null,null,null,"#Vstupy!AG127"]
[null,null,null,null,null,null,{"$f":"IF(Vstupy!AG128=\"\",\"\",Vstupy!AG128)","v":""},null,null,null,null,null,null,null,"#Vstupy!AG128"]
[null,null,null,null,null,null,{"$f":"IF(Vstupy!AG129=\"\",\"\",Vstupy!AG129)","v":""},null,null,null,null,null,null,null,"#Vstupy!AG129"]
[null,null,null,null,null,null,{"$f":"IF(Vstupy!AG130=\"\",\"\",Vstupy!AG130)","v":""},null,null,null,null,null,null,null,"#Vstupy!AG130"]
[null,null,null,null,null,null,{"$f":"IF(Vstupy!AK122=\"\",\"\",Vstupy!AK122)","v":""},null,null,null,null,null,null,null,"#Vstupy!AK122"]
[null,null,null,null,null,null,{"$f":"IF(Vstupy!AK123=\"\",\"\",Vstupy!AK123)","v":""},null,null,null,null,null,null,null,"#Vstupy!AK123"]
[null,null,null,null,null,null,{"$f":"IF(Vstupy!AK124=\"\",\"\",Vstupy!AK124)","v":""},null,null,null,null,null,null,null,"#Vstupy!AK124"]
[null,null,null,null,null,null,{"$f":"IF(Vstupy!AK125=\"\",\"\",Vstupy!AK125)","v":""},null,null,null,null,null,null,null,"#Vstupy!AK125"]
[null,null,null,null,null,null,{"$f":"IF(Vstupy!AK126=\"\",\"\",Vstupy!AK126)","v":""},null,null,null,null,null,null,null,"#Vstupy!AK126"]
[null,null,null,null,null,null,{"$f":"IF(Vstupy!AK127=\"\",\"\",Vstupy!AK127)","v":""},null,null,null,null,null,null,null,"#Vstupy!AK127"]
[null,null,null,null,null,null,{"$f":"IF(Vstupy!AK128=\"\",\"\",Vstupy!AK128)","v":""},null,null,null,null,null,null,null,"#Vstupy!AK128"]
[null,null,null,null,null,null,{"$f":"IF(Vstupy!AK129=\"\",\"\",Vstupy!AK129)","v":""},null,null,null,null,null,null,null,"#Vstupy!AK129"]
[null,null,null,null,null,null,{"$f":"IF(Vstupy!AK130=\"\",\"\",Vstupy!AK130)","v":""},null,null,null,null,null,null,null,"#Vstupy!AK130"]
[null,null,null,null,null,null,{"$f":"IF(Vstupy!AW122=\"\",\"\",Vstupy!AW122)","v":12},null,null,null,null,null,null,null,"#Vstupy!AW122"]
[null,null,null,null,null,null,{"$f":"IF(Vstupy!AW123=\"\",\"\",Vstupy!AW123)","v":12},null,null,null,null,null,null,null,"#Vstupy!AW123"]
[null,null,null,null,null,null,{"$f":"IF(Vstupy!AW124=\"\",\"\",Vstupy!AW124)","v":12},null,null,null,null,null,null,null,"#Vstupy!AW124"]
[null,null,null,null,null,null,{"$f":"IF(Vstupy!AW125=\"\",\"\",Vstupy!AW125)","v":12},null,null,null,null,null,null,null,"#Vstupy!AW125"]
[null,null,null,null,null,null,{"$f":"IF(Vstupy!AW126=\"\",\"\",Vstupy!AW126)","v":12},null,null,null,null,null,null,null,"#Vstupy!AW126"]
[null,null,null,null,null,null,{"$f":"IF(Vstupy!AW127=\"\",\"\",Vstupy!AW127)","v":12},null,null,null,null,null,null,null,"#Vstupy!AW127"]
[null,null,null,null,null,null,{"$f":"IF(Vstupy!AW128=\"\",\"\",Vstupy!AW128)","v":12},null,null,null,null,null,null,null,"#Vstupy!AW128"]
[null,null,null,null,null,null,{"$f":"IF(Vstupy!AW129=\"\",\"\",Vstupy!AW129)","v":12},null,null,null,null,null,null,null,"#Vstupy!AW129"]
[null,null,null,null,null,null,{"$f":"IF(Vstupy!AW130=\"\",\"\",Vstupy!AW130)","v":12},null,null,null,null,null,null,null,"#Vstupy!AW130"]
[null,null,null,null,null,null,{"$f":"IF(Vstupy!AY122=\"\",\"\",Vstupy!AY122)","v":""},null,null,null,null,null,null,null,"#Vstupy!AY122"]
[null,null,null,null,null,null,{"$f":"IF(Vstupy!AY123=\"\",\"\",Vstupy!AY123)","v":""},null,null,null,null,null,null,null,"#Vstupy!AY123"]
[null,null,null,null,null,null,{"$f":"IF(Vstupy!AY124=\"\",\"\",Vstupy!AY124)","v":""},null,null,null,null,null,null,null,"#Vstupy!AY124"]
[null,null,null,null,null,null,{"$f":"IF(Vstupy!AY125=\"\",\"\",Vstupy!AY125)","v":""},null,null,null,null,null,null,null,"#Vstupy!AY125"]
[null,null,null,null,null,null,{"$f":"IF(Vstupy!AY126=\"\",\"\",Vstupy!AY126)","v":""},null,null,null,null,null,null,null,"#Vstupy!AY126"]
[null,null,null,null,null,null,{"$f":"IF(Vstupy!AY127=\"\",\"\",Vstupy!AY127)","v":""},null,null,null,null,null,null,null,"#Vstupy!AY127"]
[null,null,null,null,null,null,{"$f":"IF(Vstupy!AY128=\"\",\"\",Vstupy!AY128)","v":""},null,null,null,null,null,null,null,"#Vstupy!AY128"]
[null,null,null,null,null,null,{"$f":"IF(Vstupy!AY129=\"\",\"\",Vstupy!AY129)","v":""},null,null,null,null,null,null,null,"#Vstupy!AY129"]
[null,null,null,null,null,null,{"$f":"IF(Vstupy!AY130=\"\",\"\",Vstupy!AY130)","v":""},null,null,null,null,null,null,null,"#Vstupy!AY130"]
[null,null,null,null,null,null,{"$f":"IF(Vstupy!BC122=\"\",\"\",Vstupy!BC122)","v":""},null,null,null,null,null,null,null,"#Vstupy!BC122"]
[null,null,null,null,null,null,{"$f":"IF(Vstupy!BC123=\"\",\"\",Vstupy!BC123)","v":""},null,null,null,null,null,null,null,"#Vstupy!BC123"]
[null,null,null,null,null,null,{"$f":"IF(Vstupy!BC124=\"\",\"\",Vstupy!BC124)","v":""},null,null,null,null,null,null,null,"#Vstupy!BC124"]
[null,null,null,null,null,null,{"$f":"IF(Vstupy!BC125=\"\",\"\",Vstupy!BC125)","v":""},null,null,null,null,null,null,null,"#Vstupy!BC125"]
[null,null,null,null,null,null,{"$f":"IF(Vstupy!BC126=\"\",\"\",Vstupy!BC126)","v":""},null,null,null,null,null,null,null,"#Vstupy!BC126"]
[null,null,null,null,null,null,{"$f":"IF(Vstupy!BC127=\"\",\"\",Vstupy!BC127)","v":""},null,null,null,null,null,null,null,"#Vstupy!BC127"]
[null,null,null,null,null,null,{"$f":"IF(Vstupy!BC128=\"\",\"\",Vstupy!BC128)","v":""},null,null,null,null,null,null,null,"#Vstupy!BC128"]
[null,null,null,null,null,null,{"$f":"IF(Vstupy!BC129=\"\",\"\",Vstupy!BC129)","v":""},null,null,null,null,null,null,null,"#Vstupy!BC129"]
[null,null,null,null,null,null,{"$f":"IF(Vstupy!BC130=\"\",\"\",Vstupy!BC130)","v":""},null,null,null,null,null,null,null,"#Vstupy!BC130"]
[null,null,null,"analýza příjmů a nákladů - uvery",null,null,{"$f":"IF(Vstupy!S136=\"\",\"\",Vstupy!S136)","v":""},null,null,null,null,null,null,null,"#Vstupy!S136"]
[null,null,null,null,null,null,{"$f":"IF(Vstupy!S137=\"\",\"\",Vstupy!S137)","v":""},null,null,null,null,null,null,null,"#Vstupy!S137"]
[null,null,null,null,null,null,{"$f":"IF(Vstupy!S138=\"\",\"\",Vstupy!S138)","v":""},null,null,null,null,null,null,null,"#Vstupy!S138"]
[null,null,null,null,null,null,{"$f":"IF(Vstupy!S139=\"\",\"\",Vstupy!S139)","v":""},null,null,null,null,null,null,null,"#Vstupy!S139"]
[null,null,null,null,null,null,{"$f":"IF(Vstupy!S140=\"\",\"\",Vstupy!S140)","v":""},null,null,null,null,null,null,null,"#Vstupy!S140"]
[null,null,null,null,null,null,{"$f":"IF(Vstupy!AA136=\"\",\"\",Vstupy!AA136)","v":""},null,null,null,null,null,null,null,"#Vstupy!AA136"]
[null,null,null,null,null,null,{"$f":"IF(Vstupy!AA137=\"\",\"\",Vstupy!AA137)","v":""},null,null,null,null,null,null,null,"#Vstupy!AA137"]
[null,null,null,null,null,null,{"$f":"IF(Vstupy!AA138=\"\",\"\",Vstupy!AA138)","v":""},null,null,null,null,null,null,null,"#Vstupy!AA138"]
[null,null,null,null,null,null,{"$f":"IF(Vstupy!AA139=\"\",\"\",Vstupy!AA139)","v":""},null,null,null,null,null,null,null,"#Vstupy!AA139"]
[null,null,null,null,null,null,{"$f":"IF(Vstupy!AA140=\"\",\"\",Vstupy!AA140)","v":""},null,null,null,null,null,null,null,"#Vstupy!AA140"]
[null,null,null,null,null,null,{"$f":"IF(Vstupy!AE136=\"\",\"\",Vstupy!AE136)","v":12},null,null,null,null,null,null,null,"#Vstupy!AE136"]
[null,null,null,null,null,null,{"$f":"IF(Vstupy!AE137=\"\",\"\",Vstupy!AE137)","v":12},null,null,null,null,null,null,null,"#Vstupy!AE137"]
[null,null,null,null,null,null,{"$f":"IF(Vstupy!AE138=\"\",\"\",Vstupy!AE138)","v":12},null,null,null,null,null,null,null,"#Vstupy!AE138"]
[null,null,null,null,null,null,{"$f":"IF(Vstupy!AE139=\"\",\"\",Vstupy!AE139)","v":12},null,null,null,null,null,null,null,"#Vstupy!AE139"]
[null,null,null,null,null,null,{"$f":"IF(Vstupy!AE140=\"\",\"\",Vstupy!AE140)","v":12},null,null,null,null,null,null,null,"#Vstupy!AE140"]
[null,null,null,null,null,null,{"$f":"IF(Vstupy!AG136=\"\",\"\",Vstupy!AG136)","v":""},null,null,null,null,null,null,null,"#Vstupy!AG136"]
[null,null,null,null,null,null,{"$f":"IF(Vstupy!AG137=\"\",\"\",Vstupy!AG137)","v":""},null,null,null,null,null,null,null,"#Vstupy!AG137"]
[null,null,null,null,null,null,{"$f":"IF(Vstupy!AG138=\"\",\"\",Vstupy!AG138)","v":""},null,null,null,null,null,null,null,"#Vstupy!AG138"]
[null,null,null,null,null,null,{"$f":"IF(Vstupy!AG139=\"\",\"\",Vstupy!AG139)","v":""},null,null,null,null,null,null,null,"#Vstupy!AG139"]
[null,null,null,null,null,null,{"$f":"IF(Vstupy!AG140=\"\",\"\",Vstupy!AG140)","v":""},null,null,null,null,null,null,null,"#Vstupy!AG140"]
[null,null,null,null,null,null,{"$f":"IF(Vstupy!AK136=\"\",\"\",Vstupy!AK136)","v":""},null,null,null,null,null,null,null,"#Vstupy!AK136"]
[null,null,null,null,null,null,{"$f":"IF(Vstupy!AK137=\"\",\"\",Vstupy!AK137)","v":""},null,null,null,null,null,null,null,"#Vstupy!AK137"]
[null,null,null,null,null,null,{"$f":"IF(Vstupy!AK138=\"\",\"\",Vstupy!AK138)","v":""},null,null,null,null,null,null,null,"#Vstupy!AK138"]
[null,null,null,null,null,null,{"$f":"IF(Vstupy!AK139=\"\",\"\",Vstupy!AK139)","v":""},null,null,null,null,null,null,null,"#Vstupy!AK139"]
[null,null,null,null,null,null,{"$f":"IF(Vstupy!AK140=\"\",\"\",Vstupy!AK140)","v":""},null,null,null,null,null,null,null,"#Vstupy!AK140"]
[null,null,null,null,null,null,{"$f":"IF(Vstupy!AW136=\"\",\"\",Vstupy!AW136)","v":12},null,null,null,null,null,null,null,"#Vstupy!AW136"]
[null,null,null,null,null,null,{"$f":"IF(Vstupy!AW137=\"\",\"\",Vstupy!AW137)","v":12},null,null,null,null,null,null,null,"#Vstupy!AW137"]
[null,null,null,null,null,null,{"$f":"IF(Vstupy!AW138=\"\",\"\",Vstupy!AW138)","v":12},null,null,null,null,null,null,null,"#Vstupy!AW138"]
[null,null,null,null,null,null,{"$f":"IF(Vstupy!AW139=\"\",\"\",Vstupy!AW139)","v":12},null,null,null,null,null,null,null,"#Vstupy!AW139"]
[null,null,null,null,null,null,{"$f":"IF(Vstupy!AW140=\"\",\"\",Vstupy!AW140)","v":12},null,null,null,null,null,null,null,"#Vstupy!AW140"]
[null,null,null,null,null,null,{"$f":"IF(Vstupy!AY136=\"\",\"\",Vstupy!AY136)","v":""},null,null,null,null,null,null,null,"#Vstupy!AY136"]
[null,null,null,null,null,null,{"$f":"IF(Vstupy!AY137=\"\",\"\",Vstupy!AY137)","v":""},null,null,null,null,null,null,null,"#Vstupy!AY137"]
[null,null,null,null,null,null,{"$f":"IF(Vstupy!AY138=\"\",\"\",Vstupy!AY138)","v":""},null,null,null,null,null,null,null,"#Vstupy!AY138"]
[null,null,null,null,null,null,{"$f":"IF(Vstupy!AY139=\"\",\"\",Vstupy!AY139)","v":""},null,null,null,null,null,null,null,"#Vstupy!AY139"]
[null,null,null,null,null,null,{"$f":"IF(Vstupy!AY140=\"\",\"\",Vstupy!AY140)","v":""},null,null,null,null,null,null,null,"#Vstupy!AY140"]
[null,null,null,null,null,null,{"$f":"IF(Vstupy!BC136=\"\",\"\",Vstupy!BC136)","v":""},null,null,null,null,null,null,null,"#Vstupy!BC136"]
[null,null,null,null,null,null,{"$f":"IF(Vstupy!BC137=\"\",\"\",Vstupy!BC137)","v":""},null,null,null,null,null,null,null,"#Vstupy!BC137"]
[null,null,null,null,null,null,{"$f":"IF(Vstupy!BC138=\"\",\"\",Vstupy!BC138)","v":""},null,null,null,null,null,null,null,"#Vstupy!BC138"]
[null,null,null,null,null,null,{"$f":"IF(Vstupy!BC139=\"\",\"\",Vstupy!BC139)","v":""},null,null,null,null,null,null,null,"#Vstupy!BC139"]
[null,null,null,null,null,null,{"$f":"IF(Vstupy!BC140=\"\",\"\",Vstupy!BC140)","v":""},null,null,null,null,null,null,null,"#Vstupy!BC140"]
[null,null,null,"analýza příjmů a nákladů - vyplata spoření",null,"roky",{"$f":"IF(Vstupy!AA150=\"\",\"\",Vstupy!AA150)","v":""},null,null,null,null,null,null,null,"#Vstupy!AA150"]
[null,null,null,null,null,null,{"$f":"IF(Vstupy!AE150=\"\",\"\",Vstupy!AE150)","v":""},null,null,null,null,null,null,null,"#Vstupy!AE150"]
[null,null,null,null,null,null,{"$f":"IF(Vstupy!AI150=\"\",\"\",Vstupy!AI150)","v":""},null,null,null,null,null,null,null,"#Vstupy!AI150"]
[null,null,null,null,null,null,{"$f":"IF(Vstupy!AM150=\"\",\"\",Vstupy!AM150)","v":""},null,null,null,null,null,null,null,"#Vstupy!AM150"]
[null,null,null,null,null,null,{"$f":"IF(Vstupy!AQ150=\"\",\"\",Vstupy!AQ150)","v":""},null,null,null,null,null,null,null,"#Vstupy!AQ150"]
[null,null,null,null,null,null,{"$f":"IF(Vstupy!AU150=\"\",\"\",Vstupy!AU150)","v":""},null,null,null,null,null,null,null,"#Vstupy!AU150"]
[null,null,null,null,null,null,{"$f":"IF(Vstupy!AY150=\"\",\"\",Vstupy!AY150)","v":""},null,null,null,null,null,null,null,"#Vstupy!AY150"]
[null,null,null,null,null,null,{"$f":"IF(Vstupy!BC150=\"\",\"\",Vstupy!BC150)","v":""},null,null,null,null,null,null,null,"#Vstupy!BC150"]
[null,null,null,null,null,null,{"$f":"IF(Vstupy!BG150=\"\",\"\",Vstupy!BG150)","v":""},null,null,null,null,null,null,null,"#Vstupy!BG150"]
[null,null,null,null,null,null,{"$f":"IF(Vstupy!BK150=\"\",\"\",Vstupy!BK150)","v":""},null,null,null,null,null,null,null,"#Vstupy!BK150"]
[null,null,null,null,null,null,{"$f":"IF(Vstupy!BO150=\"\",\"\",Vstupy!BO150)","v":""},null,null,null,null,null,null,null,"#Vstupy!BO150"]
[null,null,null,null,null,null,{"$f":"IF(Vstupy!BS150=\"\",\"\",Vstupy!BS150)","v":""},null,null,null,null,null,null,null,"#Vstupy!BS150"]
[null,null,null,null,null,null,{"$f":"IF(Vstupy!BW150=\"\",\"\",Vstupy!BW150)","v":""},null,null,null,null,null,null,null,"#Vstupy!BW150"]
[null,null,null,null,null,null,{"$f":"IF(Vstupy!CA150=\"\",\"\",Vstupy!CA150)","v":""},null,null,null,null,null,null,null,"#Vstupy!CA150"]
[null,null,null,null,null,"stav",{"$f":"IF(Vstupy!AA151=\"\",\"\",Vstupy!AA151)","v":""},null,null,null,null,null,null,null,"#Vstupy!AA151"]
[null,null,null,null,null,null,{"$f":"IF(Vstupy!AE151=\"\",\"\",Vstupy!AE151)","v":""},null,null,null,null,null,null,null,"#Vstupy!AE151"]
[null,null,null,null,null,null,{"$f":"IF(Vstupy!AI151=\"\",\"\",Vstupy!AI151)","v":""},null,null,null,null,null,null,null,"#Vstupy!AI151"]
[null,null,null,null,null,null,{"$f":"IF(Vstupy!AM151=\"\",\"\",Vstupy!AM151)","v":""},null,null,null,null,null,null,null,"#Vstupy!AM151"]
[null,null,null,null,null,null,{"$f":"IF(Vstupy!AQ151=\"\",\"\",Vstupy!AQ151)","v":""},null,null,null,null,null,null,null,"#Vstupy!AQ151"]
[null,null,null,null,null,null,{"$f":"IF(Vstupy!AU151=\"\",\"\",Vstupy!AU151)","v":""},null,null,null,null,null,null,null,"#Vstupy!AU151"]
[null,null,null,null,null,null,{"$f":"IF(Vstupy!AY151=\"\",\"\",Vstupy!AY151)","v":""},null,null,null,null,null,null,null,"#Vstupy!AY151"]
[null,null,null,null,null,null,{"$f":"IF(Vstupy!BC151=\"\",\"\",Vstupy!BC151)","v":""},null,null,null,null,null,null,null,"#Vstupy!BC151"]
[null,null,null,null,null,null,{"$f":"IF(Vstupy!BG151=\"\",\"\",Vstupy!BG151)","v":""},null,null,null,null,null,null,null,"#Vstupy!BG151"]
[null,null,null,null,null,null,{"$f":"IF(Vstupy!BK151=\"\",\"\",Vstupy!BK151)","v":""},null,null,null,null,null,null,null,"#Vstupy!BK151"]
[null,null,null,null,null,null,{"$f":"IF(Vstupy!BO151=\"\",\"\",Vstupy!BO151)","v":""},null,null,null,null,null,null,null,"#Vstupy!BO151"]
[null,null,null,null,null,null,{"$f":"IF(Vstupy!BS151=\"\",\"\",Vstupy!BS151)","v":""},null,null,null,null,null,null,null,"#Vstupy!BS151"]
[null,null,null,null,null,null,{"$f":"IF(Vstupy!BW151=\"\",\"\",Vstupy!BW151)","v":""},null,null,null,null,null,null,null,"#Vstupy!BW151"]
[null,null,null,null,null,null,{"$f":"IF(Vstupy!CA151=\"\",\"\",Vstupy!CA151)","v":""},null,null,null,null,null,null,null,"#Vstupy!CA151"]
[null,null,null,null,null,"doporuceni",{"$f":"IF(Vstupy!AA152=\"\",\"\",Vstupy!AA152)","v":""},null,null,null,null,null,null,null,"#Vstupy!AA152"]
[null,null,null,null,null,null,{"$f":"IF(Vstupy!AE152=\"\",\"\",Vstupy!AE152)","v":""},null,null,null,null,null,null,null,"#Vstupy!AE152"]
[null,null,null,null,null,null,{"$f":"IF(Vstupy!AI152=\"\",\"\",Vstupy!AI152)","v":""},null,null,null,null,null,null,null,"#Vstupy!AI152"]
[null,null,null,null,null,null,{"$f":"IF(Vstupy!AM152=\"\",\"\",Vstupy!AM152)","v":""},null,null,null,null,null,null,null,"#Vstupy!AM152"]
[null,null,null,null,null,null,{"$f":"IF(Vstupy!AQ152=\"\",\"\",Vstupy!AQ152)","v":""},null,null,null,null,null,null,null,"#Vstupy!AQ152"]
[null,null,null,null,null,null,{"$f":"IF(Vstupy!AU152=\"\",\"\",Vstupy!AU152)","v":""},null,null,null,null,null,null,null,"#Vstupy!AU152"]
[null,null,null,null,null,null,{"$f":"IF(Vstupy!AY152=\"\",\"\",Vstupy!AY152)","v":""},null,null,null,null,null,null,null,"#Vstupy!AY152"]
[null,null,null,null,null,null,{"$f":"IF(Vstupy!BC152=\"\",\"\",Vstupy!BC152)","v":""},null,null,null,null,null,null,null,"#Vstupy!BC152"]
[null,null,null,null,null,null,{"$f":"IF(Vstupy!BG152=\"\",\"\",Vstupy!BG152)","v":""},null,null,null,null,null,null,null,"#Vstupy!BG152"]
[null,null,null,null,null,null,{"$f":"IF(Vstupy!BK152=\"\",\"\",Vstupy!BK152)","v":""},null,null,null,null,null,null,null,"#Vstupy!BK152"]
[null,null,null,null,null,null,{"$f":"IF(Vstupy!BO152=\"\",\"\",Vstupy!BO152)","v":""},null,null,null,null,null,null,null,"#Vstupy!BO152"]
[null,null,null,null,null,null,{"$f":"IF(Vstupy!BS152=\"\",\"\",Vstupy!BS152)","v":""},null,null,null,null,null,null,null,"#Vstupy!BS152"]
[null,null,null,null,null,null,{"$f":"IF(Vstupy!BW152=\"\",\"\",Vstupy!BW152)","v":""},null,null,null,null,null,null,null,"#Vstupy!BW152"]
[null,null,null,null,null,null,{"$f":"IF(Vstupy!CA152=\"\",\"\",Vstupy!CA152)","v":""},null,null,null,null,null,null,null,"#Vstupy!CA152"]
[null,null,null,"analýza příjmů a nákladů - prijmy",null,null,{"$f":"IF(Vstupy!S159=\"\",\"\",Vstupy!S159)","v":"Jiné - zadejte"},null,null,null,null,null,null,null,"#Vstupy!S159"]
[null,null,null,null,null,null,{"$f":"IF(Vstupy!S160=\"\",\"\",Vstupy!S160)","v":"Jiné - zadejte"},null,null,null,null,null,null,null,"#Vstupy!S160"]
[null,null,null,null,null,null,{"$f":"IF(Vstupy!AG155=\"\",\"\",Vstupy!AG155)","v":12},null,null,null,null,null,null,null,"#Vstupy!AG155"]
[null,null,null,null,null,null,{"$f":"IF(Vstupy!AG156=\"\",\"\",Vstupy!AG156)","v":12},null,null,null,null,null,null,null,"#Vstupy!AG156"]
[null,null,null,null,null,null,{"$f":"IF(Vstupy!AG157=\"\",\"\",Vstupy!AG157)","v":12},null,null,null,null,null,null,null,"#Vstupy!AG157"]
[null,null,null,null,null,null,{"$f":"IF(Vstupy!AG158=\"\",\"\",Vstupy!AG158)","v":12},null,null,null,null,null,null,null,"#Vstupy!AG158"]
[null,null,null,null,null,null,{"$f":"IF(Vstupy!AG159=\"\",\"\",Vstupy!AG159)","v":12},null,null,null,null,null,null,null,"#Vstupy!AG159"]
[null,null,null,null,null,null,{"$f":"IF(Vstupy!AG160=\"\",\"\",Vstupy!AG160)","v":12},null,null,null,null,null,null,null,"#Vstupy!AG160"]
[null,null,null,null,null,null,{"$f":"IF(Vstupy!AI155=\"\",\"\",Vstupy!AI155)","v":""},null,null,null,null,null,null,null,"#Vstupy!AI155"]
[null,null,null,null,null,null,{"$f":"IF(Vstupy!AI156=\"\",\"\",Vstupy!AI156)","v":""},null,null,null,null,null,null,null,"#Vstupy!AI156"]
[null,null,null,null,null,null,{"$f":"IF(Vstupy!AI157=\"\",\"\",Vstupy!AI157)","v":""},null,null,null,null,null,null,null,"#Vstupy!AI157"]
[null,null,null,null,null,null,{"$f":"IF(Vstupy!AI158=\"\",\"\",Vstupy!AI158)","v":""},null,null,null,null,null,null,null,"#Vstupy!AI158"]
[null,null,null,null,null,null,{"$f":"IF(Vstupy!AI159=\"\",\"\",Vstupy!AI159)","v":""},null,null,null,null,null,null,null,"#Vstupy!AI159"]
[null,null,null,null,null,null,{"$f":"IF(Vstupy!AI160=\"\",\"\",Vstupy!AI160)","v":""},null,null,null,null,null,null,null,"#Vstupy!AI160"]
[null,null,null,null,null,null,{"$f":"IF(Vstupy!AM155=\"\",\"\",Vstupy!AM155)","v":""},null,null,null,null,null,null,null,"#Vstupy!AM155"]
[null,null,null,null,null,null,{"$f":"IF(Vstupy!AM156=\"\",\"\",Vstupy!AM156)","v":""},null,null,null,null,null,null,null,"#Vstupy!AM156"]
[null,null,null,null,null,null,{"$f":"IF(Vstupy!AM157=\"\",\"\",Vstupy!AM157)","v":""},null,null,null,null,null,null,null,"#Vstupy!AM157"]
[null,null,null,null,null,null,{"$f":"IF(Vstupy!AM158=\"\",\"\",Vstupy!AM158)","v":""},null,null,null,null,null,null,null,"#Vstupy!AM158"]
[null,null,null,null,null,null,{"$f":"IF(Vstupy!AM159=\"\",\"\",Vstupy!AM159)","v":""},null,null,null,null,null,null,null,"#Vstupy!AM159"]
[null,null,null,null,null,null,{"$f":"IF(Vstupy!AM160=\"\",\"\",Vstupy!AM160)","v":""},null,null,null,null,null,null,null,"#Vstupy!AM160"]
[null,null,null,null,"zajištění příjmu - obecne + smrt",null,{"$f":"IF(Vstupy!AF171=\"\",\"\",Vstupy!AF171)","v":""},null,null,null,null,null,null,null,"#Vstupy!AF171"]
[null,null,null,null,null,null,{"$f":"IF(Vstupy!AF172=\"\",\"\",Vstupy!AF172)","v":""},null,null,null,null,null,null,null,"#Vstupy!AF172"]
[null,null,null,null,null,null,{"$f":"IF(Vstupy!AH174=\"\",\"\",Vstupy!AH174)","v":""},null,null,null,null,null,null,null,"#Vstupy!AH174"]
[null,null,null,null,null,null,{"$f":"IF(Vstupy!AF175=\"\",\"\",Vstupy!AF175)","v":""},null,null,null,null,null,null,null,"#Vstupy!AF175"]
[null,null,null,null,null,null,{"$f":"IF(Vstupy!AS174=\"\",\"\",Vstupy!AS174)","v":""},null,null,null,null,null,null,null,"#Vstupy!AS174"]
[null,null,null,null,null,null,{"$f":"IF(Vstupy!AQ175=\"\",\"\",Vstupy!AQ175)","v":""},null,null,null,null,null,null,null,"#Vstupy!AQ175"]
[null,null,null,null,"zajištění příjmu - invalidita 1",null,{"$f":"IF(Vstupy!AF184=\"\",\"\",Vstupy!AF184)","v":""},null,null,null,null,null,null,null,"#Vstupy!AF184"]
[null,null,null,null,null,null,{"$f":"IF(Vstupy!AL184=\"\",\"\",Vstupy!AL184)","v":""},null,null,null,null,null,null,null,"#Vstupy!AL184"]
[null,null,null,null,null,null,{"$f":"IF(Vstupy!AH185=\"\",\"\",Vstupy!AH185)","v":""},null,null,null,null,null,null,null,"#Vstupy!AH185"]
[null,null,null,null,null,null,{"$f":"IF(Vstupy!AF186=\"\",\"\",Vstupy!AF186)","v":""},null,null,null,null,null,null,null,"#Vstupy!AF186"]
[null,null,null,null,null,null,{"$f":"IF(Vstupy!AN186=\"\",\"\",Vstupy!AN186)","v":""},null,null,null,null,null,null,null,"#Vstupy!AN186"]
[null,null,null,null,null,null,{"$f":"IF(Vstupy!AN187=\"\",\"\",Vstupy!AN187)","v":""},null,null,null,null,null,null,null,"#Vstupy!AN187"]
[null,null,null,null,"zajištění příjmu - invalidita 2",null,{"$f":"IF(Vstupy!AQ184=\"\",\"\",Vstupy!AQ184)","v":""},null,null,null,null,null,null,null,"#Vstupy!AQ184"]
[null,null,null,null,null,null,{"$f":"IF(Vstupy!AW184=\"\",\"\",Vstupy!AW184)","v":""},null,null,null,null,null,null,null,"#Vstupy!AW184"]
[null,null,null,null,null,null,{"$f":"IF(Vstupy!AS185=\"\",\"\",Vstupy!AS185)","v":""},null,null,null,null,null,null,null,"#Vstupy!AS185"]
[null,null,null,null,null,null,{"$f":"IF(Vstupy!AQ186=\"\",\"\",Vstupy!AQ186)","v":""},null,null,null,null,null,null,null,"#Vstupy!AQ186"]
[null,null,null,null,null,null,{"$f":"IF(Vstupy!AY186=\"\",\"\",Vstupy!AY186)","v":""},null,null,null,null,null,null,null,"#Vstupy!AY186"]
[null,null,null,null,null,null,{"$f":"IF(Vstupy!AY187=\"\",\"\",Vstupy!AY187)","v":""},null,null,null,null,null,null,null,"#Vstupy!AY187"]
[null,null,null,null,"zajištění příjmu - invalidita 3",null,{"$f":"IF(Vstupy!BB184=\"\",\"\",Vstupy!BB184)","v":""},null,null,null,null,null,null,null,"#Vstupy!BB184"]
[null,null,null,null,null,null,{"$f":"IF(Vstupy!BH184=\"\",\"\",Vstupy!BH184)","v":""},null,null,null,null,null,null,null,"#Vstupy!BH184"]
[null,null,null,null,null,null,{"$f":"IF(Vstupy!BD185=\"\",\"\",Vstupy!BD185)","v":""},null,null,null,null,null,null,null,"#Vstupy!BD185"]
[null,null,null,null,null,null,{"$f":"IF(Vstupy!BB186=\"\",\"\",Vstupy!BB186)","v":""},null,null,null,null,null,null,null,"#Vstupy!BB186"]
[null,null,null,null,null,null,{"$f":"IF(Vstupy!BJ186=\"\",\"\",Vstupy!BJ186)","v":""},null,null,null,null,null,null,null,"#Vstupy!BJ186"]
[null,null,null,null,null,null,{"$f":"IF(Vstupy!BJ187=\"\",\"\",Vstupy!BJ187)","v":""},null,null,null,null,null,null,null,"#Vstupy!BJ187"]
[null,null,null,null,"zajištění příjmu - invalidita 4",null,{"$f":"IF(Vstupy!BM184=\"\",\"\",Vstupy!BM184)","v":""},null,null,null,null,null,null,null,"#Vstupy!BM184"]
[null,null,null,null,null,null,{"$f":"IF(Vstupy!BS184=\"\",\"\",Vstupy!BS184)","v":""},null,null,null,null,null,null,null,"#Vstupy!BS184"]
[null,null,null,null,null,null,{"$f":"IF(Vstupy!BO185=\"\",\"\",Vstupy!BO185)","v":""},null,null,null,null,null,null,null,"#Vstupy!BO185"]
[null,null,null,null,null,null,{"$f":"IF(Vstupy!BM186=\"\",\"\",Vstupy!BM186)","v":""},null,null,null,null,null,null,null,"#Vstupy!BM186"]
[null,null,null,null,null,null,{"$f":"IF(Vstupy!BU186=\"\",\"\",Vstupy!BU186)","v":""},null,null,null,null,null,null,null,"#Vstupy!BU186"]
[null,null,null,null,null,null,{"$f":"IF(Vstupy!BU187=\"\",\"\",Vstupy!BU187)","v":""},null,null,null,null,null,null,null,"#Vstupy!BU187"]
[null,null,null,null,"zajištění příjmu - invalidita 5",null,{"$f":"IF(Vstupy!BX184=\"\",\"\",Vstupy!BX184)","v":""},null,null,null,null,null,null,null,"#Vstupy!BX184"]
[null,null,null,null,null,null,{"$f":"IF(Vstupy!CD184=\"\",\"\",Vstupy!CD184)","v":""},null,null,null,null,null,null,null,"#Vstupy!CD184"]
[null,null,null,null,null,null,{"$f":"IF(Vstupy!BZ185=\"\",\"\",Vstupy!BZ185)","v":""},null,null,null,null,null,null,null,"#Vstupy!BZ185"]
[null,null,null,null,null,null,{"$f":"IF(Vstupy!BX186=\"\",\"\",Vstupy!BX186)","v":""},null,null,null,null,null,null,null,"#Vstupy!BX186"]
[null,null,null,null,null,null,{"$f":"IF(Vstupy!CF186=\"\",\"\",Vstupy!CF186)","v":""},null,null,null,null,null,null,null,"#Vstupy!CF186"]
[null,null,null,null,null,null,{"$f":"IF(Vstupy!CF187=\"\",\"\",Vstupy!CF187)","v":""},null,null,null,null,null,null,null,"#Vstupy!CF187"]
[null,null,null,null,"prac nesch+ztráta zam",null,{"$f":"IF(Vstupy!AJ193=\"\",\"\",Vstupy!AJ193)","v":""},null,null,null,null,null,null,null,"#Vstupy!AJ193"]
[null,null,null,null,null,null,{"$f":"IF(Vstupy!AU193=\"\",\"\",Vstupy!AU193)","v":""},null,null,null,null,null,null,null,"#Vstupy!AU193"]
[null,null,null,null,null,null,{"$f":"IF(Vstupy!AF194=\"\",\"\",Vstupy!AF194)","v":""},null,null,null,null,null,null,null,"#Vstupy!AF194"]
[null,null,null,null,null,null,{"$f":"IF(Vstupy!AQ194=\"\",\"\",Vstupy!AQ194)","v":""},null,null,null,null,null,null,null,"#Vstupy!AQ194"]
[null,null,null,null,null,null,{"$f":"IF(Vstupy!AF201=\"\",\"\",Vstupy!AF201)","v":""},null,null,null,null,null,null,null,"#Vstupy!AF201"]
[null,null,null,null,null,null,{"$f":"IF(Vstupy!AQ201=\"\",\"\",Vstupy!AQ201)","v":""},null,null,null,null,null,null,null,"#Vstupy!AQ201"]
[null,null,null,null,"osoby - ne zaj. Prijmu",null,{"$f":"IF(Vstupy!AF205=\"\",\"\",Vstupy!AF205)","v":""},null,null,null,null,null,null,null,"#Vstupy!AF205"]
[null,null,null,null,null,null,{"$f":"IF(Vstupy!AF206=\"\",\"\",Vstupy!AF206)","v":""},null,null,null,null,null,null,null,"#Vstupy!AF206"]
[null,null,null,null,"penze",null,{"$f":"IF(Vstupy!AF210=\"\",\"\",Vstupy!AF210)","v":""},null,null,null,null,null,null,null,"#Vstupy!AF210"]
[null,null,null,null,null,null,{"$f":"IF(Vstupy!AF211=\"\",\"\",Vstupy!AF211)","v":""},null,null,null,null,null,null,null,"#Vstupy!AF211"]
[null,null,null,null,null,null,{"$f":"IF(Vstupy!AD212=\"\",\"\",Vstupy!AD212)","v":1.4999999999999999E-2},null,null,null,null,null,null,null,"#Vstupy!AD212"]
[null,null,null,null,null,null,{"$f":"IF(Vstupy!AF212=\"\",\"\",Vstupy!AF212)","v":""},null,null,null,null,null,null,null,"#Vstupy!AF212"]
[null,null,null,null,null,null,{"$f":"IF(Vstupy!AH213=\"\",\"\",Vstupy!AH213)","v":""},null,null,null,null,null,null,null,"#Vstupy!AH213"]
[null,null,null,null,null,null,{"$f":"IF(Vstupy!AF214=\"\",\"\",Vstupy!AF214)","v":""},null,null,null,null,null,null,null,"#Vstupy!AF214"]
[null,null,null,null,null,null,{"$f":"IF(Vstupy!AN214=\"\",\"\",Vstupy!AN214)","v":""},null,null,null,null,null,null,null,"#Vstupy!AN214"]
[null,null,null,null,null,null,{"$f":"IF(Vstupy!AN215=\"\",\"\",Vstupy!AN215)","v":""},null,null,null,null,null,null,null,"#Vstupy!AN215"]
[null,null,null,null,null,null,{"$f":"IF(Vstupy!AQ212=\"\",\"\",Vstupy!AQ212)","v":""},null,null,null,null,null,null,null,"#Vstupy!AQ212"]
[null,null,null,null,null,null,{"$f":"IF(Vstupy!AS213=\"\",\"\",Vstupy!AS213)","v":""},null,null,null,null,null,null,null,"#Vstupy!AS213"]
[null,null,null,null,null,null,{"$f":"IF(Vstupy!AQ214=\"\",\"\",Vstupy!AQ214)","v":""},null,null,null,null,null,null,null,"#Vstupy!AQ214"]
[null,null,null,null,null,null,{"$f":"IF(Vstupy!AY214=\"\",\"\",Vstupy!AY214)","v":""},null,null,null,null,null,null,null,"#Vstupy!AY214"]
[null,null,null,null,null,null,{"$f":"IF(Vstupy!AY215=\"\",\"\",Vstupy!AY215)","v":""},null,null,null,null,null,null,null,"#Vstupy!AY215"]
[null,null,null,null,"fin bydleni",null,{"$f":"IF(Vstupy!AF236=\"\",\"\",Vstupy!AF236)","v":""},null,null,null,null,null,null,null,"#Vstupy!AF236"]
[null,null,null,null,null,null,{"$f":"IF(Vstupy!AF237=\"\",\"\",Vstupy!AF237)","v":""},null,null,null,null,null,null,null,"#Vstupy!AF237"]
[null,null,null,null,null,null,{"$f":"IF(Vstupy!AF238=\"\",\"\",Vstupy!AF238)","v":""},null,null,null,null,null,null,null,"#Vstupy!AF238"]
[null,null,null,null,null,null,{"$f":"IF(Vstupy!AS238=\"\",\"\",Vstupy!AS238)","v":""},null,null,null,null,null,null,null,"#Vstupy!AS238"]
[null,null,null,null,null,null,{"$f":"IF(Vstupy!BI238=\"\",\"\",Vstupy!BI238)","v":""},null,null,null,null,null,null,null,"#Vstupy!BI238"]
[null,null,null,null,null,null,{"$f":"IF(Vstupy!AF239=\"\",\"\",Vstupy!AF239)","v":""},null,null,null,null,null,null,null,"#Vstupy!AF239"]
[null,null,null,null,null,null,{"$f":"IF(Vstupy!AF240=\"\",\"\",Vstupy!AF240)","v":""},null,null,null,null,null,null,null,"#Vstupy!AF240"]
[null,null,null,null,null,null,{"$f":"IF(Vstupy!AF241=\"\",\"\",Vstupy!AF241)","v":""},null,null,null,null,null,null,null,"#Vstupy!AF241"]
[null,null,null,null,"poj. Majetku",null,{"$f":"IF(Vstupy!AF252=\"\",\"\",Vstupy!AF252)","v":""},null,null,null,null,null,null,null,"#Vstupy!AF252"]
[null,null,null,null,null,null,{"$f":"IF(Vstupy!AF253=\"\",\"\",Vstupy!AF253)","v":""},null,null,null,null,null,null,null,"#Vstupy!AF253"]
[null,null,null,null,null,null,{"$f":"IF(Vstupy!AF254=\"\",\"\",Vstupy!AF254)","v":""},null,null,null,null,null,null,null,"#Vstupy!AF254"]
[null,null,null,null,null,null,{"$f":"IF(Vstupy!AK254=\"\",\"\",Vstupy!AK254)","v":""},null,null,null,null,null,null,null,"#Vstupy!AK254"]
[null,null,null,null,null,null,{"$f":"IF(Vstupy!BD254=\"\",\"\",Vstupy!BD254)","v":""},null,null,null,null,null,null,null,"#Vstupy!BD254"]
[null,null,null,null,null,null,{"$f":"IF(Vstupy!BI254=\"\",\"\",Vstupy!BI254)","v":""},null,null,null,null,null,null,null,"#Vstupy!BI254"]
[null,null,null,null,null,null,{"$f":"IF(Vstupy!AF255=\"\",\"\",Vstupy!AF255)","v":""},null,null,null,null,null,null,null,"#Vstupy!AF255"]
[null,null,null,null,null,null,{"$f":"IF(Vstupy!AK255=\"\",\"\",Vstupy!AK255)","v":""},null,null,null,null,null,null,null,"#Vstupy!AK255"]
[null,null,null,null,null,null,{"$f":"IF(Vstupy!BD255=\"\",\"\",Vstupy!BD255)","v":""},null,null,null,null,null,null,null,"#Vstupy!BD255"]
[null,null,null,null,null,null,{"$f":"IF(Vstupy!BI255=\"\",\"\",Vstupy!BI255)","v":""},null,null,null,null,null,null,null,"#Vstupy!BI255"]
[null,null,null,null,null,null,{"$f":"IF(Vstupy!AF256=\"\",\"\",Vstupy!AF256)","v":""},null,null,null,null,null,null,null,"#Vstupy!AF256"]
[null,null,null,null,null,null,{"$f":"IF(Vstupy!AK256=\"\",\"\",Vstupy!AK256)","v":""},null,null,null,null,null,null,null,"#Vstupy!AK256"]
[null,null,null,null,null,null,{"$f":"IF(Vstupy!BD256=\"\",\"\",Vstupy!BD256)","v":""},null,null,null,null,null,null,null,"#Vstupy!BD256"]
[null,null,null,null,null,null,{"$f":"IF(Vstupy!BI256=\"\",\"\",Vstupy!BI256)","v":""},null,null,null,null,null,null,null,"#Vstupy!BI256"]
[null,null,null,null,"investice",null,{"$f":"IF(Vstupy!AF269=\"\",\"\",Vstupy!AF269)","v":""},null,null,null,null,null,null,null,"#Vstupy!AF269"]
[null,null,null,null,null,null,{"$f":"IF(Vstupy!AF270=\"\",\"\",Vstupy!AF270)","v":""},null,null,null,null,null,null,null,"#Vstupy!AF270"]
[null,null,null,null,null,null,{"$f":"IF(Vstupy!AF271=\"\",\"\",Vstupy!AF271)","v":""},null,null,null,null,null,null,null,"#Vstupy!AF271"]
[null,null,null,null,null,null,{"$f":"IF(Vstupy!AS271=\"\",\"\",Vstupy!AS271)","v":""},null,null,null,null,null,null,null,"#Vstupy!AS271"]
[null,null,null,null,null,null,{"$f":"IF(Vstupy!BF271=\"\",\"\",Vstupy!BF271)","v":""},null,null,null,null,null,null,null,"#Vstupy!BF271"]
[null,null,null,null,null,null,{"$f":"IF(Vstupy!BS271=\"\",\"\",Vstupy!BS271)","v":""},null,null,null,null,null,null,null,"#Vstupy!BS271"]
[null,null,null,null,null,null,{"$f":"IF(Vstupy!AF272=\"\",\"\",Vstupy!AF272)","v":""},null,null,null,null,null,null,null,"#Vstupy!AF272"]
[null,null,null,null,null,null,{"$f":"IF(Vstupy!AS272=\"\",\"\",Vstupy!AS272)","v":""},null,null,null,null,null,null,null,"#Vstupy!AS272"]
[null,null,null,null,null,null,{"$f":"IF(Vstupy!BF272=\"\",\"\",Vstupy!BF272)","v":""},null,null,null,null,null,null,null,"#Vstupy!BF272"]
[null,null,null,null,null,null,{"$f":"IF(Vstupy!BS272=\"\",\"\",Vstupy!BS272)","v":""},null,null,null,null,null,null,null,"#Vstupy!BS272"]
[null,null,null,null,"konsolidace",null,{"$f":"IF(Vstupy!AF274=\"\",\"\",Vstupy!AF274)","v":""},null,null,null,null,null,null,null,"#Vstupy!AF274"]
[null,null,null,null,null,null,{"$f":"IF(Vstupy!AF275=\"\",\"\",Vstupy!AF275)","v":""},null,null,null,null,null,null,null,"#Vstupy!AF275"]
[null,null,null,null,"jiné",null,{"$f":"IF(Vstupy!AF289=\"\",\"\",Vstupy!AF289)","v":""},null,null,null,null,null,null,null,"#Vstupy!AF289"]
[null,null,null,null,null,null,{"$f":"IF(Vstupy!AF290=\"\",\"\",Vstupy!AF290)","v":""},null,null,null,null,null,null,null,"#Vstupy!AF290"]
[null,null,null,null,"oblasti - data se vkládají jinam než odkud se berou!!!!",null,{"$f":"Vstupy!A16","v":1},null,null,null,null,null,null,null,"#Vstupy!A16"]
[null,null,null,null,null,null,{"$f":"Vstupy!A17","v":0},null,null,null,null,null,null,null,"#Vstupy!A17"]
[null,null,null,null,null,null,{"$f":"Vstupy!A18","v":0},null,null,null,null,null,null,null,"#Vstupy!A18"]
[null,null,null,null,null,null,{"$f":"Vstupy!A19","v":0},null,null,null,null,null,null,null,"#Vstupy!A19"]
[null,null,null,null,null,null,{"$f":"Vstupy!A20","v":0},null,null,null,null,null,null,null,"#Vstupy!A20"]
[null,null,null,null,null,null,{"$f":"Vstupy!A21","v":0},null,null,null,null,null,null,null,"#Vstupy!A21"]
[null,null,null,null,null,null,{"$f":"Vstupy!A22","v":0},null,null,null,null,null,null,null,"#Vstupy!A22"]
[null,null,null,null,null,null,{"$f":"Vstupy!A23","v":0},null,null,null,null,null,null,null,"#Vstupy!A23"]
[null,null,null,null,null,null,{"$f":"Vstupy!A24","v":0},null,null,null,null,null,null,null,"#Vstupy!A24"]
[null,null,null,null,"oslovení - z listu Vystup1",null,{"$f":"Vystup1!K59","v":"Vážený kliente"}]

{"sheet":"HelpPoznamky","index":6,"n_rows":5,"n_cols":5,"rows_kept":5,"cut":false,"hidden":false,"merged":[]}
[{"$f":"Vstupy!AF49","v":0},"Tahoma 18"]
[{"$f":"Vstupy!AF241","v":0}]
[null,{"$f":"A2","v":0},{"$f":"Vstupy!AF236","v":0}]
[null,null,null,{"$f":"B3","v":0},"Tahoma 18"]
[null,null,null,null,{"$f":"A1","v":0}]

{"sheet":"Help","index":7,"n_rows":14,"n_cols":17,"rows_kept":14,"cut":false,"hidden":false,"merged":[]}
["Help",null,"měsíční penze",null,null,null,"penze"]
["Tisky",null,"jednorázová výplata",null,null,null,"zhodnocení za jiným účelem"]
["Vypocty1"]
[]
[]
[]
[]
[]
[]
[null,1,2,3,4,5,6,7,8,9,10,11,12,13,14]
[null,"B","C","D","E","F","G","H","I","J","K","L","M","N","O"]
[null,{"$f":"Vstupy!AA150","v":0},{"$f":"Vstupy!AE150","v":0},{"$f":"Vstupy!AI150","v":0},{"$f":"Vstupy!AM150","v":0},{"$f":"Vstupy!AQ150","v":0},{"$f":"Vstupy!AU150","v":0},{"$f":"Vstupy!AY150","v":0},{"$f":"Vstupy!BC150","v":0},{"$f":"Vstupy!BG150","v":0},{"$f":"Vstupy!BK150","v":0},{"$f":"Vstupy!BO150","v":0},{"$f":"Vstupy!BS150","v":0},{"$f":"Vstupy!BW150","v":0},{"$f":"Vstupy!CA150","v":0},null,{"$f":"COUNTIF(B12:O12,\">0\")","v":0}]
[null,{"$f":"Vstupy!AA151","v":0},{"$f":"Vstupy!AE151","v":0},{"$f":"Vstupy!AI151","v":0},{"$f":"Vstupy!AM151","v":0},{"$f":"Vstupy!AQ151","v":0},{"$f":"Vstupy!AU151","v":0},{"$f":"Vstupy!AY151","v":0},{"$f":"Vstupy!BC151","v":0},{"$f":"Vstupy!BG151","v":0},{"$f":"Vstupy!BK151","v":0},{"$f":"Vstupy!BO151","v":0},{"$f":"Vstupy!BS151","v":0},{"$f":"Vstupy!BW151","v":0},{"$f":"Vstupy!CA151","v":0},null,{"$f":"IF(Q12>0,INDEX(B10:O11,2,Q12),\"b\")","v":"b"}]
[null,{"$f":"Vstupy!AA152","v":0},{"$f":"Vstupy!AE152","v":0},{"$f":"Vstupy!AI152","v":0},{"$f":"Vstupy!AM152","v":0},{"$f":"Vstupy!AQ152","v":0},{"$f":"Vstupy!AU152","v":0},{"$f":"Vstupy!AY152","v":0},{"$f":"Vstupy!BC152","v":0},{"$f":"Vstupy!BG152","v":0},{"$f":"Vstupy!BK152","v":0},{"$f":"Vstupy!BO152","v":0},{"$f":"Vstupy!BS152","v":0},{"$f":"Vstupy!BW152","v":0},{"$f":"Vstupy!CA152","v":0}]

{"sheet":"Import1","index":8,"n_rows":510,"n_cols":5,"rows_kept":510,"cut":false,"hidden":false,"merged":[]}
[]
[]
[]
[]
[1]
[520]
[41150]
["FP -  novotny 20120829"]
["FPOVB"]
[]
[]
["","Vstupy!AI10",null,{"$f":"MID(B12,1,SEARCH(\"!\",B12)-1)","v":"Vstupy"},{"$f":"MID(B12,SEARCH(\"!\",B12)+1,LEN(B12))","v":"AI10"}]
[false,"Vstupy!B7",null,{"$f":"MID(B13,1,SEARCH(\"!\",B13)-1)","v":"Vstupy"},{"$f":"MID(B13,SEARCH(\"!\",B13)+1,LEN(B13))","v":"B7"}]
["novotny","Vstupy!AF9",null,"Vstupy","AF9"]
["","Vstupy!AF10",null,"Vstupy","AF10"]
["","Vstupy!AF11",null,"Vstupy","AF11"]
["","Vstupy!AF12",null,"Vstupy","AF12"]
["","Vstupy!AF13",null,"Vstupy","AF13"]
["","Vstupy!AF14",null,"Vstupy","AF14"]
["","Vstupy!AF15",null,"Vstupy","AF15"]
["","Vstupy!AF16",null,"Vstupy","AF16"]
["","Vstupy!AF17",null,"Vstupy","AF17"]
["","Vstupy!AF18",null,"Vstupy","AF18"]
["","Vstupy!AF19",null,"Vstupy","AF19"]
["","Vstupy!AF20",null,"Vstupy","AF20"]
["","Vstupy!AF21",null,"Vstupy","AF21"]
["","Vstupy!AF22",null,"Vstupy","AF22"]
["","Vstupy!AF23",null,"Vstupy","AF23"]
["","Vstupy!AF24",null,"Vstupy","AF24"]
["","Vstupy!AT10",null,"Vstupy","AT10"]
[false,"Vstupy!C7",null,"Vstupy","C7"]
["","Vstupy!AQ9",null,"Vstupy","AQ9"]
["","Vstupy!AQ10",null,"Vstupy","AQ10"]
["","Vstupy!AQ11",null,"Vstupy","AQ11"]
["","Vstupy!AQ12",null,"Vstupy","AQ12"]
["","Vstupy!AQ13",null,"Vstupy","AQ13"]
["","Vstupy!AQ14",null,"Vstupy","AQ14"]
["","Vstupy!AQ15",null,"Vstupy","AQ15"]
["","Vstupy!AQ16",null,"Vstupy","AQ16"]
["","Vstupy!AQ17",null,"Vstupy","AQ17"]
["","Vstupy!AQ18",null,"Vstupy","AQ18"]
["","Vstupy!AQ19",null,"Vstupy","AQ19"]
["","Vstupy!AQ20",null,"Vstupy","AQ20"]
["","Vstupy!AQ21",null,"Vstupy","AQ21"]
["","Vstupy!AQ22",null,"Vstupy","AQ22"]
["","Vstupy!AQ23",null,"Vstupy","AQ23"]
["","Vstupy!AQ24",null,"Vstupy","AQ24"]
["","Vstupy!BB9",null,"Vstupy","BB9"]
["","Vstupy!BB10",null,"Vstupy","BB10"]
["","Vstupy!BB11",null,"Vstupy","BB11"]
["","Vstupy!BB12",null,"Vstupy","BB12"]
["","Vstupy!BB13",null,"Vstupy","BB13"]
["","Vstupy!BB14",null,"Vstupy","BB14"]
["","Vstupy!BB15",null,"Vstupy","BB15"]
["","Vstupy!BB16",null,"Vstupy","BB16"]
["","Vstupy!BB17",null,"Vstupy","BB17"]
["","Vstupy!BB18",null,"Vstupy","BB18"]
["","Vstupy!BB19",null,"Vstupy","BB19"]
["","Vstupy!BB20",null,"Vstupy","BB20"]
["","Vstupy!BB21",null,"Vstupy","BB21"]
["","Vstupy!BM9",null,"Vstupy","BM9"]
["","Vstupy!BM10",null,"Vstupy","BM10"]
["","Vstupy!BM11",null,"Vstupy","BM11"]
["","Vstupy!BM12",null,"Vstupy","BM12"]
["","Vstupy!BM13",null,"Vstupy","BM13"]
["","Vstupy!BM14",null,"Vstupy","BM14"]
["","Vstupy!BM15",null,"Vstupy","BM15"]
["","Vstupy!BM16",null,"Vstupy","BM16"]
["","Vstupy!BM17",null,"Vstupy","BM17"]
["","Vstupy!BM18",null,"Vstupy","BM18"]
["","Vstupy!BM19",null,"Vstupy","BM19"]
["","Vstupy!BM20",null,"Vstupy","BM20"]
["","Vstupy!BM21",null,"Vstupy","BM21"]
["","Vstupy!BX9",null,"Vstupy","BX9"]
["","Vstupy!BX10",null,"Vstupy","BX10"]
["","Vstupy!BX11",null,"Vstupy","BX11"]
["","Vstupy!BX12",null,{"$f":"MID(B77,1,SEARCH(\"!\",B77)-1)","v":"Vstupy"},{"$f":"MID(B77,SEARCH(\"!\",B77)+1,LEN(B77))","v":"BX12"}]
["","Vstupy!BX13",null,"Vstupy","BX13"]
["","Vstupy!BX14",null,"Vstupy","BX14"]
["","Vstupy!BX15",null,"Vstupy","BX15"]
["","Vstupy!BX16",null,"Vstupy","BX16"]
["","Vstupy!BX17",null,"Vstupy","BX17"]
["","Vstupy!BX18",null,"Vstupy","BX18"]
["","Vstupy!BX19",null,"Vstupy","BX19"]
["","Vstupy!BX20",null,"Vstupy","BX20"]
["","Vstupy!BX21",null,"Vstupy","BX21"]
["","Vstupy!AI25",null,"Vstupy","AI25"]
["","Vstupy!AV25",null,"Vstupy","AV25"]
["","Vstupy!BB25",null,"Vstupy","BB25"]
["","Vstupy!AI26",null,"Vstupy","AI26"]
["","Vstupy!AV26",null,{"$f":"MID(B91,1,SEARCH(\"!\",B91)-1)","v":"Vstupy"},{"$f":"MID(B91,SEARCH(\"!\",B91)+1,LEN(B91))","v":"AV26"}]
["","Vstupy!BB26",null,"Vstupy","BB26"]
["Jiné - zadejte","Vstupy!S88",null,"Vstupy","S88"]
[12,"Vstupy!AE75",null,"Vstupy","AE75"]
[12,"Vstupy!AE76",null,"Vstupy","AE76"]
[12,"Vstupy!AE77",null,"Vstupy","AE77"]
[12,"Vstupy!AE78",null,"Vstupy","AE78"]
[12,"Vstupy!AE79",null,"Vstupy","AE79"]
[12,"Vstupy!AE80",null,"Vstupy","AE80"]
[12,"Vstupy!AE81",null,"Vstupy","AE81"]
[12,"Vstupy!AE82",null,"Vstupy","AE82"]
[12,"Vstupy!AE83",null,"Vstupy","AE83"]
[12,"Vstupy!AE84",null,"Vstupy","AE84"]
[12,"Vstupy!AE85",null,"Vstupy","AE85"]
[12,"Vstupy!AE86",null,"Vstupy","AE86"]
[12,"Vstupy!AE87",null,"Vstupy","AE87"]
[12,"Vstupy!AE88",null,"Vstupy","AE88"]
["","Vstupy!AG75",null,"Vstupy","AG75"]
["","Vstupy!AG76",null,"Vstupy","AG76"]
["","Vstupy!AG77",null,"Vstupy","AG77"]
["","Vstupy!AG78",null,"Vstupy","AG78"]
["","Vstupy!AG79",null,"Vstupy","AG79"]
["","Vstupy!AG80",null,"Vstupy","AG80"]
["","Vstupy!AG81",null,"Vstupy","AG81"]
["","Vstupy!AG82",null,"Vstupy","AG82"]
["","Vstupy!AG83",null,"Vstupy","AG83"]
["","Vstupy!AG84",null,"Vstupy","AG84"]
["","Vstupy!AG85",null,"Vstupy","AG85"]
["","Vstupy!AG86",null,"Vstupy","AG86"]
["","Vstupy!AG87",null,"Vstupy","AG87"]
["","Vstupy!AG88",null,"Vstupy","AG88"]
["","Vstupy!AK75",null,"Vstupy","AK75"]
["","Vstupy!AK76",null,"Vstupy","AK76"]
["","Vstupy!AK77",null,"Vstupy","AK77"]
["","Vstupy!AK78",null,"Vstupy","AK78"]
["","Vstupy!AK79",null,"Vstupy","AK79"]
["","Vstupy!AK80",null,"Vstupy","AK80"]
["","Vstupy!AK81",null,"Vstupy","AK81"]
["","Vstupy!AK82",null,"Vstupy","AK82"]
["","Vstupy!AK83",null,"Vstupy","AK83"]
["","Vstupy!AK84",null,"Vstupy","AK84"]
["","Vstupy!AK85",null,"Vstupy","AK85"]
["","Vstupy!AK86",null,"Vstupy","AK86"]
["","Vstupy!AK87",null,"Vstupy","AK87"]
["","Vstupy!AK88",null,"Vstupy","AK88"]
["","Vstupy!AO75",null,"Vstupy","AO75"]
["","Vstupy!AO76",null,"Vstupy","AO76"]
["","Vstupy!AO77",null,"Vstupy","AO77"]
["","Vstupy!AO78",null,"Vstupy","AO78"]
["","Vstupy!AO79",null,"Vstupy","AO79"]
["","Vstupy!AO80",null,"Vstupy","AO80"]
["","Vstupy!AO81",null,"Vstupy","AO81"]
["","Vstupy!AO82",null,"Vstupy","AO82"]
["","Vstupy!AO83",null,"Vstupy","AO83"]
["","Vstupy!AO84",null,"Vstupy","AO84"]
["","Vstupy!AO85",null,"Vstupy","AO85"]
["","Vstupy!AO86",null,"Vstupy","AO86"]
["","Vstupy!AO87",null,"Vstupy","AO87"]
["","Vstupy!AO88",null,"Vstupy","AO88"]
["","Vstupy!S96",null,{"$f":"MID(B150,1,SEARCH(\"!\",B150)-1)","v":"Vstupy"},{"$f":"MID(B150,SEARCH(\"!\",B150)+1,LEN(B150))","v":"S96"}]
["","Vstupy!S97",null,"Vstupy","S97"]
["","Vstupy!S98",null,"Vstupy","S98"]
["","Vstupy!S99",null,"Vstupy","S99"]
["","Vstupy!S100",null,"Vstupy","S100"]
[12,"Vstupy!AE96",null,"Vstupy","AE96"]
[12,"Vstupy!AE97",null,"Vstupy","AE97"]
[12,"Vstupy!AE98",null,"Vstupy","AE98"]
[12,"Vstupy!AE99",null,"Vstupy","AE99"]
[12,"Vstupy!AE100",null,"Vstupy","AE100"]
["","Vstupy!AG96",null,"Vstupy","AG96"]
["","Vstupy!AG97",null,"Vstupy","AG97"]
["","Vstupy!AG98",null,"Vstupy","AG98"]
["","Vstupy!AG99",null,"Vstupy","AG99"]
["","Vstupy!AG100",null,"Vstupy","AG100"]
["","Vstupy!AK96",null,"Vstupy","AK96"]
["","Vstupy!AK97",null,"Vstupy","AK97"]
["","Vstupy!AK98",null,"Vstupy","AK98"]
["","Vstupy!AK99",null,"Vstupy","AK99"]
["","Vstupy!AK100",null,"Vstupy","AK100"]
[12,"Vstupy!AW96",null,"Vstupy","AW96"]
[12,"Vstupy!AW97",null,"Vstupy","AW97"]
[12,"Vstupy!AW98",null,"Vstupy","AW98"]
[12,"Vstupy!AW99",null,"Vstupy","AW99"]
[12,"Vstupy!AW100",null,"Vstupy","AW100"]
["","Vstupy!AY96",null,"Vstupy","AY96"]
["","Vstupy!AY97",null,"Vstupy","AY97"]
["","Vstupy!AY98",null,"Vstupy","AY98"]
["","Vstupy!AY99",null,"Vstupy","AY99"]
["","Vstupy!AY100",null,"Vstupy","AY100"]
["","Vstupy!BC96",null,"Vstupy","BC96"]
["","Vstupy!BC97",null,"Vstupy","BC97"]
["","Vstupy!BC98",null,"Vstupy","BC98"]
["","Vstupy!BC99",null,"Vstupy","BC99"]
["","Vstupy!BC100",null,"Vstupy","BC100"]
["","Vstupy!S108",null,"Vstupy","S108"]
["","Vstupy!S109",null,"Vstupy","S109"]
["","Vstupy!S110",null,"Vstupy","S110"]
["","Vstupy!S111",null,"Vstupy","S111"]
["","Vstupy!S112",null,"Vstupy","S112"]
["","Vstupy!S113",null,"Vstupy","S113"]
["","Vstupy!S114",null,"Vstupy","S114"]
[12,"Vstupy!AE108",null,"Vstupy","AE108"]
[12,"Vstupy!AE109",null,"Vstupy","AE109"]
[12,"Vstupy!AE110",null,"Vstupy","AE110"]
[12,"Vstupy!AE111",null,"Vstupy","AE111"]
[12,"Vstupy!AE112",null,"Vstupy","AE112"]
[12,"Vstupy!AE113",null,"Vstupy","AE113"]
[12,"Vstupy!AE114",null,"Vstupy","AE114"]
["","Vstupy!AG108",null,"Vstupy","AG108"]
["","Vstupy!AG109",null,"Vstupy","AG109"]
["","Vstupy!AG110",null,"Vstupy","AG110"]
["","Vstupy!AG111",null,"Vstupy","AG111"]
["","Vstupy!AG112",null,"Vstupy","AG112"]
["","Vstupy!AG113",null,"Vstupy","AG113"]
["","Vstupy!AG114",null,"Vstupy","AG114"]
["","Vstupy!AK108",null,"Vstupy","AK108"]
["","Vstupy!AK109",null,"Vstupy","AK109"]
["","Vstupy!AK110",null,"Vstupy","AK110"]
["","Vstupy!AK111",null,"Vstupy","AK111"]
["","Vstupy!AK112",null,"Vstupy","AK112"]
["","Vstupy!AK113",null,"Vstupy","AK113"]
["","Vstupy!AK114",null,"Vstupy","AK114"]
[12,"Vstupy!AW108",null,"Vstupy","AW108"]
[12,"Vstupy!AW109",null,{"$f":"MID(B214,1,SEARCH(\"!\",B214)-1)","v":"Vstupy"},{"$f":"MID(B214,SEARCH(\"!\",B214)+1,LEN(B214))","v":"AW109"}]
[12,"Vstupy!AW110",null,"Vstupy","AW110"]
[12,"Vstupy!AW111",null,"Vstupy","AW111"]
[12,"Vstupy!AW112",null,"Vstupy","AW112"]
[12,"Vstupy!AW113",null,"Vstupy","AW113"]
[12,"Vstupy!AW114",null,"Vstupy","AW114"]
["","Vstupy!AY108",null,"Vstupy","AY108"]
["","Vstupy!AY109",null,"Vstupy","AY109"]
["","Vstupy!AY110",null,"Vstupy","AY110"]
["","Vstupy!AY111",null,"Vstupy","AY111"]
["","Vstupy!AY112",null,"Vstupy","AY112"]
["","Vstupy!AY113",null,"Vstupy","AY113"]
["","Vstupy!AY114",null,"Vstupy","AY114"]
["","Vstupy!BC108",null,"Vstupy","BC108"]
["","Vstupy!BC109",null,"Vstupy","BC109"]
["","Vstupy!BC110",null,"Vstupy","BC110"]
["","Vstupy!BC111",null,"Vstupy","BC111"]
["","Vstupy!BC112",null,"Vstupy","BC112"]
["","Vstupy!BC113",null,"Vstupy","BC113"]
["","Vstupy!BC114",null,"Vstupy","BC114"]
["","Vstupy!S122",null,"Vstupy","S122"]
["","Vstupy!S123",null,"Vstupy","S123"]
["","Vstupy!S124",null,"Vstupy","S124"]
["","Vstupy!S125",null,"Vstupy","S125"]
["","Vstupy!S126",null,"Vstupy","S126"]
["","Vstupy!S127",null,"Vstupy","S127"]
["","Vstupy!S128",null,"Vstupy","S128"]
["","Vstupy!S129",null,"Vstupy","S129"]
["","Vstupy!S130",null,"Vstupy","S130"]
["","Vstupy!AA122",null,"Vstupy","AA122"]
["","Vstupy!AA123",null,"Vstupy","AA123"]
["","Vstupy!AA124",null,"Vstupy","AA124"]
["","Vstupy!AA125",null,"Vstupy","AA125"]
["","Vstupy!AA126",null,"Vstupy","AA126"]
["","Vstupy!AA127",null,"Vstupy","AA127"]
["","Vstupy!AA128",null,"Vstupy","AA128"]
["","Vstupy!AA129",null,"Vstupy","AA129"]
["","Vstupy!AA130",null,"Vstupy","AA130"]
[12,"Vstupy!AE122",null,"Vstupy","AE122"]
[12,"Vstupy!AE123",null,"Vstupy","AE123"]
[12,"Vstupy!AE124",null,"Vstupy","AE124"]
[12,"Vstupy!AE125",null,"Vstupy","AE125"]
[12,"Vstupy!AE126",null,"Vstupy","AE126"]
[12,"Vstupy!AE127",null,"Vstupy","AE127"]
[12,"Vstupy!AE128",null,"Vstupy","AE128"]
[12,"Vstupy!AE129",null,"Vstupy","AE129"]
[12,"Vstupy!AE130",null,"Vstupy","AE130"]
["","Vstupy!AG122",null,"Vstupy","AG122"]
["","Vstupy!AG123",null,"Vstupy","AG123"]
["","Vstupy!AG124",null,"Vstupy","AG124"]
["","Vstupy!AG125",null,"Vstupy","AG125"]
["","Vstupy!AG126",null,"Vstupy","AG126"]
["","Vstupy!AG127",null,"Vstupy","AG127"]
["","Vstupy!AG128",null,"Vstupy","AG128"]
["","Vstupy!AG129",null,"Vstupy","AG129"]
["","Vstupy!AG130",null,"Vstupy","AG130"]
["","Vstupy!AK122",null,"Vstupy","AK122"]
["","Vstupy!AK123",null,"Vstupy","AK123"]
["","Vstupy!AK124",null,"Vstupy","AK124"]
["","Vstupy!AK125",null,"Vstupy","AK125"]
["","Vstupy!AK126",null,"Vstupy","AK126"]
["","Vstupy!AK127",null,"Vstupy","AK127"]
["","Vstupy!AK128",null,"Vstupy","AK128"]
["","Vstupy!AK129",null,"Vstupy","AK129"]
["","Vstupy!AK130",null,{"$f":"MID(B278,1,SEARCH(\"!\",B278)-1)","v":"Vstupy"},{"$f":"MID(B278,SEARCH(\"!\",B278)+1,LEN(B278))","v":"AK130"}]
[12,"Vstupy!AW122",null,"Vstupy","AW122"]
[12,"Vstupy!AW123",null,"Vstupy","AW123"]
[12,"Vstupy!AW124",null,"Vstupy","AW124"]
[12,"Vstupy!AW125",null,"Vstupy","AW125"]
[12,"Vstupy!AW126",null,"Vstupy","AW126"]
[12,"Vstupy!AW127",null,"Vstupy","AW127"]
[12,"Vstupy!AW128",null,"Vstupy","AW128"]
[12,"Vstupy!AW129",null,"Vstupy","AW129"]
[12,"Vstupy!AW130",null,"Vstupy","AW130"]
["","Vstupy!AY122",null,"Vstupy","AY122"]
["","Vstupy!AY123",null,"Vstupy","AY123"]
["","Vstupy!AY124",null,"Vstupy","AY124"]
["","Vstupy!AY125",null,"Vstupy","AY125"]
["","Vstupy!AY126",null,"Vstupy","AY126"]
["","Vstupy!AY127",null,"Vstupy","AY127"]
["","Vstupy!AY128",null,"Vstupy","AY128"]
["","Vstupy!AY129",null,"Vstupy","AY129"]
["","Vstupy!AY130",null,"Vstupy","AY130"]
["","Vstupy!BC122",null,"Vstupy","BC122"]
["","Vstupy!BC123",null,"Vstupy","BC123"]
["","Vstupy!BC124",null,"Vstupy","BC124"]
["","Vstupy!BC125",null,"Vstupy","BC125"]
["","Vstupy!BC126",null,"Vstupy","BC126"]
["","Vstupy!BC127",null,"Vstupy","BC127"]
["","Vstupy!BC128",null,"Vstupy","BC128"]
["","Vstupy!BC129",null,"Vstupy","BC129"]
["","Vstupy!BC130",null,"Vstupy","BC130"]
["","Vstupy!S136",null,{"$f":"MID(B306,1,SEARCH(\"!\",B306)-1)","v":"Vstupy"},{"$f":"MID(B306,SEARCH(\"!\",B306)+1,LEN(B306))","v":"S136"}]
["","Vstupy!S137",null,"Vstupy","S137"]
["","Vstupy!S138",null,"Vstupy","S138"]
["","Vstupy!S139",null,"Vstupy","S139"]
["","Vstupy!S140",null,"Vstupy","S140"]
["","Vstupy!AA136",null,"Vstupy","AA136"]
["","Vstupy!AA137",null,"Vstupy","AA137"]
["","Vstupy!AA138",null,"Vstupy","AA138"]
["","Vstupy!AA139",null,"Vstupy","AA139"]
["","Vstupy!AA140",null,"Vstupy","AA140"]
[12,"Vstupy!AE136",null,"Vstupy","AE136"]
[12,"Vstupy!AE137",null,"Vstupy","AE137"]
[12,"Vstupy!AE138",null,"Vstupy","AE138"]
[12,"Vstupy!AE139",null,"Vstupy","AE139"]
[12,"Vstupy!AE140",null,"Vstupy","AE140"]
["","Vstupy!AG136",null,"Vstupy","AG136"]
["","Vstupy!AG137",null,"Vstupy","AG137"]
["","Vstupy!AG138",null,"Vstupy","AG138"]
["","Vstupy!AG139",null,"Vstupy","AG139"]
["","Vstupy!AG140",null,"Vstupy","AG140"]
["","Vstupy!AK136",null,"Vstupy","AK136"]
["","Vstupy!AK137",null,"Vstupy","AK137"]
["","Vstupy!AK138",null,"Vstupy","AK138"]
["","Vstupy!AK139",null,"Vstupy","AK139"]
["","Vstupy!AK140",null,"Vstupy","AK140"]
[12,"Vstupy!AW136",null,"Vstupy","AW136"]
[12,"Vstupy!AW137",null,"Vstupy","AW137"]
[12,"Vstupy!AW138",null,"Vstupy","AW138"]
[12,"Vstupy!AW139",null,"Vstupy","AW139"]
[12,"Vstupy!AW140",null,"Vstupy","AW140"]
["","Vstupy!AY136",null,"Vstupy","AY136"]
["","Vstupy!AY137",null,"Vstupy","AY137"]
["","Vstupy!AY138",null,"Vstupy","AY138"]
["","Vstupy!AY139",null,"Vstupy","AY139"]
["","Vstupy!AY140",null,"Vstupy","AY140"]
["","Vstupy!BC136",null,"Vstupy","BC136"]
["","Vstupy!BC137",null,"Vstupy","BC137"]
["","Vstupy!BC138",null,"Vstupy","BC138"]
["","Vstupy!BC139",null,"Vstupy","BC139"]
["","Vstupy!BC140",null,"Vstupy","BC140"]
["","Vstupy!AA150",null,"Vstupy","AA150"]
["","Vstupy!AE150",null,"Vstupy","AE150"]
["","Vstupy!AI150",null,"Vstupy","AI150"]
["","Vstupy!AM150",null,"Vstupy","AM150"]
["","Vstupy!AQ150",null,"Vstupy","AQ150"]
["","Vstupy!AU150",null,"Vstupy","AU150"]
["","Vstupy!AY150",null,"Vstupy","AY150"]
["","Vstupy!BC150",null,"Vstupy","BC150"]
["","Vstupy!BG150",null,"Vstupy","BG150"]
["","Vstupy!BK150",null,"Vstupy","BK150"]
["","Vstupy!BO150",null,"Vstupy","BO150"]
["","Vstupy!BS150",null,"Vstupy","BS150"]
["","Vstupy!BW150",null,"Vstupy","BW150"]
["","Vstupy!CA150",null,"Vstupy","CA150"]
["","Vstupy!AA151",null,"Vstupy","AA151"]
["","Vstupy!AE151",null,"Vstupy","AE151"]
["","Vstupy!AI151",null,"Vstupy","AI151"]
["","Vstupy!AM151",null,"Vstupy","AM151"]
["","Vstupy!AQ151",null,"Vstupy","AQ151"]
["","Vstupy!AU151",null,"Vstupy","AU151"]
["","Vstupy!AY151",null,"Vstupy","AY151"]
["","Vstupy!BC151",null,"Vstupy","BC151"]
["","Vstupy!BG151",null,"Vstupy","BG151"]
["","Vstupy!BK151",null,"Vstupy","BK151"]
["","Vstupy!BO151",null,{"$f":"MID(B370,1,SEARCH(\"!\",B370)-1)","v":"Vstupy"},{"$f":"MID(B370,SEARCH(\"!\",B370)+1,LEN(B370))","v":"BO151"}]
["","Vstupy!BS151",null,"Vstupy","BS151"]
["","Vstupy!BW151",null,"Vstupy","BW151"]
["","Vstupy!CA151",null,"Vstupy","CA151"]
["","Vstupy!AA152",null,"Vstupy","AA152"]
["","Vstupy!AE152",null,"Vstupy","AE152"]
["","Vstupy!AI152",null,"Vstupy","AI152"]
["","Vstupy!AM152",null,"Vstupy","AM152"]
["","Vstupy!AQ152",null,"Vstupy","AQ152"]
["","Vstupy!AU152",null,"Vstupy","AU152"]
["","Vstupy!AY152",null,"Vstupy","AY152"]
["","Vstupy!BC152",null,"Vstupy","BC152"]
["","Vstupy!BG152",null,"Vstupy","BG152"]
["","Vstupy!BK152",null,"Vstupy","BK152"]
["","Vstupy!BO152",null,"Vstupy","BO152"]
["","Vstupy!BS152",null,"Vstupy","BS152"]
["","Vstupy!BW152",null,"Vstupy","BW152"]
["","Vstupy!CA152",null,"Vstupy","CA152"]
["Jiné - zadejte","Vstupy!S159",null,"Vstupy","S159"]
["Jiné - zadejte","Vstupy!S160",null,"Vstupy","S160"]
[12,"Vstupy!AG155",null,"Vstupy","AG155"]
[12,"Vstupy!AG156",null,"Vstupy","AG156"]
[12,"Vstupy!AG157",null,"Vstupy","AG157"]
[12,"Vstupy!AG158",null,"Vstupy","AG158"]
[12,"Vstupy!AG159",null,"Vstupy","AG159"]
[12,"Vstupy!AG160",null,"Vstupy","AG160"]
["","Vstupy!AI155",null,"Vstupy","AI155"]
["","Vstupy!AI156",null,"Vstupy",{"$f":"MID(B397,SEARCH(\"!\",B397)+1,LEN(B397))","v":"AI156"}]
["","Vstupy!AI157",null,"Vstupy","AI157"]
["","Vstupy!AI158",null,"Vstupy","AI158"]
["","Vstupy!AI159",null,"Vstupy","AI159"]
["","Vstupy!AI160",null,"Vstupy","AI160"]
["","Vstupy!AM155",null,"Vstupy","AM155"]
["","Vstupy!AM156",null,"Vstupy","AM156"]
["","Vstupy!AM157",null,"Vstupy","AM157"]
["","Vstupy!AM158",null,"Vstupy","AM158"]
["","Vstupy!AM159",null,"Vstupy","AM159"]
["","Vstupy!AM160",null,"Vstupy","AM160"]
["","Vstupy!AF171",null,"Vstupy","AF171"]
["","Vstupy!AF172",null,"Vstupy","AF172"]
["","Vstupy!AH174",null,"Vstupy","AH174"]
["","Vstupy!AF175",null,"Vstupy","AF175"]
["","Vstupy!AS174",null,"Vstupy","AS174"]
["","Vstupy!AQ175",null,"Vstupy","AQ175"]
["","Vstupy!AF184",null,"Vstupy","AF184"]
["","Vstupy!AL184",null,"Vstupy","AL184"]
["","Vstupy!AH185",null,"Vstupy","AH185"]
["","Vstupy!AF186",null,"Vstupy","AF186"]
["","Vstupy!AN186",null,"Vstupy","AN186"]
["","Vstupy!AN187",null,"Vstupy","AN187"]
["","Vstupy!AQ184",null,"Vstupy","AQ184"]
["","Vstupy!AW184",null,"Vstupy","AW184"]
["","Vstupy!AS185",null,"Vstupy","AS185"]
["","Vstupy!AQ186",null,"Vstupy","AQ186"]
["","Vstupy!AY186",null,"Vstupy","AY186"]
["","Vstupy!AY187",null,"Vstupy","AY187"]
["","Vstupy!BB184",null,"Vstupy","BB184"]
["","Vstupy!BH184",null,"Vstupy","BH184"]
["","Vstupy!BD185",null,"Vstupy","BD185"]
["","Vstupy!BB186",null,"Vstupy","BB186"]
["","Vstupy!BJ186",null,"Vstupy","BJ186"]
["","Vstupy!BJ187",null,"Vstupy","BJ187"]
["","Vstupy!BM184",null,"Vstupy","BM184"]
["","Vstupy!BS184",null,"Vstupy","BS184"]
["","Vstupy!BO185",null,{"$f":"MID(B434,1,SEARCH(\"!\",B434)-1)","v":"Vstupy"},{"$f":"MID(B434,SEARCH(\"!\",B434)+1,LEN(B434))","v":"BO185"}]
["","Vstupy!BM186",null,"Vstupy","BM186"]
["","Vstupy!BU186",null,"Vstupy","BU186"]
["","Vstupy!BU187",null,"Vstupy","BU187"]
["","Vstupy!BX184",null,"Vstupy","BX184"]
["","Vstupy!CD184",null,"Vstupy","CD184"]
["","Vstupy!BZ185",null,"Vstupy","BZ185"]
["","Vstupy!BX186",null,"Vstupy","BX186"]
["","Vstupy!CF186",null,"Vstupy","CF186"]
["","Vstupy!CF187",null,{"$f":"MID(B443,1,SEARCH(\"!\",B443)-1)","v":"Vstupy"},{"$f":"MID(B443,SEARCH(\"!\",B443)+1,LEN(B443))","v":"CF187"}]
["","Vstupy!AJ193",null,{"$f":"MID(B444,1,SEARCH(\"!\",B444)-1)","v":"Vstupy"},{"$f":"MID(B444,SEARCH(\"!\",B444)+1,LEN(B444))","v":"AJ193"}]
["","Vstupy!AU193",null,{"$f":"MID(B445,1,SEARCH(\"!\",B445)-1)","v":"Vstupy"},{"$f":"MID(B445,SEARCH(\"!\",B445)+1,LEN(B445))","v":"AU193"}]
["","Vstupy!AF194",null,{"$f":"MID(B446,1,SEARCH(\"!\",B446)-1)","v":"Vstupy"},{"$f":"MID(B446,SEARCH(\"!\",B446)+1,LEN(B446))","v":"AF194"}]
["","Vstupy!AQ194",null,"Vstupy","AQ194"]
["","Vstupy!AF201",null,"Vstupy","AF201"]
["","Vstupy!AQ201",null,"Vstupy","AQ201"]
["","Vstupy!AF205",null,"Vstupy","AF205"]
["","Vstupy!AF206",null,"Vstupy","AF206"]
["","Vstupy!AF210",null,"Vstupy","AF210"]
["","Vstupy!AF211",null,"Vstupy","AF211"]
[1.4999999999999999E-2,"Vstupy!AD212",null,"Vstupy","AD212"]
["","Vstupy!AF212",null,"Vstupy","AF212"]
["","Vstupy!AH213",null,"Vstupy","AH213"]
["","Vstupy!AF214",null,"Vstupy","AF214"]
["","Vstupy!AN214",null,"Vstupy","AN214"]
["","Vstupy!AN215",null,"Vstupy","AN215"]
["","Vstupy!AQ212",null,"Vstupy","AQ212"]
["","Vstupy!AS213",null,"Vstupy","AS213"]
["","Vstupy!AQ214",null,"Vstupy","AQ214"]
["","Vstupy!AY214",null,"Vstupy","AY214"]
["","Vstupy!AY215",null,"Vstupy","AY215"]
["","Vstupy!AF236",null,"Vstupy","AF236"]
["","Vstupy!AF237",null,"Vstupy","AF237"]
["","Vstupy!AF238",null,"Vstupy","AF238"]
["","Vstupy!AS238",null,"Vstupy","AS238"]
["","Vstupy!BI238",null,"Vstupy","BI238"]
["","Vstupy!AF239",null,"Vstupy","AF239"]
["","Vstupy!AF240",null,"Vstupy","AF240"]
["","Vstupy!AF241",null,"Vstupy","AF241"]
["","Vstupy!AF252",null,"Vstupy","AF252"]
["","Vstupy!AF253",null,"Vstupy","AF253"]
["","Vstupy!AF254",null,"Vstupy","AF254"]
["","Vstupy!AK254",null,"Vstupy","AK254"]
["","Vstupy!BD254",null,"Vstupy","BD254"]
["","Vstupy!BI254",null,"Vstupy","BI254"]
["","Vstupy!AF255",null,"Vstupy","AF255"]
["","Vstupy!AK255",null,"Vstupy","AK255"]
["","Vstupy!BD255",null,"Vstupy","BD255"]
["","Vstupy!BI255",null,"Vstupy","BI255"]
["","Vstupy!AF256",null,"Vstupy","AF256"]
["","Vstupy!AK256",null,"Vstupy","AK256"]
["","Vstupy!BD256",null,"Vstupy","BD256"]
["","Vstupy!BI256",null,"Vstupy","BI256"]
["","Vstupy!AF269",null,"Vstupy","AF269"]
["","Vstupy!AF270",null,"Vstupy","AF270"]
["","Vstupy!AF271",null,"Vstupy","AF271"]
["","Vstupy!AS271",null,"Vstupy","AS271"]
["","Vstupy!BF271",null,"Vstupy","BF271"]
["","Vstupy!BS271",null,"Vstupy","BS271"]
["","Vstupy!AF272",null,"Vstupy","AF272"]
["","Vstupy!AS272",null,"Vstupy","AS272"]
["","Vstupy!BF272",null,"Vstupy","BF272"]
["","Vstupy!BS272",null,"Vstupy","BS272"]
["","Vstupy!AF274",null,"Vstupy","AF274"]
["","Vstupy!AF275",null,"Vstupy","AF275"]
["","Vstupy!AF289",null,"Vstupy","AF289"]
["","Vstupy!AF290",null,{"$f":"MID(B500,1,SEARCH(\"!\",B500)-1)","v":"Vstupy"},{"$f":"MID(B500,SEARCH(\"!\",B500)+1,LEN(B500))","v":"AF290"}]
[1,"Vstupy!A16",null,"Vstupy","e16"]
[0,"Vstupy!A17",null,"Vstupy","e17"]
[0,"Vstupy!A18",null,"Vstupy","e18"]
[0,"Vstupy!A19",null,"Vstupy","e19"]
[0,"Vstupy!A20",null,"Vstupy","e20"]
[0,"Vstupy!A21",null,"Vstupy","e21"]
[0,"Vstupy!A22",null,"Vstupy","e22"]
[0,"Vstupy!A23",null,"Vstupy","e23"]
[0,"Vstupy!A24",null,"Vstupy","e24"]
["Vážený kliente",null,null,"Vystup1","k59"]

{"sheet":"Import2","index":9,"n_rows":510,"n_cols":5,"rows_kept":510,"cut":false,"hidden":false,"merged":[]}
[]
[]
[]
[]
[2]
[520]
[41150]
["FP -  novotny 20120829"]
["FPOVB"]
[]
[]
["","Vstupy!AI10",null,{"$f":"MID(B12,1,SEARCH(\"!\",B12)-1)","v":"Vstupy"},{"$f":"MID(B12,SEARCH(\"!\",B12)+1,LEN(B12))","v":"AI10"}]
[false,"Vstupy!B7",null,{"$f":"MID(B13,1,SEARCH(\"!\",B13)-1)","v":"Vstupy"},{"$f":"MID(B13,SEARCH(\"!\",B13)+1,LEN(B13))","v":"B7"}]
["novotny","Vstupy!AF9",null,"Vstupy","AF9"]
["","Vstupy!AF10",null,"Vstupy","AF10"]
[20585,"Vstupy!AF11",null,"Vstupy","AF11"]
[20000,"Vstupy!AF12",null,"Vstupy","AF12"]
[30000,"Vstupy!AF13",null,"Vstupy","AF13"]
[7,"Vstupy!AF14",null,"Vstupy","AF14"]
["","Vstupy!AF15",null,"Vstupy","AF15"]
["","Vstupy!AF16",null,"Vstupy","AF16"]
["","Vstupy!AF17",null,"Vstupy","AF17"]
["","Vstupy!AF18",null,"Vstupy","AF18"]
["","Vstupy!AF19",null,"Vstupy","AF19"]
["","Vstupy!AF20",null,"Vstupy","AF20"]
["","Vstupy!AF21",null,"Vstupy","AF21"]
["","Vstupy!AF22",null,"Vstupy","AF22"]
["","Vstupy!AF23",null,"Vstupy","AF23"]
["","Vstupy!AF24",null,"Vstupy","AF24"]
["","Vstupy!AT10",null,"Vstupy","AT10"]
[false,"Vstupy!C7",null,"Vstupy","C7"]
["","Vstupy!AQ9",null,"Vstupy","AQ9"]
["","Vstupy!AQ10",null,"Vstupy","AQ10"]
["","Vstupy!AQ11",null,"Vstupy","AQ11"]
["","Vstupy!AQ12",null,"Vstupy","AQ12"]
["","Vstupy!AQ13",null,"Vstupy","AQ13"]
["","Vstupy!AQ14",null,"Vstupy","AQ14"]
["","Vstupy!AQ15",null,"Vstupy","AQ15"]
["","Vstupy!AQ16",null,"Vstupy","AQ16"]
["","Vstupy!AQ17",null,"Vstupy","AQ17"]
["","Vstupy!AQ18",null,"Vstupy","AQ18"]
["","Vstupy!AQ19",null,"Vstupy","AQ19"]
["","Vstupy!AQ20",null,"Vstupy","AQ20"]
["","Vstupy!AQ21",null,"Vstupy","AQ21"]
["","Vstupy!AQ22",null,"Vstupy","AQ22"]
["","Vstupy!AQ23",null,"Vstupy","AQ23"]
["","Vstupy!AQ24",null,"Vstupy","AQ24"]
["","Vstupy!BB9",null,"Vstupy","BB9"]
["","Vstupy!BB10",null,"Vstupy","BB10"]
["","Vstupy!BB11",null,"Vstupy","BB11"]
["","Vstupy!BB12",null,"Vstupy","BB12"]
["","Vstupy!BB13",null,"Vstupy","BB13"]
["","Vstupy!BB14",null,"Vstupy","BB14"]
["","Vstupy!BB15",null,"Vstupy","BB15"]
["","Vstupy!BB16",null,"Vstupy","BB16"]
["","Vstupy!BB17",null,"Vstupy","BB17"]
["","Vstupy!BB18",null,"Vstupy","BB18"]
["","Vstupy!BB19",null,"Vstupy","BB19"]
["","Vstupy!BB20",null,"Vstupy","BB20"]
["","Vstupy!BB21",null,"Vstupy","BB21"]
["","Vstupy!BM9",null,"Vstupy","BM9"]
["","Vstupy!BM10",null,"Vstupy","BM10"]
["","Vstupy!BM11",null,"Vstupy","BM11"]
["","Vstupy!BM12",null,"Vstupy","BM12"]
["","Vstupy!BM13",null,"Vstupy","BM13"]
["","Vstupy!BM14",null,"Vstupy","BM14"]
["","Vstupy!BM15",null,"Vstupy","BM15"]
["","Vstupy!BM16",null,"Vstupy","BM16"]
["","Vstupy!BM17",null,"Vstupy","BM17"]
["","Vstupy!BM18",null,"Vstupy","BM18"]
["","Vstupy!BM19",null,"Vstupy","BM19"]
["","Vstupy!BM20",null,"Vstupy","BM20"]
["","Vstupy!BM21",null,"Vstupy","BM21"]
["","Vstupy!BX9",null,"Vstupy","BX9"]
["","Vstupy!BX10",null,"Vstupy","BX10"]
["","Vstupy!BX11",null,"Vstupy","BX11"]
["","Vstupy!BX12",null,{"$f":"MID(B77,1,SEARCH(\"!\",B77)-1)","v":"Vstupy"},{"$f":"MID(B77,SEARCH(\"!\",B77)+1,LEN(B77))","v":"BX12"}]
["","Vstupy!BX13",null,"Vstupy","BX13"]
["","Vstupy!BX14",null,"Vstupy","BX14"]
["","Vstupy!BX15",null,"Vstupy","BX15"]
["","Vstupy!BX16",null,"Vstupy","BX16"]
["","Vstupy!BX17",null,"Vstupy","BX17"]
["","Vstupy!BX18",null,"Vstupy","BX18"]
["","Vstupy!BX19",null,"Vstupy","BX19"]
["","Vstupy!BX20",null,"Vstupy","BX20"]
["","Vstupy!BX21",null,"Vstupy","BX21"]
["","Vstupy!AI25",null,"Vstupy","AI25"]
["","Vstupy!AV25",null,"Vstupy","AV25"]
["","Vstupy!BB25",null,"Vstupy","BB25"]
["","Vstupy!AI26",null,"Vstupy","AI26"]
["","Vstupy!AV26",null,"Vstupy","AV26"]
["","Vstupy!BB26",null,"Vstupy","BB26"]
["Jiné - zadejte","Vstupy!S88",null,"Vstupy","S88"]
[12,"Vstupy!AE75",null,"Vstupy","AE75"]
[12,"Vstupy!AE76",null,"Vstupy","AE76"]
[12,"Vstupy!AE77",null,"Vstupy","AE77"]
[12,"Vstupy!AE78",null,"Vstupy","AE78"]
[12,"Vstupy!AE79",null,"Vstupy","AE79"]
[12,"Vstupy!AE80",null,"Vstupy","AE80"]
[12,"Vstupy!AE81",null,"Vstupy","AE81"]
[12,"Vstupy!AE82",null,"Vstupy","AE82"]
[12,"Vstupy!AE83",null,"Vstupy","AE83"]
[12,"Vstupy!AE84",null,"Vstupy","AE84"]
[12,"Vstupy!AE85",null,"Vstupy","AE85"]
[12,"Vstupy!AE86",null,"Vstupy","AE86"]
[12,"Vstupy!AE87",null,"Vstupy","AE87"]
[12,"Vstupy!AE88",null,"Vstupy","AE88"]
["","Vstupy!AG75",null,"Vstupy","AG75"]
["","Vstupy!AG76",null,"Vstupy","AG76"]
["","Vstupy!AG77",null,"Vstupy","AG77"]
["","Vstupy!AG78",null,"Vstupy","AG78"]
["","Vstupy!AG79",null,"Vstupy","AG79"]
["","Vstupy!AG80",null,"Vstupy","AG80"]
["","Vstupy!AG81",null,"Vstupy","AG81"]
["","Vstupy!AG82",null,"Vstupy","AG82"]
["","Vstupy!AG83",null,"Vstupy","AG83"]
["","Vstupy!AG84",null,"Vstupy","AG84"]
["","Vstupy!AG85",null,"Vstupy","AG85"]
["","Vstupy!AG86",null,"Vstupy","AG86"]
["","Vstupy!AG87",null,"Vstupy","AG87"]
["","Vstupy!AG88",null,"Vstupy","AG88"]
["","Vstupy!AK75",null,"Vstupy","AK75"]
["","Vstupy!AK76",null,"Vstupy","AK76"]
["","Vstupy!AK77",null,"Vstupy","AK77"]
["","Vstupy!AK78",null,"Vstupy","AK78"]
["","Vstupy!AK79",null,"Vstupy","AK79"]
["","Vstupy!AK80",null,"Vstupy","AK80"]
["","Vstupy!AK81",null,"Vstupy","AK81"]
["","Vstupy!AK82",null,"Vstupy","AK82"]
["","Vstupy!AK83",null,"Vstupy","AK83"]
["","Vstupy!AK84",null,"Vstupy","AK84"]
["","Vstupy!AK85",null,"Vstupy","AK85"]
["","Vstupy!AK86",null,"Vstupy","AK86"]
["","Vstupy!AK87",null,"Vstupy","AK87"]
["","Vstupy!AK88",null,"Vstupy","AK88"]
["","Vstupy!AO75",null,"Vstupy","AO75"]
["","Vstupy!AO76",null,"Vstupy","AO76"]
["","Vstupy!AO77",null,"Vstupy","AO77"]
["","Vstupy!AO78",null,"Vstupy","AO78"]
["","Vstupy!AO79",null,"Vstupy","AO79"]
["","Vstupy!AO80",null,{"$f":"MID(B141,1,SEARCH(\"!\",B141)-1)","v":"Vstupy"},{"$f":"MID(B141,SEARCH(\"!\",B141)+1,LEN(B141))","v":"AO80"}]
["","Vstupy!AO81",null,"Vstupy","AO81"]
["","Vstupy!AO82",null,"Vstupy","AO82"]
["","Vstupy!AO83",null,"Vstupy","AO83"]
["","Vstupy!AO84",null,"Vstupy","AO84"]
["","Vstupy!AO85",null,"Vstupy","AO85"]
["","Vstupy!AO86",null,"Vstupy","AO86"]
["","Vstupy!AO87",null,"Vstupy","AO87"]
["","Vstupy!AO88",null,"Vstupy","AO88"]
["","Vstupy!S96",null,"Vstupy","S96"]
["","Vstupy!S97",null,"Vstupy","S97"]
["","Vstupy!S98",null,"Vstupy","S98"]
["","Vstupy!S99",null,"Vstupy","S99"]
["","Vstupy!S100",null,"Vstupy","S100"]
[12,"Vstupy!AE96",null,"Vstupy","AE96"]
[12,"Vstupy!AE97",null,"Vstupy","AE97"]
[12,"Vstupy!AE98",null,"Vstupy","AE98"]
[12,"Vstupy!AE99",null,"Vstupy","AE99"]
[12,"Vstupy!AE100",null,"Vstupy","AE100"]
["","Vstupy!AG96",null,"Vstupy","AG96"]
["","Vstupy!AG97",null,"Vstupy","AG97"]
["","Vstupy!AG98",null,"Vstupy","AG98"]
["","Vstupy!AG99",null,"Vstupy","AG99"]
["","Vstupy!AG100",null,"Vstupy","AG100"]
["","Vstupy!AK96",null,"Vstupy","AK96"]
["","Vstupy!AK97",null,"Vstupy","AK97"]
["","Vstupy!AK98",null,"Vstupy","AK98"]
["","Vstupy!AK99",null,"Vstupy","AK99"]
["","Vstupy!AK100",null,"Vstupy","AK100"]
[12,"Vstupy!AW96",null,"Vstupy","AW96"]
[12,"Vstupy!AW97",null,"Vstupy","AW97"]
[12,"Vstupy!AW98",null,"Vstupy","AW98"]
[12,"Vstupy!AW99",null,"Vstupy","AW99"]
[12,"Vstupy!AW100",null,"Vstupy","AW100"]
["","Vstupy!AY96",null,"Vstupy","AY96"]
["","Vstupy!AY97",null,"Vstupy","AY97"]
["","Vstupy!AY98",null,"Vstupy","AY98"]
["","Vstupy!AY99",null,"Vstupy","AY99"]
["","Vstupy!AY100",null,"Vstupy","AY100"]
["","Vstupy!BC96",null,"Vstupy","BC96"]
["","Vstupy!BC97",null,"Vstupy","BC97"]
["","Vstupy!BC98",null,"Vstupy","BC98"]
["","Vstupy!BC99",null,"Vstupy","BC99"]
["","Vstupy!BC100",null,"Vstupy","BC100"]
["","Vstupy!S108",null,"Vstupy","S108"]
["","Vstupy!S109",null,"Vstupy","S109"]
["","Vstupy!S110",null,"Vstupy","S110"]
["","Vstupy!S111",null,"Vstupy","S111"]
["","Vstupy!S112",null,"Vstupy","S112"]
["","Vstupy!S113",null,"Vstupy","S113"]
["","Vstupy!S114",null,"Vstupy","S114"]
[12,"Vstupy!AE108",null,"Vstupy","AE108"]
[12,"Vstupy!AE109",null,"Vstupy","AE109"]
[12,"Vstupy!AE110",null,"Vstupy","AE110"]
[12,"Vstupy!AE111",null,"Vstupy","AE111"]
[12,"Vstupy!AE112",null,"Vstupy","AE112"]
[12,"Vstupy!AE113",null,"Vstupy","AE113"]
[12,"Vstupy!AE114",null,"Vstupy","AE114"]
["","Vstupy!AG108",null,"Vstupy","AG108"]
["","Vstupy!AG109",null,"Vstupy","AG109"]
["","Vstupy!AG110",null,"Vstupy","AG110"]
["","Vstupy!AG111",null,"Vstupy","AG111"]
["","Vstupy!AG112",null,"Vstupy","AG112"]
["","Vstupy!AG113",null,"Vstupy","AG113"]
["","Vstupy!AG114",null,{"$f":"MID(B205,1,SEARCH(\"!\",B205)-1)","v":"Vstupy"},{"$f":"MID(B205,SEARCH(\"!\",B205)+1,LEN(B205))","v":"AG114"}]
["","Vstupy!AK108",null,"Vstupy","AK108"]
["","Vstupy!AK109",null,"Vstupy","AK109"]
["","Vstupy!AK110",null,"Vstupy","AK110"]
["","Vstupy!AK111",null,"Vstupy","AK111"]
["","Vstupy!AK112",null,"Vstupy","AK112"]
["","Vstupy!AK113",null,"Vstupy","AK113"]
["","Vstupy!AK114",null,"Vstupy","AK114"]
[12,"Vstupy!AW108",null,"Vstupy","AW108"]
[12,"Vstupy!AW109",null,"Vstupy","AW109"]
[12,"Vstupy!AW110",null,"Vstupy","AW110"]
[12,"Vstupy!AW111",null,"Vstupy","AW111"]
[12,"Vstupy!AW112",null,"Vstupy","AW112"]
[12,"Vstupy!AW113",null,"Vstupy","AW113"]
[12,"Vstupy!AW114",null,"Vstupy","AW114"]
["","Vstupy!AY108",null,"Vstupy","AY108"]
["","Vstupy!AY109",null,"Vstupy","AY109"]
["","Vstupy!AY110",null,"Vstupy","AY110"]
["","Vstupy!AY111",null,"Vstupy","AY111"]
["","Vstupy!AY112",null,"Vstupy","AY112"]
["","Vstupy!AY113",null,"Vstupy","AY113"]
["","Vstupy!AY114",null,"Vstupy","AY114"]
["","Vstupy!BC108",null,"Vstupy","BC108"]
["","Vstupy!BC109",null,"Vstupy","BC109"]
["","Vstupy!BC110",null,"Vstupy","BC110"]
["","Vstupy!BC111",null,"Vstupy","BC111"]
["","Vstupy!BC112",null,"Vstupy","BC112"]
["","Vstupy!BC113",null,"Vstupy","BC113"]
["","Vstupy!BC114",null,"Vstupy","BC114"]
["","Vstupy!S122",null,"Vstupy","S122"]
["","Vstupy!S123",null,"Vstupy","S123"]
["","Vstupy!S124",null,"Vstupy","S124"]
["","Vstupy!S125",null,"Vstupy","S125"]
["","Vstupy!S126",null,"Vstupy","S126"]
["","Vstupy!S127",null,"Vstupy","S127"]
["","Vstupy!S128",null,"Vstupy","S128"]
["","Vstupy!S129",null,"Vstupy","S129"]
["","Vstupy!S130",null,"Vstupy","S130"]
["","Vstupy!AA122",null,"Vstupy","AA122"]
["","Vstupy!AA123",null,"Vstupy","AA123"]
["","Vstupy!AA124",null,"Vstupy","AA124"]
["","Vstupy!AA125",null,"Vstupy","AA125"]
["","Vstupy!AA126",null,"Vstupy","AA126"]
["","Vstupy!AA127",null,"Vstupy","AA127"]
["","Vstupy!AA128",null,"Vstupy","AA128"]
["","Vstupy!AA129",null,"Vstupy","AA129"]
["","Vstupy!AA130",null,"Vstupy","AA130"]
[12,"Vstupy!AE122",null,"Vstupy","AE122"]
[12,"Vstupy!AE123",null,"Vstupy","AE123"]
[12,"Vstupy!AE124",null,"Vstupy","AE124"]
[12,"Vstupy!AE125",null,"Vstupy","AE125"]
[12,"Vstupy!AE126",null,"Vstupy","AE126"]
[12,"Vstupy!AE127",null,"Vstupy","AE127"]
[12,"Vstupy!AE128",null,"Vstupy","AE128"]
[12,"Vstupy!AE129",null,"Vstupy","AE129"]
[12,"Vstupy!AE130",null,"Vstupy","AE130"]
["","Vstupy!AG122",null,"Vstupy","AG122"]
["","Vstupy!AG123",null,"Vstupy","AG123"]
["","Vstupy!AG124",null,"Vstupy","AG124"]
["","Vstupy!AG125",null,"Vstupy","AG125"]
["","Vstupy!AG126",null,"Vstupy","AG126"]
["","Vstupy!AG127",null,"Vstupy","AG127"]
["","Vstupy!AG128",null,"Vstupy","AG128"]
["","Vstupy!AG129",null,"Vstupy","AG129"]
["","Vstupy!AG130",null,{"$f":"MID(B269,1,SEARCH(\"!\",B269)-1)","v":"Vstupy"},{"$f":"MID(B269,SEARCH(\"!\",B269)+1,LEN(B269))","v":"AG130"}]
["","Vstupy!AK122",null,"Vstupy","AK122"]
["","Vstupy!AK123",null,"Vstupy","AK123"]
["","Vstupy!AK124",null,"Vstupy","AK124"]
["","Vstupy!AK125",null,"Vstupy","AK125"]
["","Vstupy!AK126",null,"Vstupy","AK126"]
["","Vstupy!AK127",null,"Vstupy","AK127"]
["","Vstupy!AK128",null,"Vstupy","AK128"]
["","Vstupy!AK129",null,"Vstupy","AK129"]
["","Vstupy!AK130",null,"Vstupy","AK130"]
[12,"Vstupy!AW122",null,"Vstupy","AW122"]
[12,"Vstupy!AW123",null,"Vstupy","AW123"]
[12,"Vstupy!AW124",null,"Vstupy","AW124"]
[12,"Vstupy!AW125",null,"Vstupy","AW125"]
[12,"Vstupy!AW126",null,"Vstupy","AW126"]
[12,"Vstupy!AW127",null,"Vstupy","AW127"]
[12,"Vstupy!AW128",null,"Vstupy","AW128"]
[12,"Vstupy!AW129",null,"Vstupy","AW129"]
[12,"Vstupy!AW130",null,"Vstupy","AW130"]
["","Vstupy!AY122",null,"Vstupy","AY122"]
["","Vstupy!AY123",null,"Vstupy","AY123"]
["","Vstupy!AY124",null,"Vstupy","AY124"]
["","Vstupy!AY125",null,"Vstupy","AY125"]
["","Vstupy!AY126",null,"Vstupy","AY126"]
["","Vstupy!AY127",null,"Vstupy","AY127"]
["","Vstupy!AY128",null,"Vstupy","AY128"]
["","Vstupy!AY129",null,"Vstupy","AY129"]
["","Vstupy!AY130",null,"Vstupy","AY130"]
["","Vstupy!BC122",null,"Vstupy","BC122"]
["","Vstupy!BC123",null,"Vstupy","BC123"]
["","Vstupy!BC124",null,"Vstupy","BC124"]
["","Vstupy!BC125",null,"Vstupy","BC125"]
["","Vstupy!BC126",null,"Vstupy","BC126"]
["","Vstupy!BC127",null,"Vstupy","BC127"]
["","Vstupy!BC128",null,"Vstupy","BC128"]
["","Vstupy!BC129",null,"Vstupy","BC129"]
["","Vstupy!BC130",null,"Vstupy","BC130"]
["","Vstupy!S136",null,"Vstupy","S136"]
["","Vstupy!S137",null,"Vstupy","S137"]
["","Vstupy!S138",null,"Vstupy","S138"]
["","Vstupy!S139",null,"Vstupy","S139"]
["","Vstupy!S140",null,"Vstupy","S140"]
["","Vstupy!AA136",null,"Vstupy","AA136"]
["","Vstupy!AA137",null,"Vstupy","AA137"]
["","Vstupy!AA138",null,"Vstupy","AA138"]
["","Vstupy!AA139",null,"Vstupy","AA139"]
["","Vstupy!AA140",null,"Vstupy","AA140"]
[12,"Vstupy!AE136",null,"Vstupy","AE136"]
[12,"Vstupy!AE137",null,"Vstupy","AE137"]
[12,"Vstupy!AE138",null,"Vstupy","AE138"]
[12,"Vstupy!AE139",null,"Vstupy","AE139"]
[12,"Vstupy!AE140",null,"Vstupy","AE140"]
["","Vstupy!AG136",null,"Vstupy","AG136"]
["","Vstupy!AG137",null,"Vstupy","AG137"]
["","Vstupy!AG138",null,"Vstupy","AG138"]
["","Vstupy!AG139",null,"Vstupy","AG139"]
["","Vstupy!AG140",null,"Vstupy","AG140"]
["","Vstupy!AK136",null,"Vstupy","AK136"]
["","Vstupy!AK137",null,"Vstupy","AK137"]
["","Vstupy!AK138",null,"Vstupy","AK138"]
["","Vstupy!AK139",null,"Vstupy","AK139"]
["","Vstupy!AK140",null,"Vstupy","AK140"]
[12,"Vstupy!AW136",null,"Vstupy","AW136"]
[12,"Vstupy!AW137",null,"Vstupy","AW137"]
[12,"Vstupy!AW138",null,{"$f":"MID(B333,1,SEARCH(\"!\",B333)-1)","v":"Vstupy"},{"$f":"MID(B333,SEARCH(\"!\",B333)+1,LEN(B333))","v":"AW138"}]
[12,"Vstupy!AW139",null,"Vstupy","AW139"]
[12,"Vstupy!AW140",null,"Vstupy","AW140"]
["","Vstupy!AY136",null,"Vstupy","AY136"]
["","Vstupy!AY137",null,"Vstupy","AY137"]
["","Vstupy!AY138",null,"Vstupy","AY138"]
["","Vstupy!AY139",null,"Vstupy","AY139"]
["","Vstupy!AY140",null,"Vstupy","AY140"]
["","Vstupy!BC136",null,"Vstupy","BC136"]
["","Vstupy!BC137",null,"Vstupy","BC137"]
["","Vstupy!BC138",null,"Vstupy","BC138"]
["","Vstupy!BC139",null,"Vstupy","BC139"]
["","Vstupy!BC140",null,"Vstupy","BC140"]
["","Vstupy!AA150",null,"Vstupy","AA150"]
["","Vstupy!AE150",null,"Vstupy","AE150"]
["","Vstupy!AI150",null,"Vstupy","AI150"]
["","Vstupy!AM150",null,"Vstupy","AM150"]
["","Vstupy!AQ150",null,"Vstupy","AQ150"]
["","Vstupy!AU150",null,"Vstupy","AU150"]
["","Vstupy!AY150",null,"Vstupy","AY150"]
["","Vstupy!BC150",null,"Vstupy","BC150"]
["","Vstupy!BG150",null,"Vstupy","BG150"]
["","Vstupy!BK150",null,"Vstupy","BK150"]
["","Vstupy!BO150",null,"Vstupy","BO150"]
["","Vstupy!BS150",null,"Vstupy","BS150"]
["","Vstupy!BW150",null,"Vstupy","BW150"]
["","Vstupy!CA150",null,"Vstupy","CA150"]
["","Vstupy!AA151",null,"Vstupy","AA151"]
["","Vstupy!AE151",null,"Vstupy","AE151"]
["","Vstupy!AI151",null,"Vstupy","AI151"]
["","Vstupy!AM151",null,"Vstupy","AM151"]
["","Vstupy!AQ151",null,"Vstupy","AQ151"]
["","Vstupy!AU151",null,"Vstupy","AU151"]
["","Vstupy!AY151",null,"Vstupy","AY151"]
["","Vstupy!BC151",null,"Vstupy","BC151"]
["","Vstupy!BG151",null,"Vstupy","BG151"]
["","Vstupy!BK151",null,"Vstupy","BK151"]
["","Vstupy!BO151",null,"Vstupy","BO151"]
["","Vstupy!BS151",null,"Vstupy","BS151"]
["","Vstupy!BW151",null,"Vstupy","BW151"]
["","Vstupy!CA151",null,"Vstupy","CA151"]
["","Vstupy!AA152",null,"Vstupy","AA152"]
["","Vstupy!AE152",null,"Vstupy","AE152"]
["","Vstupy!AI152",null,"Vstupy","AI152"]
["","Vstupy!AM152",null,"Vstupy","AM152"]
["","Vstupy!AQ152",null,"Vstupy","AQ152"]
["","Vstupy!AU152",null,"Vstupy","AU152"]
["","Vstupy!AY152",null,"Vstupy","AY152"]
["","Vstupy!BC152",null,"Vstupy","BC152"]
["","Vstupy!BG152",null,"Vstupy","BG152"]
["","Vstupy!BK152",null,"Vstupy","BK152"]
["","Vstupy!BO152",null,"Vstupy","BO152"]
["","Vstupy!BS152",null,"Vstupy","BS152"]
["","Vstupy!BW152",null,"Vstupy","BW152"]
["","Vstupy!CA152",null,"Vstupy","CA152"]
["Jiné - zadejte","Vstupy!S159",null,"Vstupy","S159"]
["Jiné - zadejte","Vstupy!S160",null,"Vstupy","S160"]
[12,"Vstupy!AG155",null,"Vstupy","AG155"]
[12,"Vstupy!AG156",null,"Vstupy","AG156"]
[12,"Vstupy!AG157",null,"Vstupy","AG157"]
[12,"Vstupy!AG158",null,"Vstupy","AG158"]
[12,"Vstupy!AG159",null,"Vstupy","AG159"]
[12,"Vstupy!AG160",null,"Vstupy","AG160"]
["","Vstupy!AI155",null,"Vstupy","AI155"]
["","Vstupy!AI156",null,{"$f":"MID(B397,1,SEARCH(\"!\",B397)-1)","v":"Vstupy"},{"$f":"MID(B397,SEARCH(\"!\",B397)+1,LEN(B397))","v":"AI156"}]
["","Vstupy!AI157",null,"Vstupy",{"$f":"MID(B398,SEARCH(\"!\",B398)+1,LEN(B398))","v":"AI157"}]
["","Vstupy!AI158",null,"Vstupy","AI158"]
["","Vstupy!AI159",null,"Vstupy","AI159"]
["","Vstupy!AI160",null,"Vstupy","AI160"]
["","Vstupy!AM155",null,"Vstupy","AM155"]
["","Vstupy!AM156",null,"Vstupy","AM156"]
["","Vstupy!AM157",null,"Vstupy","AM157"]
["","Vstupy!AM158",null,"Vstupy","AM158"]
["","Vstupy!AM159",null,"Vstupy","AM159"]
["","Vstupy!AM160",null,"Vstupy","AM160"]
["","Vstupy!AF171",null,"Vstupy","AF171"]
["","Vstupy!AF172",null,"Vstupy","AF172"]
["","Vstupy!AH174",null,"Vstupy","AH174"]
["","Vstupy!AF175",null,"Vstupy","AF175"]
["","Vstupy!AS174",null,"Vstupy","AS174"]
["","Vstupy!AQ175",null,"Vstupy","AQ175"]
["","Vstupy!AF184",null,"Vstupy","AF184"]
["","Vstupy!AL184",null,"Vstupy","AL184"]
["","Vstupy!AH185",null,"Vstupy","AH185"]
["","Vstupy!AF186",null,"Vstupy","AF186"]
["","Vstupy!AN186",null,"Vstupy","AN186"]
["","Vstupy!AN187",null,"Vstupy","AN187"]
["","Vstupy!AQ184",null,"Vstupy","AQ184"]
["","Vstupy!AW184",null,"Vstupy","AW184"]
["","Vstupy!AS185",null,"Vstupy","AS185"]
["","Vstupy!AQ186",null,"Vstupy","AQ186"]
["","Vstupy!AY186",null,"Vstupy","AY186"]
["","Vstupy!AY187",null,"Vstupy","AY187"]
["","Vstupy!BB184",null,"Vstupy","BB184"]
["","Vstupy!BH184",null,"Vstupy","BH184"]
["","Vstupy!BD185",null,"Vstupy","BD185"]
["","Vstupy!BB186",null,"Vstupy","BB186"]
["","Vstupy!BJ186",null,"Vstupy","BJ186"]
["","Vstupy!BJ187",null,"Vstupy","BJ187"]
["","Vstupy!BM184",null,"Vstupy","BM184"]
["","Vstupy!BS184",null,"Vstupy","BS184"]
["","Vstupy!BO185",null,"Vstupy","BO185"]
["","Vstupy!BM186",null,"Vstupy","BM186"]
["","Vstupy!BU186",null,"Vstupy","BU186"]
["","Vstupy!BU187",null,"Vstupy","BU187"]
["","Vstupy!BX184",null,"Vstupy","BX184"]
["","Vstupy!CD184",null,"Vstupy","CD184"]
["","Vstupy!BZ185",null,"Vstupy","BZ185"]
["","Vstupy!BX186",null,"Vstupy","BX186"]
["","Vstupy!CF186",null,"Vstupy","CF186"]
["","Vstupy!CF187",null,{"$f":"MID(B443,1,SEARCH(\"!\",B443)-1)","v":"Vstupy"},{"$f":"MID(B443,SEARCH(\"!\",B443)+1,LEN(B443))","v":"CF187"}]
["","Vstupy!AJ193",null,{"$f":"MID(B444,1,SEARCH(\"!\",B444)-1)","v":"Vstupy"},{"$f":"MID(B444,SEARCH(\"!\",B444)+1,LEN(B444))","v":"AJ193"}]
["","Vstupy!AU193",null,{"$f":"MID(B445,1,SEARCH(\"!\",B445)-1)","v":"Vstupy"},{"$f":"MID(B445,SEARCH(\"!\",B445)+1,LEN(B445))","v":"AU193"}]
["","Vstupy!AF194",null,{"$f":"MID(B446,1,SEARCH(\"!\",B446)-1)","v":"Vstupy"},{"$f":"MID(B446,SEARCH(\"!\",B446)+1,LEN(B446))","v":"AF194"}]
["","Vstupy!AQ194",null,"Vstupy","AQ194"]
["","Vstupy!AF201",null,"Vstupy","AF201"]
["","Vstupy!AQ201",null,"Vstupy","AQ201"]
["","Vstupy!AF205",null,"Vstupy","AF205"]
["","Vstupy!AF206",null,"Vstupy","AF206"]
["","Vstupy!AF210",null,"Vstupy","AF210"]
["","Vstupy!AF211",null,"Vstupy","AF211"]
[1.4999999999999999E-2,"Vstupy!AD212",null,"Vstupy","AD212"]
["","Vstupy!AF212",null,"Vstupy","AF212"]
["","Vstupy!AH213",null,"Vstupy","AH213"]
["","Vstupy!AF214",null,"Vstupy","AF214"]
["","Vstupy!AN214",null,"Vstupy","AN214"]
["","Vstupy!AN215",null,"Vstupy","AN215"]
["","Vstupy!AQ212",null,"Vstupy","AQ212"]
["","Vstupy!AS213",null,{"$f":"MID(B461,1,SEARCH(\"!\",B461)-1)","v":"Vstupy"},"AS213"]
["","Vstupy!AQ214",null,"Vstupy",{"$f":"MID(B462,SEARCH(\"!\",B462)+1,LEN(B462))","v":"AQ214"}]
["","Vstupy!AY214",null,"Vstupy","AY214"]
["","Vstupy!AY215",null,"Vstupy","AY215"]
["","Vstupy!AF236",null,"Vstupy","AF236"]
["","Vstupy!AF237",null,"Vstupy","AF237"]
["","Vstupy!AF238",null,"Vstupy","AF238"]
["","Vstupy!AS238",null,"Vstupy","AS238"]
["","Vstupy!BI238",null,"Vstupy","BI238"]
["","Vstupy!AF239",null,"Vstupy","AF239"]
["","Vstupy!AF240",null,"Vstupy","AF240"]
["","Vstupy!AF241",null,"Vstupy","AF241"]
["","Vstupy!AF252",null,"Vstupy","AF252"]
["","Vstupy!AF253",null,"Vstupy","AF253"]
["","Vstupy!AF254",null,"Vstupy","AF254"]
["","Vstupy!AK254",null,"Vstupy","AK254"]
["","Vstupy!BD254",null,"Vstupy","BD254"]
["","Vstupy!BI254",null,"Vstupy","BI254"]
["","Vstupy!AF255",null,"Vstupy","AF255"]
["","Vstupy!AK255",null,"Vstupy","AK255"]
["","Vstupy!BD255",null,"Vstupy","BD255"]
["","Vstupy!BI255",null,"Vstupy","BI255"]
["","Vstupy!AF256",null,"Vstupy","AF256"]
["","Vstupy!AK256",null,"Vstupy","AK256"]
["","Vstupy!BD256",null,"Vstupy","BD256"]
["","Vstupy!BI256",null,"Vstupy","BI256"]
["","Vstupy!AF269",null,"Vstupy","AF269"]
["","Vstupy!AF270",null,"Vstupy","AF270"]
["","Vstupy!AF271",null,"Vstupy","AF271"]
["","Vstupy!AS271",null,"Vstupy","AS271"]
["","Vstupy!BF271",null,"Vstupy","BF271"]
["","Vstupy!BS271",null,"Vstupy","BS271"]
["","Vstupy!AF272",null,"Vstupy","AF272"]
["","Vstupy!AS272",null,"Vstupy","AS272"]
["","Vstupy!BF272",null,"Vstupy","BF272"]
["","Vstupy!BS272",null,"Vstupy","BS272"]
["","Vstupy!AF274",null,"Vstupy","AF274"]
["","Vstupy!AF275",null,"Vstupy","AF275"]
["","Vstupy!AF289",null,"Vstupy","AF289"]
["","Vstupy!AF290",null,"Vstupy",{"$f":"MID(B500,SEARCH(\"!\",B500)+1,LEN(B500))","v":"AF290"}]
[1,"Vstupy!A16",null,"Vstupy","e16"]
[0,"Vstupy!A17",null,"Vstupy","e17"]
[0,"Vstupy!A18",null,"Vstupy","e18"]
[0,"Vstupy!A19",null,"Vstupy","e19"]
[0,"Vstupy!A20",null,"Vstupy","e20"]
[0,"Vstupy!A21",null,"Vstupy","e21"]
[0,"Vstupy!A22",null,"Vstupy","e22"]
[0,"Vstupy!A23",null,"Vstupy","e23"]
[0,"Vstupy!A24",null,"Vstupy","e24"]
["Vážený kliente",null,null,"Vystup1","k59"]

{"sheet":"Vystup1","index":10,"n_rows":1000,"n_cols":136,"rows_kept":1000,"cut":false,"hidden":false,"merged":[[234,73,234,79],[236,73,236,79],[238,73,238,79],[180,71,180,75],[183,71,183,75],[184,39,184,43],[184,71,184,75],[182,17,182,38],[182,39,182,43],[182,49,182,70],[182,71,182,75],[176,17,176,38],[176,39,176,43],[176,49,176,70],[176,71,176,75],[177,17,177,38],[177,39,177,43],[177,49,177,70],[177,71,177,75],[178,17,178,38],[178,39,178,43],[178,49,178,70],[178,71,178,75],[426,81,426,88],[426,89,426,92],[426,93,426,97],[427,93,427,97],[423,81,423,97],[121,17,121,48],[121,49,121,80],[443,26,443,80],[254,38,254,44],[228,73,228,79],[230,73,230,79],[216,38,216,44],[218,38,218,44],[220,38,220,44],[222,38,222,44],[224,38,224,44],[226,38,226,44],[228,38,228,44],[230,38,230,44],[181,37,181,43],[181,69,181,75],[183,17,183,38],[183,39,183,43],[183,49,183,70],[446,11,446,80],[153,39,153,43],[153,71,153,75],[383,55,383,61],[383,73,383,79],[153,17,153,38],[153,49,153,70],[184,17,184,38],[262,38,262,44],[262,73,262,79],[266,38,266,44],[266,73,266,79],[154,17,154,38],[154,49,154,70],[154,71,154,75],[179,17,179,38],[179,39,179,43],[179,49,179,70],[179,71,179,75],[180,17,180,38],[180,39,180,43],[180,49,180,70],[188,17,188,80],[444,11,444,80],[173,17,173,38],[173,39,173,43],[173,49,173,70],[173,71,173,75],[174,17,174,38],[174,39,174,43],[174,49,174,70],[174,71,174,75],[175,17,175,38],[175,39,175,43],[175,49,175,70],[175,71,175,75],[170,17,170,38],[170,39,170,43],[170,49,170,70],[170,71,170,75],[171,17,171,38],[171,39,171,43],[171,49,171,70],[171,71,171,75],[172,17,172,38],[172,39,172,43],[172,49,172,70],[172,71,172,75],[167,17,167,38],[167,39,167,43],[167,49,167,70],[167,71,167,75],[168,17,168,38],[168,39,168,43],[168,49,168,70],[168,71,168,75],[169,17,169,38],[169,39,169,43],[169,49,169,70],[169,71,169,75],[164,17,164,38],[164,39,164,43],[164,49,164,70],[164,71,164,75],[165,17,165,38],[165,39,165,43],[165,49,165,70],[165,71,165,75],[166,17,166,38],[166,39,166,43],[166,49,166,70],[166,71,166,75],[161,39,161,43],[161,49,161,70],[161,71,161,75],[162,17,162,38],[162,39,162,43],[162,49,162,70],[162,71,162,75],[163,17,163,38],[163,39,163,43],[163,49,163,70],[163,71,163,75],[161,17,161,38],[155,17,155,38],[154,39,154,43],[156,17,156,38],[156,39,156,43],[156,49,156,70],[156,71,156,75],[157,17,157,38],[157,39,157,43],[157,49,157,70],[157,71,157,75],[155,71,155,75],[155,39,155,43],[155,49,155,70],[158,17,158,38],[158,39,158,43],[158,49,158,70],[158,71,158,75],[159,17,159,38],[159,39,159,43],[159,49,159,70],[159,71,159,75],[160,17,160,38],[160,39,160,43],[160,49,160,70],[160,71,160,75],[619,51,619,70],[156,107,156,120],[156,121,156,134],[157,121,157,134],[158,121,158,134],[159,121,159,134],[156,135,156,148],[157,135,157,148],[158,135,158,148],[159,135,159,148],[160,107,160,120],[161,107,161,120],[162,107,162,120],[211,54,211,60],[586,11,586,80],[436,64,436,80],[456,11,456,80],[458,11,458,80],[438,56,438,63],[439,56,439,63],[436,47,436,63],[496,26,496,80],[521,11,521,80],[438,47,438,54],[485,11,485,80],[495,11,495,80],[493,11,493,80],[491,11,491,80],[471,11,471,80],[464,47,464,54],[466,11,466,80],[467,11,467,80],[468,11,468,80],[464,42,464,46],[465,26,465,80],[464,30,464,37],[489,63,489,66],[550,11,550,80],[566,26,566,80],[583,26,583,80],[437,56,437,63],[455,26,455,80],[461,11,461,29],[461,30,461,37],[461,39,461,46],[460,30,460,46],[547,63,547,67],[547,39,547,44],[546,39,546,44],[547,23,547,29],[546,23,546,29],[489,22,489,28],[489,39,489,45],[513,26,513,80],[540,26,540,80],[547,71,547,80],[484,26,484,80],[439,47,439,54],[438,11,438,29],[439,11,439,29],[487,11,487,80],[584,11,584,80],[333,38,333,44],[297,54,297,60],[298,38,298,44],[463,59,463,63],[464,59,464,63],[463,55,463,58],[463,47,463,54],[460,47,460,63],[462,11,462,29],[463,11,463,29],[464,11,464,29],[463,42,463,46],[463,38,463,41],[463,30,463,37],[570,26,570,80],[514,11,514,80],[516,11,516,80],[541,11,541,80],[543,11,543,80],[567,11,567,80],[569,11,569,80],[524,11,524,80],[499,11,499,80],[98,11,98,80],[99,11,99,80],[100,11,100,80],[101,11,101,80],[102,11,102,80],[103,11,103,80],[104,11,104,80],[412,26,412,80],[423,47,423,63],[423,64,423,80],[419,11,419,29],[420,30,420,46],[419,30,419,46],[418,39,418,46],[417,30,417,46],[419,47,419,63],[420,47,420,63],[418,56,418,63],[277,38,277,44],[279,38,279,44],[281,38,281,44],[413,11,413,80],[285,38,285,44],[285,73,285,79],[159,107,159,120],[418,11,418,29],[420,11,420,29],[110,11,110,65],[111,26,111,80],[163,107,163,120],[234,38,234,44],[212,73,212,79],[212,38,212,44],[214,38,214,44],[251,54,251,60],[252,38,252,44],[214,73,214,79],[216,73,216,79],[232,38,232,44],[232,73,232,79],[157,107,157,120],[158,107,158,120],[202,26,202,80],[260,38,260,44],[272,54,272,60],[273,38,273,44],[275,38,275,44],[226,73,226,79],[90,70,90,80],[92,26,92,36],[92,37,92,47],[92,48,92,58],[92,59,92,69],[92,70,92,80],[91,26,91,36],[91,37,91,47],[91,48,91,58],[91,59,91,69],[91,70,91,80],[89,70,89,80],[88,26,88,36],[88,37,88,47],[88,48,88,58],[218,73,218,79],[220,73,220,79],[222,73,222,79],[224,73,224,79],[199,26,199,80],[119,17,119,48],[119,49,119,80],[115,17,115,48],[125,17,125,48],[133,17,133,48],[129,17,129,48],[145,17,145,48],[141,17,141,48],[137,17,137,48],[145,49,145,80],[141,49,141,80],[90,26,90,36],[90,37,90,47],[90,48,90,58],[90,59,90,69],[77,48,77,58],[77,59,77,69],[77,70,77,80],[80,48,80,58],[80,59,80,69],[80,70,80,80],[80,26,80,36],[80,37,80,47],[76,37,76,47],[76,48,76,58],[76,59,76,69],[76,26,76,36],[78,26,78,36],[78,37,78,47],[78,48,78,58],[78,59,78,69],[78,70,78,80],[79,26,79,36],[79,37,79,47],[79,48,79,58],[79,59,79,69],[79,70,79,80],[460,64,460,80],[462,30,462,37],[462,47,462,54],[436,30,436,46],[437,11,437,29],[81,26,81,36],[81,37,81,47],[81,48,81,58],[81,59,81,69],[81,70,81,80],[82,26,82,36],[84,70,84,80],[82,37,82,47],[82,48,82,58],[82,59,82,69],[82,70,82,80],[83,26,83,36],[83,37,83,47],[83,48,83,58],[83,59,83,69],[83,70,83,80],[85,26,85,36],[85,37,85,47],[89,59,89,69],[546,71,546,80],[547,55,547,56],[546,55,546,56],[546,63,546,67],[486,26,486,80],[461,47,461,54],[461,56,461,63],[424,30,424,37],[427,30,427,37],[424,39,424,46],[426,42,426,46],[427,42,427,46],[426,38,426,41],[426,11,426,29],[424,11,424,29],[425,11,425,29],[433,11,433,29],[432,30,432,37],[426,30,426,37],[425,30,425,37],[430,30,430,46],[430,47,430,63],[433,56,433,63],[437,47,437,54],[440,26,440,80],[449,11,449,80],[419,92,419,102],[420,92,420,102],[427,47,427,54],[429,11,429,80],[432,11,432,29],[420,103,420,113],[427,98,427,105],[428,26,428,80],[427,64,427,71],[427,11,427,29],[427,59,427,63],[421,26,421,80],[437,30,437,37],[438,30,438,37],[439,30,439,37],[437,39,437,46],[438,39,438,46],[439,39,439,46],[424,98,424,105],[424,107,424,114],[425,98,425,105],[426,98,426,105],[417,103,417,113],[434,26,434,80],[418,105,418,106],[418,98,418,102],[418,51,418,52],[418,34,418,35],[418,94,418,95],[427,76,427,80],[431,11,431,29],[423,30,423,46],[417,47,417,63],[425,64,425,71],[418,109,418,113],[427,81,427,88],[424,73,424,80],[426,72,426,75],[419,103,419,113],[426,106,426,109],[426,110,426,114],[427,110,427,114],[423,98,423,114],[424,81,424,88],[424,90,424,97],[425,81,425,88],[174,84,174,153],[204,26,204,80],[200,26,200,80],[417,92,417,102],[415,11,415,80],[84,26,84,36],[84,37,84,47],[84,48,84,58],[84,59,84,69],[87,48,87,58],[87,59,87,69],[87,70,87,80],[297,36,297,42],[330,25,330,31],[358,54,358,60],[359,54,359,60],[308,38,308,44],[310,38,310,44],[312,38,312,44],[314,38,314,44],[316,38,316,44],[318,38,318,44],[330,54,330,60],[331,38,331,44],[60,11,60,80],[61,11,61,80],[62,11,62,80],[63,11,63,80],[64,11,64,80],[68,54,68,69],[88,59,88,69],[88,70,88,80],[89,26,89,36],[89,37,89,47],[89,48,89,58],[85,48,85,58],[85,59,85,69],[85,70,85,80],[86,26,86,36],[86,37,86,47],[86,48,86,58],[86,59,86,69],[86,70,86,80],[87,26,87,36],[87,37,87,47],[76,70,76,80],[77,26,77,36],[77,37,77,47],[339,38,339,44],[298,73,298,79],[297,63,297,69],[302,25,302,31],[304,25,304,31],[306,25,306,31],[308,25,308,31],[310,25,310,31],[312,25,312,31],[314,25,314,31],[302,38,302,44],[300,25,300,31],[300,38,300,44],[339,73,339,79],[335,38,335,44],[337,38,337,44],[304,38,304,44],[306,38,306,44],[256,38,256,44],[258,38,258,44],[236,38,236,44],[238,38,238,44],[240,54,240,60],[240,73,240,79],[283,38,283,44],[264,38,264,44],[273,73,273,79],[275,73,275,79],[277,73,277,79],[279,73,279,79],[281,73,281,79],[283,73,283,79],[260,73,260,79],[272,63,272,69],[256,73,256,79],[258,73,258,79],[264,73,264,79],[251,72,251,78],[252,73,252,79],[254,73,254,79],[249,38,249,44],[249,73,249,79],[287,38,287,44],[318,73,318,79],[330,73,330,79],[300,73,300,79],[302,73,302,79],[304,73,304,79],[306,73,306,79],[308,73,308,79],[310,73,310,79],[312,73,312,79],[314,73,314,79],[316,73,316,79],[358,63,358,69],[378,28,378,35],[376,28,376,35],[316,25,316,31],[318,25,318,31],[376,20,376,27],[376,37,376,44],[377,72,377,79],[377,62,377,69],[378,62,378,69],[377,54,377,61],[378,54,378,61],[377,45,377,52],[378,45,378,52],[376,45,376,52],[376,54,376,61],[376,62,376,69],[377,37,377,44],[378,37,378,44],[377,20,377,27],[378,20,378,27],[363,54,363,60],[360,63,360,69],[361,63,361,69],[608,11,608,80],[609,11,609,80],[610,11,610,80],[611,11,611,80],[612,11,612,80],[613,11,613,80],[379,37,379,44],[379,28,379,35],[379,20,379,27],[426,59,426,63],[426,55,426,58],[426,47,426,54],[424,56,424,63],[424,64,424,71],[433,30,433,37],[431,39,431,46],[432,39,432,46],[433,39,433,46],[431,47,431,54],[432,47,432,54],[433,47,433,54],[431,56,431,63],[432,56,432,63],[431,30,431,37],[614,11,614,80],[605,11,605,80],[270,38,270,44],[270,73,270,79],[291,38,291,44],[291,73,291,79],[324,38,324,44],[324,73,324,79],[375,20,375,35],[375,37,375,52],[375,54,375,69],[357,54,357,60],[357,63,357,69],[377,28,377,35],[297,72,297,78],[358,72,358,78],[359,72,359,78],[360,72,360,78],[606,11,606,80],[607,11,607,80],[379,72,379,79],[379,62,379,69],[379,54,379,61],[379,45,379,52],[362,63,362,69],[359,63,359,69],[424,47,424,54],[425,47,425,54],[426,64,426,71],[426,76,426,80],[363,63,363,69],[360,54,360,60],[361,54,361,60],[362,54,362,60],[361,72,361,78],[362,72,362,78],[363,72,363,78],[137,49,137,80],[133,49,133,80],[129,49,129,80],[125,49,125,80],[115,49,115,80],[324,25,324,31],[351,25,351,31],[351,38,351,44],[351,73,351,79],[210,54,210,60],[210,63,210,69],[210,72,210,78],[331,25,331,31],[333,25,333,31],[335,25,335,31],[337,25,337,31],[339,25,339,31],[298,25,298,31],[331,73,331,79],[333,73,333,79],[335,73,335,79],[337,73,337,79],[287,73,287,79],[271,73,271,79]]}
[]
[]
[]
[]
[]
[]
[]
[]
[]
[]
[]
[]
[]
[]
[]
[]
[]
[]
[]
[]
[]
[]
[]
[]
[]
[]
[]
[]
[]
[]
[]
[]
[]
[]
[]
[]
[]
[]
[]
[]
[]
[]
[]
[]
[]
[]
[null,null,null,null,null,null,null,null,null,null,null,null,null,null,null,null,null,null,null,null,null,null,null,null,null,null,null,null,null,null,null,null,null,null,null,null,null,null,null,null,null,null,null,null,null,null,null,null,null,null,null,null,null,null,null,null,null,null,null,null,null,null,null,null,null,null,null,null,null,null,null,null,null,null,null,null,null,null,null,null,null,{"$f":"ROW()","v":47}]
[null,null,null,null,null,null,null,null,null,null,null,null,null,null,null,null,null,null,null,null,null,null,null,null,null,null,null,null,null,null,null,null,null,null,null,null,null,null,null,null,null,null,null,null,null,null,null,null,null,null,null,null,null,null,null,null,null,null,null,null,null,null,null,null,null,null,null,null,null,null,null,null,null,null,null,null,null,null,null,null,null,{"$f":"ROW()","v":48}]
[null,null,null,null,null,null,null,null,null,null,null,null,null,null,null,null,null,null,null,null,null,null,null,null,null,null,null,null,null,null,null,null,null,null,null,null,null,null,null,null,null,null,null,null,null,null,null,null,null,null,null,null,null,null,null,null,null,null,null,null,null,null,null,null,null,null,null,null,null,null,null,null,null,null,null,null,null,null,null,null,null,{"$f":"ROW()","v":49}]
[null,null,null,null,null,null,null,null,null,null,null,null,null,null,null,null,null,null,null,null,null,null,null,null,null,null,null,null,null,null,null,null,null,null,null,null,null,null,null,null,null,null,null,null,null,null,null,null,null,null,null,null,null,null,null,null,null,null,null,null,null,null,null,null,null,null,null,null,null,null,null,null,null,null,null,null,null,null,null,null,null,{"$f":"ROW()","v":50}]
[null,null,null,null,null,null,null,null,null,null,null,null,null,null,null,null,null,null,null,null,null,null,null,null,null,null,null,null,null,null,null,null,null,null,null,null,null,null,null,null,null,null,null,null,null,null,null,null,null,null,null,null,null,null,null,null,null,null,null,null,null,null,null,null,null,null,null,null,null,null,null,null,null,null,null,null,null,null,null,null,null,{"$f":"ROW()","v":51}]
[null,null,null,null,null,null,null,null,null,null,null,null,null,null,null,null,null,null,null,null,null,null,null,null,null,null,null,null,null,null,null,null,null,null,null,null,null,null,null,null,null,null,null,null,null,null,null,null,null,null,null,null,null,null,null,null,null,null,null,null,null,null,null,null,null,null,null,null,null,null,null,null,null,null,null,null,null,null,null,null,null,{"$f":"ROW()","v":52}]
[null,null,null,null,null,null,null,null,null,null,null,null,null,null,null,null,null,null,null,null,null,null,null,null,null,null,null,null,null,null,null,null,null,null,null,null,null,null,null,null,null,null,null,null,null,null,null,null,null,null,null,null,null,null,null,null,null,null,null,null,null,null,null,null,null,null,null,null,null,null,null,null,null,null,null,null,null,null,null,null,null,{"$f":"ROW()","v":53}]
[null,null,null,null,null,null,null,null,null,null,null,null,null,null,null,null,null,null,null,null,null,null,null,null,null,null,null,null,null,null,null,null,null,null,null,null,null,null,null,null,null,null,null,null,null,null,null,null,null,null,null,null,null,null,null,null,null,null,null,null,null,null,null,null,null,null,null,null,null,null,null,null,null,null,null,null,null,null,null,null,null,{"$f":"ROW()","v":54}]
[null,null,null,null,null,null,null,null,null,null,null,null,null,null,null,null,null,null,null,null,null,null,null,null,null,null,null,null,null,null,null,null,null,null,null,null,null,null,null,null,null,null,null,null,null,null,null,null,null,null,null,null,null,null,null,null,null,null,null,null,null,null,null,null,null,null,null,null,null,null,null,null,null,null,null,null,null,null,null,null,null,{"$f":"ROW()","v":55}]
[null,null,null,null,null,null,null,null,null,null,null,null,null,null,null,null,null,null,null,null,null,null,null,null,null,null,null,null,null,null,null,null,null,null,null,null,null,null,null,null,null,null,null,null,null,null,null,null,null,null,null,null,null,null,null,null,null,null,null,null,null,null,null,null,null,null,null,null,null,null,null,null,null,null,null,null,null,null,null,null,null,{"$f":"ROW()","v":56}]
[null,null,null,null,null,null,null,null,null,null,null,null,null,null,null,null,null,null,null,null,null,null,null,null,null,null,null,null,null,null,null,null,null,null,null,null,null,null,null,null,null,null,null,null,null,null,null,null,null,null,null,null,null,null,null,null,null,null,null,null,null,null,null,null,null,null,null,null,null,null,null,null,null,null,null,null,null,null,null,null,null,{"$f":"ROW()","v":57}]
[null,null,null,null,null,null,null,null,null,null,null,null,null,null,null,null,null,null,null,null,null,null,null,null,null,null,null,null,null,null,null,null,null,null,null,null,null,null,null,null,null,null,null,null,null,null,null,null,null,null,null,null,null,null,null,null,null,null,null,null,null,null,null,null,null,null,null,null,null,null,null,null,null,null,null,null,null,null,null,null,null,{"$f":"ROW()","v":58}]
[null,null,null,null,null,null,null,null,null,null,"Vážený kliente",{"$f":"K59 & \",\"","v":"Vážený kliente,"},null,null,null,null,null,null,null,null,null,null,null,null,null,null,null,null,null,null,null,null,null,null,null,null,null,null,null,null,null,null,null,null,null,null,null,null,null,null,null,null,null,null,null,null,null,null,null,null,null,null,null,null,null,null,null,null,null,null,null,null,null,null,null,null,null,null,null,null,null,{"$f":"ROW()","v":59}]
[null,null,null,null,null,null,null,null,null,null,null,null,null,null,null,null,null,null,null,null,null,null,null,null,null,null,null,null,null,null,null,null,null,null,null,null,null,null,null,null,null,null,null,null,null,null,null,null,null,null,null,null,null,null,null,null,null,null,null,null,null,null,null,null,null,null,null,null,null,null,null,null,null,null,null,null,null,null,null,null,null,{"$f":"ROW()","v":60}]
[null,null,null,null,null,null,null,null,null,null,null,"společnost OVB působí na evropském trhu již od roku 1970. Ve 14 zemích Evropy se stará o téměř 3 milióny klientů. Nejsme ani banka, ani pojišťovna. Jsme nezávislými finančními odborníky na vhodný výběr konkrétních finančních řešení.  Již celých 40 let sledujeme finanční trh.  V České republice jsme od roku 1993 respektovaným partnerem pro nejvýznamnější instituce na finančním a kapitálovém trhu. Chceme a umíme Vám objektivně poradit.",null,null,null,null,null,null,null,null,null,null,null,null,null,null,null,null,null,null,null,null,null,null,null,null,null,null,null,null,null,null,null,null,null,null,null,null,null,null,null,null,null,null,null,null,null,null,null,null,null,null,null,null,null,null,null,null,null,null,null,null,null,null,null,null,null,null,null,null,null,{"$f":"ROW()","v":61}]
[null,null,null,null,null,null,null,null,null,null,null,"Společnost OVB Allfinanz,a.s., jejímž smluvním spolupracovníkem jsem, pomáhá hledat řešení pro vaše rodinné finance, vycházíme z toho, že každý člověk vyžaduje individuální přístup. Každý má své požadavky, cíle, přání, sny a potřeby. Objektivně vyhodnotíme Vaši situaci a navrhneme optimální řešení. Využíváme přitom nástroje Analytického centra OVB obsahující aktuální data z trhu a podrobné nabídky našich partnerských společností. Nabízíme Vám spolehlivé a dlouhodobé partnerství a následný kvalitní servis.",null,null,null,null,null,null,null,null,null,null,null,null,null,null,null,null,null,null,null,null,null,null,null,null,null,null,null,null,null,null,null,null,null,null,null,null,null,null,null,null,null,null,null,null,null,null,null,null,null,null,null,null,null,null,null,null,null,null,null,null,null,null,null,null,null,null,null,null,null,{"$f":"ROW()","v":62}]
[null,null,null,null,null,null,null,null,null,null,null,"Sestavení Rodinného finančního plánu je toho důkazem. Popisuje jak aktuální finanční analýzu vaší rodiny, tak i vaše přání, sny a potřeby do budoucna. Rodinný finanční plán vám navrhne řešení pro všechny oblasti vašeho života, které jsou pro vás aktuální, ať už se jedná o zajištění vašich příjmů, zabezpečení na stáří, financování bydlení, ochranu vašeho majetku, investic či optimalizaci úvěrů.",null,null,null,null,null,null,null,null,null,null,null,null,null,null,null,null,null,null,null,null,null,null,null,null,null,null,null,null,null,null,null,null,null,null,null,null,null,null,null,null,null,null,null,null,null,null,null,null,null,null,null,null,null,null,null,null,null,null,null,null,null,null,null,null,null,null,null,null,null,{"$f":"ROW()","v":63}]
[null,null,null,null,null,null,null,null,null,null,null,"Rodinný finanční plán a jeho výstupy jsou pro vás výčtem návrhů konkrétních řešení vaší situace, popisem jak svých cílů a přání dosáhnout, jakými finančními produkty a nástroji a v jaké době, jak optimalizovat vaše stávající finanční nástroje, jak si tedy zkrátit cestu k finanční nezávislosti.",null,null,null,null,null,null,null,null,null,null,null,null,null,null,null,null,null,null,null,null,null,null,null,null,null,null,null,null,null,null,null,null,null,null,null,null,null,null,null,null,null,null,null,null,null,null,null,null,null,null,null,null,null,null,null,null,null,null,null,null,null,null,null,null,null,null,null,null,null,{"$f":"ROW()","v":64}]
[1,1,null,null,null,null,null,null,null,null,null,"Věřím, že předložený Rodinný finanční plán naplní vaše představy a společně tak upevníme naše partnerství.",null,null,null,null,null,null,null,null,null,null,null,null,null,null,null,null,null,null,null,null,null,null,null,null,null,null,null,null,null,null,null,null,null,null,null,null,null,null,null,null,null,null,null,null,null,null,null,null,null,null,null,null,null,null,null,null,null,null,null,null,null,null,null,null,null,null,null,null,null,{"$f":"ROW()","v":65}]
[1,1,1,null,null,null,null,null,null,null,null,"Váš finanční poradce",null,null,null,null,null,null,null,null,null,null,null,null,null,null,null,null,null,null,null,null,null,null,null,null,null,null,null,null,null,null,null,null,null,null,null,null,null,null,null,null,null,null,null,null,null,null,null,null,null,null,null,null,null,null,null,null,null,null,null,null,null,null,null,null,null,null,null,null,null,{"$f":"ROW()","v":66}]
[1,1,1,null,null,null,null,null,null,null,null,null,null,null,null,null,null,null,null,null,null,null,null,null,null,null,null,null,null,null,null,null,null,null,null,null,null,null,null,null,null,null,null,null,null,null,null,null,null,null,null,null,null,null,null,null,null,null,null,null,null,null,null,null,null,null,null,null,null,null,null,null,null,null,null,null,null,null,null,null,null,{"$f":"ROW()","v":67}]
[1,1,1,null,null,null,null,null,null,null,null,{"$f":"Oblasti!N9","v":0},null,null,null,null,null,null,null,null,null,null,null,null,null,null,null,null,null,null,null,{"$f":"\"tel.: \"&TEXT(Oblasti!N12,\"### ###\")","v":"tel.: "},null,null,null,null,null,null,null,null,null,null,null,null,null,null,null,null,null,null,null,null,null,null,{"$f":"\"Reg. č. PPZ: \" & Oblasti!N17","v":"Reg. č. PPZ: "},null,null,null,null,null,null,null,null,null,null,null,null,null,null,null,null,null,null,null,null,null,null,null,null,null,null,{"$f":"ROW()","v":68}]
[1,1,1,null,null,null,null,null,null,null,null,{"$f":"\"Os. Číslo: \" & Oblasti!N10","v":"Os. Číslo: "},null,null,null,null,null,null,null,null,null,null,null,null,null,null,null,null,null,null,null,{"$f":"Oblasti!N13","v":0},null,null,null,null,null,null,null,null,null,null,null,null,null,null,null,null,null,null,null,null,null,null,{"$f":"\"IČ: \"&Oblasti!N18","v":"IČ: "},null,null,null,null,null,null,null,null,null,null,null,null,null,null,null,null,null,null,null,null,null,null,null,null,null,null,{"$f":"ROW()","v":69}]
[1,1,1,null,null,null,null,null,null,null,null,{"$f":"\"Pozice: \"&Oblasti!N11","v":"Pozice: "},null,null,null,null,null,null,null,null,null,null,null,null,null,null,null,null,null,null,null,{"$f":"Oblasti!N14 & \", \" & Oblasti!N15","v":", "},null,null,null,null,null,null,null,null,null,null,null,null,null,null,null,null,null,null,null,null,null,null,null,null,null,null,null,null,null,null,null,null,null,null,null,null,null,null,null,null,null,null,null,null,null,null,null,null,null,{"$f":"ROW()","v":70}]
[1,1,1,null,null,null,null,null,null,null,null,null,null,null,null,null,null,null,null,null,null,null,null,null,null,null,null,null,null,null,null,{"$f":"Oblasti!N16","v":0},null,null,null,null,null,null,null,null,null,null,null,null,null,null,null,null,null,null,null,null,null,null,null,null,null,null,null,null,null,null,null,null,null,null,null,null,null,null,null,null,null,null,null,null,null,null,null,null,null,{"$f":"ROW()","v":71}]
[0,0,1,null,null,null,null,null,null,null,null,null,null,null,null,null,null,null,null,null,null,null,null,null,null,null,null,null,null,null,null,null,null,null,null,null,null,null,null,null,null,null,null,null,null,null,null,null,null,null,null,null,null,null,null,null,null,null,null,null,null,null,null,null,null,null,null,null,null,null,null,null,null,null,null,null,null,null,null,null,null,{"$f":"ROW()","v":72}]
[0,0,1,null,null,null,null,null,null,null,null,null,null,null,null,null,null,null,null,null,null,null,null,null,null,null,null,null,null,null,null,null,null,null,null,null,null,null,null,null,null,null,null,null,null,null,null,null,null,null,null,null,null,null,null,null,null,null,null,null,null,null,null,null,null,null,null,null,null,null,null,null,null,null,null,null,null,null,null,null,null,{"$f":"ROW()","v":73}]
[0,0,1,null,null,null,null,null,null,null,null,null,null,null,null,null,null,null,null,null,null,null,null,null,null,null,null,null,null,null,null,null,null,null,null,null,null,null,null,null,null,null,null,null,null,null,null,null,null,null,null,null,null,null,null,null,null,null,null,null,null,null,null,null,null,null,null,null,null,null,null,null,null,null,null,null,null,null,null,null,null,{"$f":"ROW()","v":74}]
[1,1,1,null,null,null,null,null,null,null,null,null,null,null,null,null,null,null,null,null,null,null,null,null,null,null,null,null,null,null,null,null,null,null,null,null,null,null,null,null,null,null,null,null,null,null,null,null,null,null,null,null,null,null,null,null,null,null,null,null,null,null,null,null,null,null,null,null,null,null,null,null,null,null,null,null,null,null,null,null,null,{"$f":"ROW()","v":75}]
[1,1,1,null,null,null,null,null,null,null,null,"Údaje o klientovi",null,null,null,null,null,null,null,null,null,null,null,null,null,null,null,null,null,null,null,null,null,null,null,null,null,null,null,null,null,null,null,null,null,null,null,null,null,null,null,null,null,null,null,null,null,null,null,null,null,null,null,null,null,null,null,null,null,null,null,null,null,null,null,null,null,null,null,null,null,{"$f":"ROW()","v":76}]
[1,1,1,null,null,null,null,null,null,null,null,{"$f":"Vstupy!S9","v":"Jméno"},null,null,null,null,null,null,null,null,null,null,null,null,null,null,{"$f":"Vstupy!AF9","v":0},null,null,null,null,null,null,null,null,null,null,{"$f":"Vstupy!AQ9","v":0},null,null,null,null,null,null,null,null,null,null,{"$f":"Vstupy!BB9","v":0},null,null,null,null,null,null,null,null,null,null,{"$f":"Vstupy!BM9","v":0},null,null,null,null,null,null,null,null,null,null,{"$f":"Vstupy!BX9","v":0},null,null,null,null,null,null,null,null,null,null,{"$f":"ROW()","v":77}]
[1,{"$f":"Vstupy!G10","v":0},1,null,null,null,null,null,null,null,null,{"$f":"Vstupy!S10","v":"Titul, příjmení"},null,null,null,null,null,null,null,null,null,null,null,null,null,null,{"$f":"Vstupy!AF10 & \" \"& Vstupy!AI10","v":" "},null,null,null,null,null,null,null,null,null,null,{"$f":"Vstupy!AQ10 & \" \" & Vstupy!AT10","v":" "},null,null,null,null,null,null,null,null,null,null,{"$f":"Vstupy!BB10","v":0},null,null,null,null,null,null,null,null,null,null,{"$f":"Vstupy!BM10","v":0},null,null,null,null,null,null,null,null,null,null,{"$f":"Vstupy!BX10","v":0},null,null,null,null,null,null,null,null,null,null,{"$f":"ROW()","v":78}]
[1,{"$f":"Vstupy!G11","v":0},1,null,null,null,null,null,null,null,null,{"$f":"Vstupy!S11","v":"Datum narození"},null,null,null,null,null,null,null,null,null,null,null,null,null,null,{"$f":"IF(Vstupy!AF11=0,\"\",Vstupy!AF11)","v":""},null,null,null,null,null,null,null,null,null,null,{"$f":"IF(Vstupy!AQ11=0,\"\",Vstupy!AQ11)","v":""},null,null,null,null,null,null,null,null,null,null,{"$f":"IF(Vstupy!BB11=0,\"\",Vstupy!BB11)","v":""},null,null,null,null,null,null,null,null,null,null,{"$f":"IF(Vstupy!BM11=0,\"\",Vstupy!BM11)","v":""},null,null,null,null,null,null,null,null,null,null,{"$f":"IF(Vstupy!BX11=0,\"\",Vstupy!BX11)","v":""},null,null,null,null,null,null,null,null,null,null,{"$f":"ROW()","v":79}]
[1,{"$f":"Vstupy!G12","v":0},1,null,null,null,null,null,null,null,null,{"$f":"Vstupy!S12","v":"Průměrný hrubý měsíční příjem"},null,null,null,null,null,null,null,null,null,null,null,null,null,null,{"$f":"Vstupy!AF12","v":0},null,null,null,null,null,null,null,null,null,null,{"$f":"Vstupy!AQ12","v":0},null,null,null,null,null,null,null,null,null,null,{"$f":"Vstupy!BB12","v":0},null,null,null,null,null,null,null,null,null,null,{"$f":"Vstupy!BM12","v":0},null,null,null,null,null,null,null,null,null,null,{"$f":"Vstupy!BX12","v":0},null,null,null,null,null,null,null,null,null,null,{"$f":"ROW()","v":80}]
[1,{"$f":"Vstupy!G13","v":0},1,null,null,null,null,null,null,null,null,{"$f":"Vstupy!S13","v":"Průměrný čistý měsíční příjem"},null,null,null,null,null,null,null,null,null,null,null,null,null,null,{"$f":"Vstupy!AF13","v":0},null,null,null,null,null,null,null,null,null,null,{"$f":"Vstupy!AQ13","v":0},null,null,null,null,null,null,null,null,null,null,{"$f":"Vstupy!BB13","v":0},null,null,null,null,null,null,null,null,null,null,{"$f":"Vstupy!BM13","v":0},null,null,null,null,null,null,null,null,null,null,{"$f":"Vstupy!BX13","v":0},null,null,null,null,null,null,null,null,null,null,{"$f":"ROW()","v":81}]
[1,{"$f":"Vstupy!G14","v":0},1,null,null,null,null,null,null,null,null,{"$f":"Vstupy!S14","v":"Počet let do důchodu"},null,null,null,null,null,null,null,null,null,null,null,null,null,null,{"$f":"Vstupy!AF14","v":0},null,null,null,null,null,null,null,null,null,null,{"$f":"Vstupy!AQ14","v":0},null,null,null,null,null,null,null,null,null,null,{"$f":"Vstupy!BB14","v":0},null,null,null,null,null,null,null,null,null,null,{"$f":"Vstupy!BM14","v":0},null,null,null,null,null,null,null,null,null,null,{"$f":"Vstupy!BX14","v":0},null,null,null,null,null,null,null,null,null,null,{"$f":"ROW()","v":82}]
[1,{"$f":"Vstupy!G15","v":0},1,null,null,null,null,null,null,null,null,{"$f":"Vstupy!S15","v":"Rodné číslo"},null,null,null,null,null,null,null,null,null,null,null,null,null,null,{"$f":"Vstupy!AF15","v":0},null,null,null,null,null,null,null,null,null,null,{"$f":"Vstupy!AQ15","v":0},null,null,null,null,null,null,null,null,null,null,{"$f":"Vstupy!BB15","v":0},null,null,null,null,null,null,null,null,null,null,{"$f":"Vstupy!BM15","v":0},null,null,null,null,null,null,null,null,null,null,{"$f":"Vstupy!BX15","v":0},null,null,null,null,null,null,null,null,null,null,{"$f":"ROW()","v":83}]
[1,{"$f":"Vstupy!G16","v":0},1,null,null,null,null,null,null,null,null,{"$f":"Vstupy!S16","v":"E-mail"},null,null,null,null,null,null,null,null,null,null,null,null,null,null,{"$f":"Vstupy!AF16","v":0},null,null,null,null,null,null,null,null,null,null,{"$f":"Vstupy!AQ16","v":0},null,null,null,null,null,null,null,null,null,null,{"$f":"Vstupy!BB16","v":0},null,null,null,null,null,null,null,null,null,null,{"$f":"Vstupy!BM16","v":0},null,null,null,null,null,null,null,null,null,null,{"$f":"Vstupy!BX16","v":0},null,null,null,null,null,null,null,null,null,null,{"$f":"ROW()","v":84}]
[1,{"$f":"Vstupy!G17","v":0},1,null,null,null,null,null,null,null,null,{"$f":"Vstupy!S17","v":"Rodinný stav"},null,null,null,null,null,null,null,null,null,null,null,null,null,null,{"$f":"Vstupy!AF17","v":0},null,null,null,null,null,null,null,null,null,null,{"$f":"Vstupy!AQ17","v":0},null,null,null,null,null,null,null,null,null,null,{"$f":"Vstupy!BB17","v":0},null,null,null,null,null,null,null,null,null,null,{"$f":"Vstupy!BM17","v":0},null,null,null,null,null,null,null,null,null,null,{"$f":"Vstupy!BX17","v":0},null,null,null,null,null,null,null,null,null,null,{"$f":"ROW()","v":85}]
[1,{"$f":"Vstupy!G18","v":0},1,null,null,null,null,null,null,null,null,{"$f":"Vstupy!S18","v":"Provozovaný sport (registrace)"},null,null,null,null,null,null,null,null,null,null,null,null,null,null,{"$f":"Vstupy!AF18","v":0},null,null,null,null,null,null,null,null,null,null,{"$f":"Vstupy!AQ18","v":0},null,null,null,null,null,null,null,null,null,null,{"$f":"Vstupy!BB18","v":0},null,null,null,null,null,null,null,null,null,null,{"$f":"Vstupy!BM18","v":0},null,null,null,null,null,null,null,null,null,null,{"$f":"Vstupy!BX18","v":0},null,null,null,null,null,null,null,null,null,null,{"$f":"ROW()","v":86}]
[1,{"$f":"Vstupy!G19","v":0},1,null,null,null,null,null,null,null,null,{"$f":"Vstupy!S19","v":"Číslo OP (platnost)"},null,null,null,null,null,null,null,null,null,null,null,null,null,null,{"$f":"Vstupy!AF19","v":0},null,null,null,null,null,null,null,null,null,null,{"$f":"Vstupy!AQ19","v":0},null,null,null,null,null,null,null,null,null,null,{"$f":"Vstupy!BB19","v":0},null,null,null,null,null,null,null,null,null,null,{"$f":"Vstupy!BM19","v":0},null,null,null,null,null,null,null,null,null,null,{"$f":"Vstupy!BX19","v":0},null,null,null,null,null,null,null,null,null,null,{"$f":"ROW()","v":87}]
[1,{"$f":"Vstupy!G20","v":0},1,null,null,null,null,null,null,null,null,{"$f":"Vstupy!S20","v":"Bankovní účet"},null,null,null,null,null,null,null,null,null,null,null,null,null,null,{"$f":"Vstupy!AF20","v":0},null,null,null,null,null,null,null,null,null,null,{"$f":"Vstupy!AQ20","v":0},null,null,null,null,null,null,null,null,null,null,{"$f":"Vstupy!BB20","v":0},null,null,null,null,null,null,null,null,null,null,{"$f":"Vstupy!BM20","v":0},null,null,null,null,null,null,null,null,null,null,{"$f":"Vstupy!BX20","v":0},null,null,null,null,null,null,null,null,null,null,{"$f":"ROW()","v":88}]
[1,{"$f":"Vstupy!G21","v":0},1,null,null,null,null,null,null,null,null,{"$f":"Vstupy!S21","v":"Zdravotní pojišťovna"},null,null,null,null,null,null,null,null,null,null,null,null,null,null,{"$f":"Vstupy!AF21","v":0},null,null,null,null,null,null,null,null,null,null,{"$f":"Vstupy!AQ21","v":0},null,null,null,null,null,null,null,null,null,null,{"$f":"Vstupy!BB21","v":0},null,null,null,null,null,null,null,null,null,null,{"$f":"Vstupy!BM21","v":0},null,null,null,null,null,null,null,null,null,null,{"$f":"Vstupy!BX21","v":0},null,null,null,null,null,null,null,null,null,null,{"$f":"ROW()","v":89}]
[1,{"$f":"Vstupy!G22","v":0},1,null,null,null,null,null,null,null,null,{"$f":"Vstupy!S22","v":"Povolání / pozice"},null,null,null,null,null,null,null,null,null,null,null,null,null,null,{"$f":"Vstupy!AF22","v":0},null,null,null,null,null,null,null,null,null,null,{"$f":"Vstupy!AQ22","v":0},null,null,null,null,null,null,null,null,null,null,{"$f":"Vstupy!BB22","v":0},null,null,null,null,null,null,null,null,null,null,{"$f":"Vstupy!BM22","v":0},null,null,null,null,null,null,null,null,null,null,{"$f":"Vstupy!BX22","v":0},null,null,null,null,null,null,null,null,null,null,{"$f":"ROW()","v":90}]
[1,{"$f":"Vstupy!G23","v":0},1,null,null,null,null,null,null,null,null,{"$f":"Vstupy!S23","v":"Zaměstnavatel"},null,null,null,null,null,null,null,null,null,null,null,null,null,null,{"$f":"Vstupy!AF23","v":0},null,null,null,null,null,null,null,null,null,null,{"$f":"Vstupy!AQ23","v":0},null,null,null,null,null,null,null,null,null,null,{"$f":"Vstupy!BB23","v":0},null,null,null,null,null,null,null,null,null,null,{"$f":"Vstupy!BM23","v":0},null,null,null,null,null,null,null,null,null,null,{"$f":"Vstupy!BX23","v":0},null,null,null,null,null,null,null,null,null,null,{"$f":"ROW()","v":91}]
[1,1,1,null,null,null,null,null,null,null,null,"OSVČ",null,null,null,null,null,null,null,null,null,null,null,null,null,null,{"$f":"IF(Vstupy!B7=TRUE,\"ano\",\"ne\")","v":"ne"},null,null,null,null,null,null,null,null,null,null,{"$f":"IF(AL77=0,\"\",IF(Vstupy!C7=TRUE,\"ano\",\"ne\"))","v":""},null,null,null,null,null,null,null,null,null,null,null,null,null,null,null,null,null,null,null,null,null,null,null,null,null,null,null,null,null,null,null,null,null,null,null,null,null,null,null,null,null,null,null,{"$f":"ROW()","v":92}]
[1,{"$f":"Vstupy!G24","v":0},1,null,null,null,null,null,null,null,null,{"$f":"Vstupy!S24","v":"Děti - počet"},null,null,null,null,null,null,null,null,null,null,null,null,null,null,{"$f":"Vstupy!AF24","v":0},null,null,null,null,null,null,null,null,null,null,{"$f":"Vstupy!AQ24","v":0},null,null,null,null,null,null,null,null,null,null,null,null,null,null,null,null,null,null,null,null,null,null,null,null,null,null,null,null,null,null,null,null,null,null,null,null,null,null,null,null,null,null,null,{"$f":"ROW()","v":93}]
[1,{"$f":"Vstupy!G25","v":0},1,null,null,null,null,null,null,null,null,{"$f":"Vstupy!S25","v":"Trvalé bydliště"},null,null,null,null,null,null,null,null,null,null,null,null,null,null,null,null,null,{"$f":"Vstupy!AI25  &  \", \" & Vstupy!AV25 & \"  \" & Vstupy!BB25","v":",   "},null,null,null,null,null,null,null,null,null,null,null,null,null,null,null,null,null,null,null,null,null,null,null,null,null,null,null,null,null,null,null,null,null,null,null,null,null,null,null,null,null,null,null,null,null,null,null,null,null,null,null,{"$f":"ROW()","v":94}]
[1,{"$f":"Vstupy!G26","v":0},1,null,null,null,null,null,null,null,null,{"$f":"Vstupy!S26","v":"Korespondenční adreesa"},null,null,null,null,null,null,null,null,null,null,null,null,null,null,null,null,null,{"$f":"Vstupy!AI26 & \", \" & Vstupy!AV26 & \"  \" & Vstupy!BB26","v":",   "},null,null,null,null,null,null,null,null,null,null,null,null,null,null,null,null,null,null,null,null,null,null,null,null,null,null,null,null,null,null,null,null,null,null,null,null,null,null,null,null,null,null,null,null,null,null,null,null,null,null,null,{"$f":"ROW()","v":95}]
[0,0,1,null,null,null,null,null,null,null,null,null,null,null,null,null,null,null,null,null,null,null,null,null,null,null,null,null,null,null,null,null,null,null,null,null,null,null,null,null,null,null,null,null,null,null,null,null,null,null,null,null,null,null,null,null,null,null,null,null,null,null,null,null,null,null,null,null,null,null,null,null,null,null,null,null,null,null,null,null,null,{"$f":"ROW()","v":96}]
[0,0,1,null,null,null,null,null,null,null,null,null,null,null,null,null,null,null,null,null,null,null,null,null,null,null,null,null,null,null,null,null,null,null,null,null,null,null,null,null,null,null,null,null,null,null,null,null,null,null,null,null,null,null,null,null,null,null,null,null,null,null,null,null,null,null,null,null,null,null,null,null,null,null,null,null,null,null,null,null,null,{"$f":"ROW()","v":97}]
[1,0,1,null,null,null,null,null,null,null,null,null,null,null,null,null,null,null,null,null,null,null,null,null,null,null,null,null,null,null,null,null,null,null,null,null,null,null,null,null,null,null,null,null,null,null,null,null,null,null,null,null,null,null,null,null,null,null,null,null,null,null,null,null,null,null,null,null,null,null,null,null,null,null,null,null,null,null,null,null,null,{"$f":"ROW()","v":98}]
[1,0,1,null,null,null,null,null,null,null,null,null,null,null,null,null,null,null,null,null,null,null,null,null,null,null,null,null,null,null,null,null,null,null,null,null,null,null,null,null,null,null,null,null,null,null,null,null,null,null,null,null,null,null,null,null,null,null,null,null,null,null,null,null,null,null,null,null,null,null,null,null,null,null,null,null,null,null,null,null,null,{"$f":"ROW()","v":99}]
[1,0,1,null,null,null,null,null,null,null,null,null,null,null,null,null,null,null,null,null,null,null,null,null,null,null,null,null,null,null,null,null,null,null,null,null,null,null,null,null,null,null,null,null,null,null,null,null,null,null,null,null,null,null,null,null,null,null,null,null,null,null,null,null,null,null,null,null,null,null,null,null,null,null,null,null,null,null,null,null,null,{"$f":"ROW()","v":100}]
[0,0,1,null,null,null,null,null,null,null,null,null,null,null,null,null,null,null,null,null,null,null,null,null,null,null,null,null,null,null,null,null,null,null,null,null,null,null,null,null,null,null,null,null,null,null,null,null,null,null,null,null,null,null,null,null,null,null,null,null,null,null,null,null,null,null,null,null,null,null,null,null,null,null,null,null,null,null,null,null,null,{"$f":"ROW()","v":101}]
[0,0,1,null,null,null,null,null,null,null,null,null,null,null,null,null,null,null,null,null,null,null,null,null,null,null,null,null,null,null,null,null,null,null,null,null,null,null,null,null,null,null,null,null,null,null,null,null,null,null,null,null,null,null,null,null,null,null,null,null,null,null,null,null,null,null,null,null,null,null,null,null,null,null,null,null,null,null,null,null,null,{"$f":"ROW()","v":102}]
[1,0,1,null,null,null,null,null,null,null,null,null,null,null,null,null,null,null,null,null,null,null,null,null,null,null,null,null,null,null,null,null,null,null,null,null,null,null,null,null,null,null,null,null,null,null,null,null,null,null,null,null,null,null,null,null,null,null,null,null,null,null,null,null,null,null,null,null,null,null,null,null,null,null,null,null,null,null,null,null,null,{"$f":"ROW()","v":103}]
[1,0,1,null,null,null,null,null,null,null,null,null,null,null,null,null,null,null,null,null,null,null,null,null,null,null,null,null,null,null,null,null,null,null,null,null,null,null,null,null,null,null,null,null,null,null,null,null,null,null,null,null,null,null,null,null,null,null,null,null,null,null,null,null,null,null,null,null,null,null,null,null,null,null,null,null,null,null,null,null,null,{"$f":"ROW()","v":104}]
[0,0,1,null,null,null,null,null,null,null,null,null,null,null,null,null,null,null,null,null,null,null,null,null,null,null,null,null,null,null,null,null,null,null,null,null,null,null,null,null,null,null,null,null,null,null,null,null,null,null,null,null,null,null,null,null,null,null,null,null,null,null,null,null,null,null,null,null,null,null,null,null,null,null,null,null,null,null,null,null,null,{"$f":"ROW()","v":105}]
[1,1,1,null,null,null,null,null,null,null,null,null,null,null,null,null,null,null,null,null,null,null,null,null,null,null,null,null,null,null,null,null,null,null,null,null,null,null,null,null,null,null,null,null,null,null,null,null,null,null,null,null,null,null,null,null,null,null,null,null,null,null,null,null,null,null,null,null,null,null,null,null,null,null,null,null,null,null,null,null,null,{"$f":"ROW()","v":106}]
[1,1,1,null,null,null,null,null,null,null,null,{"$f":"\"Záznam z jednání - \" & Vstupy!AF$9 & \" \" & Vstupy!AI$10","v":"Záznam z jednání -  "},null,null,null,null,null,null,null,null,null,null,null,null,null,null,null,null,null,null,null,null,null,null,null,null,null,null,null,null,null,null,null,null,null,null,null,null,null,null,null,null,null,null,null,null,null,null,null,null,null,null,null,null,null,null,null,null,null,null,null,null,null,null,null,null,null,null,null,null,null,{"$f":"ROW()","v":107}]
[1,1,1,null,null,null,null,null,null,null,null,null,null,null,null,null,null,null,null,null,null,null,null,null,null,null,null,null,null,null,null,null,null,null,null,null,null,null,null,null,null,null,null,null,null,null,null,null,null,null,null,null,null,null,null,null,null,null,null,null,null,null,null,null,null,null,null,null,null,null,null,null,null,null,null,null,null,null,null,null,null,{"$f":"ROW()","v":108}]
[1,1,1,null,null,null,null,null,null,null,null,null,null,null,null,null,null,null,null,null,null,null,null,null,null,null,null,null,null,null,null,null,null,null,null,null,null,null,null,null,null,null,null,null,null,null,null,null,null,null,null,null,null,null,null,null,null,null,null,null,null,null,null,null,null,null,null,null,null,null,null,null,null,null,null,null,null,null,null,null,null,{"$f":"ROW()","v":109}]
[1,1,1,null,null,null,null,null,null,null,null,null,null,null,null,null,null,"Cíle a požadavky klienta",null,null,null,null,null,null,null,null,null,null,null,null,null,null,null,null,null,null,null,null,null,null,null,null,null,null,null,null,null,null,null,"Návrh řešení",null,null,null,null,null,null,null,null,null,null,null,null,null,null,null,null,null,null,null,null,null,null,null,null,null,null,null,null,null,null,null,{"$f":"ROW()","v":110}]
[1,{"$f":"Vstupy!G49","v":0},1,null,null,null,null,null,null,null,null,{"$f":"Vstupy!AF49","v":0},null,null,null,null,null,null,null,null,null,null,null,null,null,null,null,null,null,null,null,null,null,null,null,null,null,null,null,null,null,null,null,null,null,null,null,null,null,null,null,null,null,null,null,null,null,null,null,null,null,null,null,null,null,null,null,null,null,null,null,null,null,null,null,null,null,null,null,null,null,{"$f":"ROW()","v":111}]
[1,0,1,null,null,null,null,null,null,null,null,null,null,null,null,null,null,null,null,null,null,null,null,null,null,"Návrh řešení",{"$f":"Vstupy!AF50","v":0},null,null,null,null,null,null,null,null,null,null,null,null,null,null,null,null,null,null,null,null,null,null,null,null,null,null,null,null,null,null,null,null,null,null,null,null,null,null,null,null,null,null,null,null,null,null,null,null,null,null,null,null,null,null,{"$f":"ROW()","v":112}]
[1,0,1,null,null,null,null,null,null,null,null,null,null,null,null,null,null,null,null,null,null,null,null,null,null,null,null,null,null,null,null,null,null,null,null,null,null,null,null,null,null,null,null,null,null,null,null,null,null,null,null,null,null,null,null,null,null,null,null,null,null,null,null,null,null,null,null,null,null,null,null,null,null,null,null,null,null,null,null,null,null,{"$f":"ROW()","v":113}]
[1,0,1,null,null,null,null,null,null,null,null,null,null,null,null,null,null,null,null,null,null,null,null,null,null,null,null,null,null,null,null,null,null,null,null,null,null,null,null,null,null,null,null,null,null,null,null,null,null,null,null,null,null,null,null,null,null,null,null,null,null,null,null,null,null,null,null,null,null,null,null,null,null,null,null,null,null,null,null,null,null,{"$f":"ROW()","v":114}]
[1,0,1,null,null,null,null,null,null,null,null,null,null,null,null,null,null,{"$f":"Vstupy!S62","v":"Analýza příjmů a výdajů"},null,null,null,null,null,null,null,null,null,null,null,null,null,null,null,null,null,null,null,null,null,null,null,null,null,null,null,null,null,null,null,null,null,null,null,null,null,null,null,null,null,null,null,null,null,null,null,null,null,null,null,null,null,null,null,null,null,null,null,null,null,null,null,{"$f":"ROW()","v":115}]
[1,0,1,null,null,null,null,null,null,null,null,null,null,null,null,null,null,{"$f":"IF(Vstupy!A16=0,\"Klient nepožaduje řešit tuto oblast\",IF(Vstupy!AF63=0,\"\",Vstupy!AF63))","v":""},null,null,null,null,null,null,null,null,null,null,null,null,null,null,null,null,null,null,null,null,null,null,null,null,null,null,null,null,null,null,null,null,null,null,null,null,null,null,null,null,null,null,null,null,null,null,null,null,null,null,null,null,null,null,null,null,null,null,null,null,null,null,null,{"$f":"ROW()","v":116}]
[1,1,1,null,null,null,null,null,null,null,null,null,null,null,null,null,null,null,null,null,null,null,null,null,null,null,null,null,null,null,null,null,null,null,null,null,null,null,null,null,null,null,null,null,null,null,null,null,null,null,null,null,null,null,null,null,null,null,null,null,null,null,null,null,null,null,null,null,null,null,null,null,null,null,null,null,null,null,null,null,null,{"$f":"ROW()","v":117}]
[1,1,1,null,null,null,null,null,null,null,null,null,null,null,null,null,null,null,null,null,null,null,null,null,null,null,null,null,null,null,null,null,null,null,null,null,null,null,null,null,null,null,null,null,null,null,null,null,null,null,null,null,null,null,null,null,null,null,null,null,null,null,null,null,null,null,null,null,null,null,null,null,null,null,null,null,null,null,null,null,null,{"$f":"ROW()","v":118}]
[1,1,1,null,null,null,null,null,null,null,null,null,null,null,null,null,null,{"$f":"Vstupy!S170","v":"Zajištění příjmu"},null,null,null,null,null,null,null,null,null,null,null,null,null,null,null,null,null,null,null,null,null,null,null,null,null,null,null,null,null,null,null,null,null,null,null,null,null,null,null,null,null,null,null,null,null,null,null,null,null,null,null,null,null,null,null,null,null,null,null,null,null,null,null,{"$f":"ROW()","v":119}]
[1,1,1,null,null,null,null,null,null,null,null,null,null,null,null,null,null,{"$f":"IF(Vstupy!A17=0,\"Klient nepožaduje řešit tuto oblast\",IF(Vstupy!AF171=0,\"\",Vstupy!AF171))","v":"Klient nepožaduje řešit tuto oblast"},null,null,null,null,null,null,null,null,null,null,null,null,null,null,null,null,null,null,null,null,null,null,null,null,null,null,null,null,null,null,null,{"$f":"IF(Vstupy!A17=0,\"\",IF(Vstupy!AF172=0,\"\",Vstupy!AF172))","v":""},null,null,null,null,null,null,null,null,null,null,null,null,null,null,null,null,null,null,null,null,null,null,null,null,null,null,null,null,null,null,null,{"$f":"ROW()","v":120}]
[1,{"$f":"B122","v":0},1,null,null,null,null,null,null,null,null,null,null,null,null,null,null,{"$f":"Vstupy!S204","v":"Ostatní pojištění osob (úrazové pojištění dětí, …)"},null,null,null,null,null,null,null,null,null,null,null,null,null,null,null,null,null,null,null,null,null,null,null,null,null,null,null,null,null,null,null,null,null,null,null,null,null,null,null,null,null,null,null,null,null,null,null,null,null,null,null,null,null,null,null,null,null,null,null,null,null,null,null,{"$f":"ROW()","v":121}]
[1,{"$f":"IF(AND(R122=\"\",AX122=\"\"),0,1)","v":0},1,null,null,null,null,null,null,null,null,null,null,null,null,null,null,{"$f":"IF(Vstupy!AF205=0,\"\",Vstupy!AF205)","v":""},null,null,null,null,null,null,null,null,null,null,null,null,null,null,null,null,null,null,null,null,null,null,null,null,null,null,null,null,null,null,null,{"$f":"IF(Vstupy!AF206=0,\"\",Vstupy!AF206)","v":""},null,null,null,null,null,null,null,null,null,null,null,null,null,null,null,null,null,null,null,null,null,null,null,null,null,null,null,null,null,null,null,{"$f":"ROW()","v":122}]
[1,1,1,null,null,null,null,null,null,null,null,null,null,null,null,null,null,null,null,null,null,null,null,null,null,null,null,null,null,null,null,null,null,null,null,null,null,null,null,null,null,null,null,null,null,null,null,null,null,null,null,null,null,null,null,null,null,null,null,null,null,null,null,null,null,null,null,null,null,null,null,null,null,null,null,null,null,null,null,null,null,{"$f":"ROW()","v":123}]
[1,1,1,null,null,null,null,null,null,null,null,null,null,null,null,null,null,null,null,null,null,null,null,null,null,null,null,null,null,null,null,null,null,null,null,null,null,null,null,null,null,null,null,null,null,null,null,null,null,null,null,null,null,null,null,null,null,null,null,null,null,null,null,null,null,null,null,null,null,null,null,null,null,null,null,null,null,null,null,null,null,{"$f":"ROW()","v":124}]
[1,1,1,null,null,null,null,null,null,null,null,null,null,null,null,null,null,{"$f":"Vstupy!S209","v":"Penze formou finančního důchodu"},null,null,null,null,null,null,null,null,null,null,null,null,null,null,null,null,null,null,null,null,null,null,null,null,null,null,null,null,null,null,null,null,null,null,null,null,null,null,null,null,null,null,null,null,null,null,null,null,null,null,null,null,null,null,null,null,null,null,null,null,null,null,null,{"$f":"ROW()","v":125}]
[1,1,1,null,null,null,null,null,null,null,null,null,null,null,null,null,null,{"$f":"IF(Vstupy!A18=0,\"Klient nepožaduje řešit tuto oblast\",IF(Vstupy!AF210=0,\"\",Vstupy!AF210))","v":"Klient nepožaduje řešit tuto oblast"},null,null,null,null,null,null,null,null,null,null,null,null,null,null,null,null,null,null,null,null,null,null,null,null,null,null,null,null,null,null,null,{"$f":"IF(Vstupy!A18=0,\"\",IF(Vstupy!AF211=0,\"\",Vstupy!AF211))","v":""},null,null,null,null,null,null,null,null,null,null,null,null,null,null,null,null,null,null,null,null,null,null,null,null,null,null,null,null,null,null,null,{"$f":"ROW()","v":126}]
[1,1,1,null,null,null,null,null,null,null,null,null,null,null,null,null,null,null,null,null,null,null,null,null,null,null,null,null,null,null,null,null,null,null,null,null,null,null,null,null,null,null,null,null,null,null,null,null,null,null,null,null,null,null,null,null,null,null,null,null,null,null,null,null,null,null,null,null,null,null,null,null,null,null,null,null,null,null,null,null,null,{"$f":"ROW()","v":127}]
[1,1,1,null,null,null,null,null,null,null,null,null,null,null,null,null,null,null,null,null,null,null,null,null,null,null,null,null,null,null,null,null,null,null,null,null,null,null,null,null,null,null,null,null,null,null,null,null,null,null,null,null,null,null,null,null,null,null,null,null,null,null,null,null,null,null,null,null,null,null,null,null,null,null,null,null,null,null,null,null,null,{"$f":"ROW()","v":128}]
[1,1,1,null,null,null,null,null,null,null,null,null,null,null,null,null,null,{"$f":"Vstupy!S235","v":"Financování bydlení"},null,null,null,null,null,null,null,null,null,null,null,null,null,null,null,null,null,null,null,null,null,null,null,null,null,null,null,null,null,null,null,null,null,null,null,null,null,null,null,null,null,null,null,null,null,null,null,null,null,null,null,null,null,null,null,null,null,null,null,null,null,null,null,{"$f":"ROW()","v":129}]
[1,1,1,null,null,null,null,null,null,null,null,null,null,null,null,null,null,{"$f":"IF(Vstupy!A20=0,\"Klient nepožaduje řešit tuto oblast\",IF(Vstupy!AF236=0,\"\",Vstupy!AF236))","v":"Klient nepožaduje řešit tuto oblast"},null,null,null,null,null,null,null,null,null,null,null,null,null,null,null,null,null,null,null,null,null,null,null,null,null,null,null,null,null,null,null,{"$f":"IF(Vstupy!A20=0,\"\",IF(Vstupy!AF237=0,\"\",Vstupy!AF237))","v":""},null,null,null,null,null,null,null,null,null,null,null,null,null,null,null,null,null,null,null,null,null,null,null,null,null,null,null,null,null,null,null,{"$f":"ROW()","v":130}]
[1,1,1,null,null,null,null,null,null,null,null,null,null,null,null,null,null,null,null,null,null,null,null,null,null,null,null,null,null,null,null,null,null,null,null,null,null,null,null,null,null,null,null,null,null,null,null,null,null,null,null,null,null,null,null,null,null,null,null,null,null,null,null,null,null,null,null,null,null,null,null,null,null,null,null,null,null,null,null,null,null,{"$f":"ROW()","v":131}]
[1,1,1,null,null,null,null,null,null,null,null,null,null,null,null,null,null,null,null,null,null,null,null,null,null,null,null,null,null,null,null,null,null,null,null,null,null,null,null,null,null,null,null,null,null,null,null,null,null,null,null,null,null,null,null,null,null,null,null,null,null,null,null,null,null,null,null,null,null,null,null,null,null,null,null,null,null,null,null,null,null,{"$f":"ROW()","v":132}]
[1,1,1,null,null,null,null,null,null,null,null,null,null,null,null,null,null,{"$f":"Vstupy!S251","v":"Pojištění majetku / odpovědnosti"},null,null,null,null,null,null,null,null,null,null,null,null,null,null,null,null,null,null,null,null,null,null,null,null,null,null,null,null,null,null,null,null,null,null,null,null,null,null,null,null,null,null,null,null,null,null,null,null,null,null,null,null,null,null,null,null,null,null,null,null,null,null,null,{"$f":"ROW()","v":133}]
[1,1,1,null,null,null,null,null,null,null,null,null,null,null,null,null,null,{"$f":"IF(Vstupy!A21=0,\"Klient nepožaduje řešit tuto oblast\",IF(Vstupy!AF252=0,\"\",Vstupy!AF252))","v":"Klient nepožaduje řešit tuto oblast"},null,null,null,null,null,null,null,null,null,null,null,null,null,null,null,null,null,null,null,null,null,null,null,null,null,null,null,null,null,null,null,{"$f":"IF(Vstupy!A21=0,\"\",IF(Vstupy!AF253=0,\"\",Vstupy!AF253))","v":""},null,null,null,null,null,null,null,null,null,null,null,null,null,null,null,null,null,null,null,null,null,null,null,null,null,null,null,null,null,null,null,{"$f":"ROW()","v":134}]
[1,1,1,null,null,null,null,null,null,null,null,null,null,null,null,null,null,null,null,null,null,null,null,null,null,null,null,null,null,null,null,null,null,null,null,null,null,null,null,null,null,null,null,null,null,null,null,null,null,null,null,null,null,null,null,null,null,null,null,null,null,null,null,null,null,null,null,null,null,null,null,null,null,null,null,null,null,null,null,null,null,{"$f":"ROW()","v":135}]
[1,1,1,null,null,null,null,null,null,null,null,null,null,null,null,null,null,null,null,null,null,null,null,null,null,null,null,null,null,null,null,null,null,null,null,null,null,null,null,null,null,null,null,null,null,null,null,null,null,null,null,null,null,null,null,null,null,null,null,null,null,null,null,null,null,null,null,null,null,null,null,null,null,null,null,null,null,null,null,null,null,{"$f":"ROW()","v":136}]
[1,1,1,null,null,null,null,null,null,null,null,null,null,null,null,null,null,{"$f":"Vstupy!S268","v":"Investice"},null,null,null,null,null,null,null,null,null,null,null,null,null,null,null,null,null,null,null,null,null,null,null,null,null,null,null,null,null,null,null,null,null,null,null,null,null,null,null,null,null,null,null,null,null,null,null,null,null,null,null,null,null,null,null,null,null,null,null,null,null,null,null,{"$f":"ROW()","v":137}]
[1,1,1,null,null,null,null,null,null,null,null,null,null,null,null,null,null,{"$f":"IF(Vstupy!A22=0,\"Klient nepožaduje řešit tuto oblast\",IF(Vstupy!AF269=0,\"\",Vstupy!AF269))","v":"Klient nepožaduje řešit tuto oblast"},null,null,null,null,null,null,null,null,null,null,null,null,null,null,null,null,null,null,null,null,null,null,null,null,null,null,null,null,null,null,null,{"$f":"IF(Vstupy!A22=0,\"\",IF(Vstupy!AF270=0,\"\",Vstupy!AF270))","v":""},null,null,null,null,null,null,null,null,null,null,null,null,null,null,null,null,null,null,null,null,null,null,null,null,null,null,null,null,null,null,null,{"$f":"ROW()","v":138}]
[1,1,1,null,null,null,null,null,null,null,null,null,null,null,null,null,null,null,null,null,null,null,null,null,null,null,null,null,null,null,null,null,null,null,null,null,null,null,null,null,null,null,null,null,null,null,null,null,null,null,null,null,null,null,null,null,null,null,null,null,null,null,null,null,null,null,null,null,null,null,null,null,null,null,null,null,null,null,null,null,null,{"$f":"ROW()","v":139}]
[1,1,1,null,null,null,null,null,null,null,null,null,null,null,null,null,null,null,null,null,null,null,null,null,null,null,null,null,null,null,null,null,null,null,null,null,null,null,null,null,null,null,null,null,null,null,null,null,null,null,null,null,null,null,null,null,null,null,null,null,null,null,null,null,null,null,null,null,null,null,null,null,null,null,null,null,null,null,null,null,null,{"$f":"ROW()","v":140}]
[1,1,1,null,null,null,null,null,null,null,null,null,null,null,null,null,null,{"$f":"Vstupy!S273","v":"Úvěry jiné než na bydlení - jejich optimalizace"},null,null,null,null,null,null,null,null,null,null,null,null,null,null,null,null,null,null,null,null,null,null,null,null,null,null,null,null,null,null,null,null,null,null,null,null,null,null,null,null,null,null,null,null,null,null,null,null,null,null,null,null,null,null,null,null,null,null,null,null,null,null,null,{"$f":"ROW()","v":141}]
[1,1,1,null,null,null,null,null,null,null,null,null,null,null,null,null,null,{"$f":"IF(Vstupy!A23=0,\"Klient nepožaduje řešit tuto oblast\",IF(Vstupy!AF274=0,\"\",Vstupy!AF274))","v":"Klient nepožaduje řešit tuto oblast"},null,null,null,null,null,null,null,null,null,null,null,null,null,null,null,null,null,null,null,null,null,null,null,null,null,null,null,null,null,null,null,{"$f":"IF(Vstupy!A23=0,\"\",IF(Vstupy!AF275=0,\"\",Vstupy!AF275))","v":""},null,null,null,null,null,null,null,null,null,null,null,null,null,null,null,null,null,null,null,null,null,null,null,null,null,null,null,null,null,null,null,{"$f":"ROW()","v":142}]
[1,1,1,null,null,null,null,null,null,null,null,null,null,null,null,null,null,null,null,null,null,null,null,null,null,null,null,null,null,null,null,null,null,null,null,null,null,null,null,null,null,null,null,null,null,null,null,null,null,null,null,null,null,null,null,null,null,null,null,null,null,null,null,null,null,null,null,null,null,null,null,null,null,null,null,null,null,null,null,null,null,{"$f":"ROW()","v":143}]
[1,{"$f":"Vstupy!A$24","v":0},1,null,null,null,null,null,null,null,null,null,null,null,null,null,null,null,null,null,null,null,null,null,null,null,null,null,null,null,null,null,null,null,null,null,null,null,null,null,null,null,null,null,null,null,null,null,null,null,null,null,null,null,null,null,null,null,null,null,null,null,null,null,null,null,null,null,null,null,null,null,null,null,null,null,null,null,null,null,null,{"$f":"ROW()","v":144}]
[1,{"$f":"Vstupy!A$24","v":0},1,null,null,null,null,null,null,null,null,null,null,null,null,null,null,{"$f":"Vstupy!S288","v":"Jiné"},null,null,null,null,null,null,null,null,null,null,null,null,null,null,null,null,null,null,null,null,null,null,null,null,null,null,null,null,null,null,null,null,null,null,null,null,null,null,null,null,null,null,null,null,null,null,null,null,null,null,null,null,null,null,null,null,null,null,null,null,null,null,null,{"$f":"ROW()","v":145}]
[1,{"$f":"Vstupy!A$24","v":0},1,null,null,null,null,null,null,null,null,null,null,null,null,null,null,{"$f":"IF(Vstupy!A24=0,\"Klient nepožaduje řešit tuto oblast\",IF(Vstupy!AF289=0,\"\",Vstupy!AF289))","v":"Klient nepožaduje řešit tuto oblast"},null,null,null,null,null,null,null,null,null,null,null,null,null,null,null,null,null,null,null,null,null,null,null,null,null,null,null,null,null,null,null,{"$f":"IF(Vstupy!A24=0,\"\",IF(Vstupy!AF290=0,\"\",Vstupy!AF290))","v":""},null,null,null,null,null,null,null,null,null,null,null,null,null,null,null,null,null,null,null,null,null,null,null,null,null,null,null,null,null,null,null,{"$f":"ROW()","v":146}]
[1,{"$f":"Vstupy!A$24","v":0},1,null,null,null,null,null,null,null,null,null,null,null,null,null,null,null,null,null,null,null,null,null,null,null,null,null,null,null,null,null,null,null,null,null,null,null,null,null,null,null,null,null,null,null,null,null,null,null,null,null,null,null,null,null,null,null,null,null,null,null,null,null,null,null,null,null,null,null,null,null,null,null,null,null,null,null,null,null,null,{"$f":"ROW()","v":147}]
[1,0,1,null,null,null,null,null,null,null,null,null,null,null,null,null,null,null,null,null,null,null,null,null,null,null,null,null,null,null,null,null,null,null,null,null,null,null,null,null,null,null,null,null,null,null,null,null,null,null,null,null,null,null,null,null,null,null,null,null,null,null,null,null,null,null,null,null,null,null,null,null,null,null,null,null,null,null,null,null,null,{"$f":"ROW()","v":148}]
[1,1,1,null,null,null,null,null,null,null,null,null,null,null,null,null,null,null,null,null,null,null,null,null,null,null,null,null,null,null,null,null,null,null,null,null,null,null,null,null,null,null,null,null,null,null,null,null,null,null,null,null,null,null,null,null,null,null,null,null,null,null,null,null,null,null,null,null,null,null,null,null,null,null,null,null,null,null,null,null,null,{"$f":"ROW()","v":149}]
[1,1,1,null,null,null,null,null,null,null,null,{"$f":"\"Záznam z jednání - \" & Vstupy!AF$9 & \" \" & Vstupy!AI$10","v":"Záznam z jednání -  "},null,null,null,null,null,null,null,null,null,null,null,null,null,null,null,null,null,null,null,null,null,null,null,null,null,null,null,null,null,null,null,null,null,null,null,null,null,null,null,null,null,null,null,null,null,null,null,null,null,null,null,null,null,null,null,null,null,null,null,null,null,null,null,null,null,null,null,null,null,{"$f":"ROW()","v":150}]
[1,1,1,null,null,null,null,null,null,null,null,null,null,null,null,null,null,null,null,null,null,null,null,null,null,null,null,null,null,null,null,null,null,null,null,null,null,null,null,null,null,null,null,null,null,null,null,null,null,null,null,null,null,null,null,null,null,null,null,null,null,null,null,null,null,null,null,null,null,null,null,null,null,null,null,null,null,null,null,null,null,{"$f":"ROW()","v":151}]
[1,1,1,null,null,null,null,null,null,null,null,null,null,null,null,null,null,null,null,null,null,null,null,null,null,null,null,null,null,null,null,null,null,null,null,null,null,null,null,null,null,null,null,null,null,null,null,null,null,null,null,null,null,null,null,null,null,null,null,null,null,null,null,null,null,null,null,null,null,null,null,null,null,null,null,null,null,null,null,null,null,{"$f":"ROW()","v":152}]
[1,1,1,null,null,null,null,null,null,null,null,null,null,null,null,null,null,"Stručná měsíční bilance",null,null,null,null,null,null,null,null,null,null,null,null,null,null,null,null,null,null,null,null,null,null,null,null,null,null,null,null,null,null,null,null,null,null,null,null,null,null,null,null,null,null,null,null,null,null,null,null,null,null,null,null,null,null,null,null,null,null,null,null,null,null,null,{"$f":"ROW()","v":153}]
[1,1,1,null,null,null,null,null,null,null,null,null,null,null,null,null,null,"Stav",null,null,null,null,null,null,null,null,null,null,null,null,null,null,null,null,null,null,null,null,null,"Výdaj",null,null,null,null,null,null,null,null,null,"Doporučení",null,null,null,null,null,null,null,null,null,null,null,null,null,null,null,null,null,null,null,null,null,"Výdaj",null,null,null,null,null,null,null,null,null,{"$f":"ROW()","v":154}]
[1,1,1,null,null,null,null,null,null,null,null,null,null,null,null,null,null,{"$f":"Vstupy!S74","v":"Bydlení, auto, rodina - stav"},null,null,null,null,null,null,null,null,null,null,null,null,null,null,null,null,null,null,null,null,null,{"$f":"Vstupy!AG94","v":0},null,null,null,null,null,null,null,null,null,{"$f":"Vystup1!R155","v":"Bydlení, auto, rodina - stav"},null,null,null,null,null,null,null,null,null,null,null,null,null,null,null,null,null,null,null,null,null,{"$f":"Vstupy!AK94","v":0},null,null,null,null,null,null,null,null,null,{"$f":"ROW()","v":155},null,null,null,null,"Stručná měsíční bilance"]
[1,{"$f":"AN156+BT156","v":0},1,null,null,null,null,null,null,null,null,null,null,null,null,null,null,{"$f":"IF(Vstupy!S96=0,\"\",Vstupy!S96)","v":""},null,null,null,null,null,null,null,null,null,null,null,null,null,null,null,null,null,null,null,null,null,{"$f":"Vstupy!C96/12","v":0},null,null,null,null,null,null,null,null,null,{"$f":"IF(Vstupy!AK96=0,\"\",Vstupy!AK96)","v":""},null,null,null,null,null,null,null,null,null,null,null,null,null,null,null,null,null,null,null,null,null,{"$f":"Vstupy!D96/12","v":0},null,null,null,null,null,null,null,null,null,{"$f":"ROW()","v":156}]
[1,{"$f":"AN157+BT157","v":0},1,null,null,null,null,null,null,null,null,null,null,null,null,null,null,{"$f":"IF(Vstupy!S97=0,\"\",Vstupy!S97)","v":""},null,null,null,null,null,null,null,null,null,null,null,null,null,null,null,null,null,null,null,null,null,{"$f":"Vstupy!C97/12","v":0},null,null,null,null,null,null,null,null,null,{"$f":"IF(Vstupy!AK97=0,\"\",Vstupy!AK97)","v":""},null,null,null,null,null,null,null,null,null,null,null,null,null,null,null,null,null,null,null,null,null,{"$f":"Vstupy!D97/12","v":0},null,null,null,null,null,null,null,null,null,{"$f":"ROW()","v":157},null,null,null,null,null,null,null,null,null,null,null,null,null,null,null,null,null,null,null,null,null,null,null,null,null,"Současný stav",null,null,null,null,null,null,null,null,null,null,null,null,null,"Doporučení",null,null,null,null,null,null,null,null,null,null,null,null,null,"Doporučený - souč. stav"]
[1,0,1,null,null,null,null,null,null,null,null,null,null,null,null,null,null,{"$f":"IF(Vstupy!S98=0,\"\",Vstupy!S98)","v":""},null,null,null,null,null,null,null,null,null,null,null,null,null,null,null,null,null,null,null,null,null,{"$f":"Vstupy!C98/12","v":0},null,null,null,null,null,null,null,null,null,{"$f":"IF(Vstupy!AK98=0,\"\",Vstupy!AK98)","v":""},null,null,null,null,null,null,null,null,null,null,null,null,null,null,null,null,null,null,null,null,null,{"$f":"Vstupy!D98/12","v":0},null,null,null,null,null,null,null,null,null,{"$f":"ROW()","v":158},null,null,null,null,"Celkové příjmy",null,null,null,null,null,null,null,null,null,null,null,null,null,null,null,null,null,null,null,null,{"$f":"Vstupy!BB157","v":0},null,null,null,null,null,null,null,null,null,null,null,null,null,{"$f":"Vstupy!BK157","v":0},null,null,null,null,null,null,null,null,null,null,null,null,null,{"$f":"Vstupy!BT157","v":0}]
[1,0,1,null,null,null,null,null,null,null,null,null,null,null,null,null,null,{"$f":"IF(Vstupy!S99=0,\"\",Vstupy!S99)","v":""},null,null,null,null,null,null,null,null,null,null,null,null,null,null,null,null,null,null,null,null,null,{"$f":"Vstupy!C99/12","v":0},null,null,null,null,null,null,null,null,null,{"$f":"IF(Vstupy!AK99=0,\"\",Vstupy!AK99)","v":""},null,null,null,null,null,null,null,null,null,null,null,null,null,null,null,null,null,null,null,null,null,{"$f":"Vstupy!D99/12","v":0},null,null,null,null,null,null,null,null,null,{"$f":"ROW()","v":159},null,null,null,null,"Celkové výdaje",null,null,null,null,null,null,null,null,null,null,null,null,null,null,null,null,null,null,null,null,{"$f":"Vstupy!BB156","v":0},null,null,null,null,null,null,null,null,null,null,null,null,null,{"$f":"Vstupy!BK156","v":0},null,null,null,null,null,null,null,null,null,null,null,null,null,{"$f":"Vstupy!BT156","v":0}]
[1,0,1,null,null,null,null,null,null,null,null,null,null,null,null,null,null,{"$f":"IF(Vstupy!S100=0,\"\",Vstupy!S100)","v":""},null,null,null,null,null,null,null,null,null,null,null,null,null,null,null,null,null,null,null,null,null,{"$f":"Vstupy!C100/12","v":0},null,null,null,null,null,null,null,null,null,{"$f":"IF(Vstupy!AK100=0,\"\",Vstupy!AK100)","v":""},null,null,null,null,null,null,null,null,null,null,null,null,null,null,null,null,null,null,null,null,null,{"$f":"Vstupy!D100/12","v":0},null,null,null,null,null,null,null,null,null,{"$f":"ROW()","v":160},null,null,null,null,"Celkové příjmy mínus celkové výdaje",null,null,null,null,null,null,null,null,null,null,null,null,null,null,null,null,null,null,null,null,{"$f":"DD158-DD159","v":0},null,null,null,null,null,null,null,null,null,null,null,null,null,{"$f":"DR158-DR159","v":0},null,null,null,null,null,null,null,null,null,null,null,null,null,{"$f":"EF158-EF159","v":0}]
[1,0,1,null,null,null,null,null,null,null,null,null,null,null,null,null,null,{"$f":"IF(Vstupy!S108=0,\"\",Vstupy!S108)","v":""},null,null,null,null,null,null,null,null,null,null,null,null,null,null,null,null,null,null,null,null,null,{"$f":"Vstupy!C108/12","v":0},null,null,null,null,null,null,null,null,null,{"$f":"IF(Vstupy!AK108=0,\"\",Vstupy!AK108)","v":""},null,null,null,null,null,null,null,null,null,null,null,null,null,null,null,null,null,null,null,null,null,{"$f":"Vstupy!D108/12","v":0},null,null,null,null,null,null,null,null,null,{"$f":"ROW()","v":161},null,null,null,null,"Naspořeno",null,null,null,null,null,null,null,null,null,null,null,null,null,null,null,null,null,null,null,null,{"$f":"Vstupy!CC155","v":0}]
[1,0,1,null,null,null,null,null,null,null,null,null,null,null,null,null,null,{"$f":"IF(Vstupy!S109=0,\"\",Vstupy!S109)","v":""},null,null,null,null,null,null,null,null,null,null,null,null,null,null,null,null,null,null,null,null,null,{"$f":"Vstupy!C109/12","v":0},null,null,null,null,null,null,null,null,null,{"$f":"IF(Vstupy!AK109=0,\"\",Vstupy!AK109)","v":""},null,null,null,null,null,null,null,null,null,null,null,null,null,null,null,null,null,null,null,null,null,{"$f":"Vstupy!D109/12","v":0},null,null,null,null,null,null,null,null,null,{"$f":"ROW()","v":162},null,null,null,null,"Úvěry",null,null,null,null,null,null,null,null,null,null,null,null,null,null,null,null,null,null,null,null,{"$f":"Vstupy!CC157","v":0}]
[1,0,1,null,null,null,null,null,null,null,null,null,null,null,null,null,null,{"$f":"IF(Vstupy!S110=0,\"\",Vstupy!S110)","v":""},null,null,null,null,null,null,null,null,null,null,null,null,null,null,null,null,null,null,null,null,null,{"$f":"Vstupy!C110/12","v":0},null,null,null,null,null,null,null,null,null,{"$f":"IF(Vstupy!AK110=0,\"\",Vstupy!AK110)","v":""},null,null,null,null,null,null,null,null,null,null,null,null,null,null,null,null,null,null,null,null,null,{"$f":"Vstupy!D110/12","v":0},null,null,null,null,null,null,null,null,null,{"$f":"ROW()","v":163}]
[1,0,1,null,null,null,null,null,null,null,null,null,null,null,null,null,null,{"$f":"IF(Vstupy!S111=0,\"\",Vstupy!S111)","v":""},null,null,null,null,null,null,null,null,null,null,null,null,null,null,null,null,null,null,null,null,null,{"$f":"Vstupy!C111/12","v":0},null,null,null,null,null,null,null,null,null,{"$f":"IF(Vstupy!AK111=0,\"\",Vstupy!AK111)","v":""},null,null,null,null,null,null,null,null,null,null,null,null,null,null,null,null,null,null,null,null,null,{"$f":"Vstupy!D111/12","v":0},null,null,null,null,null,null,null,null,null,{"$f":"ROW()","v":164},null,null,null,null,"Měsíční možnosti (dohoda)",null,null,null,null,null,null,null,null,null,null,null,null,null,null,null,null,null,null,null,null,{"$f":"Vstupy!BD160","v":0}]
[1,0,1,null,null,null,null,null,null,null,null,null,null,null,null,null,null,{"$f":"IF(Vstupy!S112=0,\"\",Vstupy!S112)","v":""},null,null,null,null,null,null,null,null,null,null,null,null,null,null,null,null,null,null,null,null,null,{"$f":"Vstupy!C112/12","v":0},null,null,null,null,null,null,null,null,null,{"$f":"IF(Vstupy!AK112=0,\"\",Vstupy!AK112)","v":""},null,null,null,null,null,null,null,null,null,null,null,null,null,null,null,null,null,null,null,null,null,{"$f":"Vstupy!D112/12","v":0},null,null,null,null,null,null,null,null,null,{"$f":"ROW()","v":165}]
[1,0,1,null,null,null,null,null,null,null,null,null,null,null,null,null,null,{"$f":"IF(Vstupy!S113=0,\"\",Vstupy!S113)","v":""},null,null,null,null,null,null,null,null,null,null,null,null,null,null,null,null,null,null,null,null,null,{"$f":"Vstupy!C113/12","v":0},null,null,null,null,null,null,null,null,null,{"$f":"IF(Vstupy!AK113=0,\"\",Vstupy!AK113)","v":""},null,null,null,null,null,null,null,null,null,null,null,null,null,null,null,null,null,null,null,null,null,{"$f":"Vstupy!D113/12","v":0},null,null,null,null,null,null,null,null,null,{"$f":"ROW()","v":166}]
[1,0,1,null,null,null,null,null,null,null,null,null,null,null,null,null,null,{"$f":"IF(Vstupy!S114=0,\"\",Vstupy!S114)","v":""},null,null,null,null,null,null,null,null,null,null,null,null,null,null,null,null,null,null,null,null,null,{"$f":"Vstupy!C114/12","v":0},null,null,null,null,null,null,null,null,null,{"$f":"IF(Vstupy!AK114=0,\"\",Vstupy!AK114)","v":""},null,null,null,null,null,null,null,null,null,null,null,null,null,null,null,null,null,null,null,null,null,{"$f":"Vstupy!D114/12","v":0},null,null,null,null,null,null,null,null,null,{"$f":"ROW()","v":167}]
[1,0,1,null,null,null,null,null,null,null,null,null,null,null,null,null,null,{"$f":"IF(Vstupy!S122=0,\"\",Vstupy!S122)","v":""},null,null,null,null,null,null,null,null,null,null,null,null,null,null,null,null,null,null,null,null,null,{"$f":"Vstupy!C122/12","v":0},null,null,null,null,null,null,null,null,null,{"$f":"IF(Vstupy!AK122=0,\"\",Vstupy!AK122)","v":""},null,null,null,null,null,null,null,null,null,null,null,null,null,null,null,null,null,null,null,null,null,{"$f":"Vstupy!D122/12","v":0},null,null,null,null,null,null,null,null,null,{"$f":"ROW()","v":168}]
[1,0,1,null,null,null,null,null,null,null,null,null,null,null,null,null,null,{"$f":"IF(Vstupy!S123=0,\"\",Vstupy!S123)","v":""},null,null,null,null,null,null,null,null,null,null,null,null,null,null,null,null,null,null,null,null,null,{"$f":"Vstupy!C123/12","v":0},null,null,null,null,null,null,null,null,null,{"$f":"IF(Vstupy!AK123=0,\"\",Vstupy!AK123)","v":""},null,null,null,null,null,null,null,null,null,null,null,null,null,null,null,null,null,null,null,null,null,{"$f":"Vstupy!D123/12","v":0},null,null,null,null,null,null,null,null,null,{"$f":"ROW()","v":169}]
[1,0,1,null,null,null,null,null,null,null,null,null,null,null,null,null,null,{"$f":"IF(Vstupy!S124=0,\"\",Vstupy!S124)","v":""},null,null,null,null,null,null,null,null,null,null,null,null,null,null,null,null,null,null,null,null,null,{"$f":"Vstupy!C124/12","v":0},null,null,null,null,null,null,null,null,null,{"$f":"IF(Vstupy!AK124=0,\"\",Vstupy!AK124)","v":""},null,null,null,null,null,null,null,null,null,null,null,null,null,null,null,null,null,null,null,null,null,{"$f":"Vstupy!D124/12","v":0},null,null,null,null,null,null,null,null,null,{"$f":"ROW()","v":170}]
[1,0,1,null,null,null,null,null,null,null,null,null,null,null,null,null,null,{"$f":"IF(Vstupy!S125=0,\"\",Vstupy!S125)","v":""},null,null,null,null,null,null,null,null,null,null,null,null,null,null,null,null,null,null,null,null,null,{"$f":"Vstupy!C125/12","v":0},null,null,null,null,null,null,null,null,null,{"$f":"IF(Vstupy!AK125=0,\"\",Vstupy!AK125)","v":""},null,null,null,null,null,null,null,null,null,null,null,null,null,null,null,null,null,null,null,null,null,{"$f":"Vstupy!D125/12","v":0},null,null,null,null,null,null,null,null,null,{"$f":"ROW()","v":171}]
[1,0,1,null,null,null,null,null,null,null,null,null,null,null,null,null,null,{"$f":"IF(Vstupy!S126=0,\"\",Vstupy!S126)","v":""},null,null,null,null,null,null,null,null,null,null,null,null,null,null,null,null,null,null,null,null,null,{"$f":"Vstupy!C126/12","v":0},null,null,null,null,null,null,null,null,null,{"$f":"IF(Vstupy!AK126=0,\"\",Vstupy!AK126)","v":""},null,null,null,null,null,null,null,null,null,null,null,null,null,null,null,null,null,null,null,null,null,{"$f":"Vstupy!D126/12","v":0},null,null,null,null,null,null,null,null,null,{"$f":"ROW()","v":172}]
[1,0,1,null,null,null,null,null,null,null,null,null,null,null,null,null,null,{"$f":"IF(Vstupy!S127=0,\"\",Vstupy!S127)","v":""},null,null,null,null,null,null,null,null,null,null,null,null,null,null,null,null,null,null,null,null,null,{"$f":"Vstupy!C127/12","v":0},null,null,null,null,null,null,null,null,null,{"$f":"IF(Vstupy!AK127=0,\"\",Vstupy!AK127)","v":""},null,null,null,null,null,null,null,null,null,null,null,null,null,null,null,null,null,null,null,null,null,{"$f":"Vstupy!D127/12","v":0},null,null,null,null,null,null,null,null,null,{"$f":"ROW()","v":173}]
[1,0,1,null,null,null,null,null,null,null,null,null,null,null,null,null,null,{"$f":"IF(Vstupy!S128=0,\"\",Vstupy!S128)","v":""},null,null,null,null,null,null,null,null,null,null,null,null,null,null,null,null,null,null,null,null,null,{"$f":"Vstupy!C128/12","v":0},null,null,null,null,null,null,null,null,null,{"$f":"IF(Vstupy!AK128=0,\"\",Vstupy!AK128)","v":""},null,null,null,null,null,null,null,null,null,null,null,null,null,null,null,null,null,null,null,null,null,{"$f":"Vstupy!D128/12","v":0},null,null,null,null,null,null,null,null,null,{"$f":"ROW()","v":174}]
[1,0,1,null,null,null,null,null,null,null,null,null,null,null,null,null,null,{"$f":"IF(Vstupy!S129=0,\"\",Vstupy!S129)","v":""},null,null,null,null,null,null,null,null,null,null,null,null,null,null,null,null,null,null,null,null,null,{"$f":"Vstupy!C129/12","v":0},null,null,null,null,null,null,null,null,null,{"$f":"IF(Vstupy!AK129=0,\"\",Vstupy!AK129)","v":""},null,null,null,null,null,null,null,null,null,null,null,null,null,null,null,null,null,null,null,null,null,{"$f":"Vstupy!D129/12","v":0},null,null,null,null,null,null,null,null,null,{"$f":"ROW()","v":175},null,null,{"$f":"\"Přílohy - návrhy řešení k následujícím oblastem: \" & IF(Vstupy!A16=1,\"analýza příjmů a nákladů\" & IF(SUM(Vstupy!A17:A24)>0,\", \",\".\"),\"\") & IF(Vstupy!A17=1,\"zajištění příjmu\" & IF(SUM(Vstupy!A18:A24)>0,\", \",\".\"),\"\")  & IF(Vstupy!A18=1,\"penze\"& IF(SUM(Vstupy!A20:A24)>0,\", \",\".\"),\"\")  & IF(Vstupy!A20=1,\"financování bydlení\" & IF(SUM(Vstupy!A21:A24)>0,\", \",\".\"),\"\")  & IF(Vstupy!A21=1,\"pojištění majetku / odpovědnosti\" & IF(SUM(Vstupy!A22:A24)>0,\", \",\".\"),\"\") & IF(Vstupy!A22=1,\"investice\"& IF(SUM(Vstupy!A23:A24)>0,\", \",\".\"),\"\")  & IF(Vstupy!A23=1,\"úvěry jiné než na bydlení - jejich optimalizace\" & IF(Vstupy!A24>0,\", \",\".\"),\"\") & IF(Vstupy!A24=1,\"jiné.\",\"\")","v":"Přílohy - návrhy řešení k následujícím oblastem: analýza příjmů a nákladů."}]
[1,0,1,null,null,null,null,null,null,null,null,null,null,null,null,null,null,{"$f":"IF(Vstupy!S130=0,\"\",Vstupy!S130)","v":""},null,null,null,null,null,null,null,null,null,null,null,null,null,null,null,null,null,null,null,null,null,{"$f":"Vstupy!C130/12","v":0},null,null,null,null,null,null,null,null,null,{"$f":"IF(Vstupy!AK130=0,\"\",Vstupy!AK130)","v":""},null,null,null,null,null,null,null,null,null,null,null,null,null,null,null,null,null,null,null,null,null,{"$f":"Vstupy!D130/12","v":0},null,null,null,null,null,null,null,null,null,{"$f":"ROW()","v":176}]
[1,0,1,null,null,null,null,null,null,null,null,null,null,null,null,null,null,{"$f":"IF(Vstupy!S136=0,\"\",Vstupy!S136)","v":""},null,null,null,null,null,null,null,null,null,null,null,null,null,null,null,null,null,null,null,null,null,{"$f":"Vstupy!C136/12","v":0},null,null,null,null,null,null,null,null,null,{"$f":"IF(Vstupy!AK136=0,\"\",Vstupy!AK136)","v":""},null,null,null,null,null,null,null,null,null,null,null,null,null,null,null,null,null,null,null,null,null,{"$f":"Vstupy!D136/12","v":0},null,null,null,null,null,null,null,null,null,{"$f":"ROW()","v":177}]
[1,0,1,null,null,null,null,null,null,null,null,null,null,null,null,null,null,{"$f":"IF(Vstupy!S137=0,\"\",Vstupy!S137)","v":""},null,null,null,null,null,null,null,null,null,null,null,null,null,null,null,null,null,null,null,null,null,{"$f":"Vstupy!C137/12","v":0},null,null,null,null,null,null,null,null,null,{"$f":"IF(Vstupy!AK137=0,\"\",Vstupy!AK137)","v":""},null,null,null,null,null,null,null,null,null,null,null,null,null,null,null,null,null,null,null,null,null,{"$f":"Vstupy!D137/12","v":0},null,null,null,null,null,null,null,null,null,{"$f":"ROW()","v":178}]
[1,0,1,null,null,null,null,null,null,null,null,null,null,null,null,null,null,{"$f":"IF(Vstupy!S138=0,\"\",Vstupy!S138)","v":""},null,null,null,null,null,null,null,null,null,null,null,null,null,null,null,null,null,null,null,null,null,{"$f":"Vstupy!C138/12","v":0},null,null,null,null,null,null,null,null,null,{"$f":"IF(Vstupy!AK138=0,\"\",Vstupy!AK138)","v":""},null,null,null,null,null,null,null,null,null,null,null,null,null,null,null,null,null,null,null,null,null,{"$f":"Vstupy!D138/12","v":0},null,null,null,null,null,null,null,null,null,{"$f":"ROW()","v":179}]
[1,0,1,null,null,null,null,null,null,null,null,null,null,null,null,null,null,{"$f":"IF(Vstupy!S139=0,\"\",Vstupy!S139)","v":""},null,null,null,null,null,null,null,null,null,null,null,null,null,null,null,null,null,null,null,null,null,{"$f":"Vstupy!C139/12","v":0},null,null,null,null,null,null,null,null,null,{"$f":"IF(Vstupy!AK139=0,\"\",Vstupy!AK139)","v":""},null,null,null,null,null,null,null,null,null,null,null,null,null,null,null,null,null,null,null,null,null,{"$f":"Vstupy!D139/12","v":0},null,null,null,null,null,null,null,null,null,{"$f":"ROW()","v":180}]
[1,0,1,null,null,null,null,null,null,null,null,null,null,null,null,null,null,{"$f":"IF(Vstupy!S140=0,\"\",Vstupy!S140)","v":""},null,null,null,null,null,null,null,null,null,null,null,null,null,null,null,null,null,null,null,null,null,{"$f":"Vstupy!C140/12","v":0},null,null,null,null,null,null,null,null,null,{"$f":"IF(Vstupy!AK140=0,\"\",Vstupy!AK140)","v":""},null,null,null,null,null,null,null,null,null,null,null,null,null,null,null,null,null,null,null,null,null,{"$f":"Vstupy!D140/12","v":0},null,null,null,null,null,null,null,null,null,{"$f":"ROW()","v":181}]
[1,1,1,null,null,null,null,null,null,null,null,null,null,null,null,null,null,"Celková výplata z investic, spoření",null,null,null,null,null,null,null,null,null,null,null,null,null,null,null,null,null,null,null,{"$f":"IF(SUM(Vstupy!AA150:'Vstupy'!CD150)=0,0,Vstupy!CE151)","v":0},null,null,null,null,null,null,null,null,null,null,null,null,null,null,null,null,null,null,null,null,null,null,null,null,null,null,null,null,null,null,null,{"$f":"IF(SUM(Vstupy!AA150:'Vstupy'!CD150)=0,0,Vstupy!CE152)","v":0},null,null,null,null,null,null,null,null,null,null,null,{"$f":"ROW()","v":182}]
[1,1,1,null,null,null,null,null,null,null,null,null,null,null,null,null,null,"Celkové měsíční výdaje",null,null,null,null,null,null,null,null,null,null,null,null,null,null,null,null,null,null,null,null,null,{"$f":"SUM(AN155:AR181)","v":0},null,null,null,null,null,null,null,null,null,null,null,null,null,null,null,null,null,null,null,null,null,null,null,null,null,null,null,null,null,null,null,{"$f":"SUM(BT155:BX181)","v":0},null,null,null,null,null,null,null,null,null,{"$f":"ROW()","v":183}]
[1,1,1,null,null,null,null,null,null,null,null,null,null,null,null,null,null,"Celkové měsíční příjmy",null,null,null,null,null,null,null,null,null,null,null,null,null,null,null,null,null,null,null,null,null,{"$f":"Vstupy!AI161","v":0},null,null,null,null,null,null,null,null,null,null,null,null,null,null,null,null,null,null,null,null,null,null,null,null,null,null,null,null,null,null,null,{"$f":"Vstupy!AI161","v":0},null,null,null,null,null,null,null,null,null,{"$f":"ROW()","v":184}]
[1,1,1,null,null,null,null,null,null,null,null,null,null,null,null,null,null,"Příjmy - výdaje",null,null,null,null,null,null,null,null,null,null,null,null,null,null,null,null,null,null,null,null,null,{"$f":"AN184-AN183","v":0},null,null,null,null,null,null,null,null,null,null,null,null,null,null,null,null,null,null,null,null,null,null,null,null,null,null,null,null,null,null,null,{"$f":"BT184-BT183","v":0},null,null,null,null,null,null,null,null,null,{"$f":"ROW()","v":185}]
[1,1,1,null,null,null,null,null,null,null,null,null,null,null,null,null,null,null,null,null,null,null,null,null,null,null,null,null,null,null,null,null,null,null,null,null,null,null,null,null,null,null,null,null,null,null,null,null,null,null,null,null,null,null,null,null,null,null,null,null,null,null,null,null,null,null,null,null,null,null,null,null,null,null,null,null,null,null,null,null,null,{"$f":"ROW()","v":186}]
[1,1,1,null,null,null,null,null,null,null,null,null,null,null,null,null,null,{"$f":"\"Celkové úspory: \" & IF(Vstupy!CC155=0,0,TEXT(Vstupy!CC155,\"# ###\"))  & \" Kč\" & \", celkové úvěry: \" & IF(Vstupy!CC157=0,0,TEXT(Vstupy!CC157,\"# ###\"))  & \" Kč\"","v":"Celkové úspory: 0 Kč, celkové úvěry: 0 Kč"},null,null,null,null,null,null,null,null,null,null,null,null,null,null,null,null,null,null,null,null,null,null,null,null,null,null,null,null,null,null,null,{"$f":"\"Pro navrhované řešení \" & IF(BT185<0,\"ne\",\"\") & \"jsou dostatečné zdroje\"","v":"Pro navrhované řešení jsou dostatečné zdroje"},null,null,null,null,null,null,null,null,null,null,null,null,null,null,null,null,null,null,null,null,null,null,null,null,null,null,null,null,null,null,null,{"$f":"ROW()","v":187}]
[1,1,1,null,null,null,null,null,null,null,null,null,null,null,null,null,null,null,null,null,null,null,null,null,null,null,null,null,null,null,null,null,null,null,null,null,null,null,null,null,null,null,null,null,null,null,null,null,null,null,null,null,null,null,null,null,null,null,null,null,null,null,null,null,null,null,null,null,null,null,null,null,null,null,null,null,null,null,null,null,null,{"$f":"ROW()","v":188}]
[1,1,1,null,null,null,null,null,null,null,null,null,null,null,null,null,null,"Detailní parametry navrhovaných produktů naleznete v přiložených kalkulacích partnerských společností.",null,null,null,null,null,null,null,null,null,null,null,null,null,null,null,null,null,null,null,null,null,null,null,null,null,null,null,null,null,null,null,null,null,null,null,null,null,null,null,null,null,null,null,null,null,null,null,null,null,null,null,null,null,null,null,null,null,null,null,null,null,null,null,{"$f":"ROW()","v":189}]
[1,0,1,null,null,null,null,null,null,null,null,null,null,null,null,null,null,null,null,null,null,null,null,null,null,null,null,null,null,null,null,null,null,null,null,null,null,null,null,null,null,null,null,null,null,null,null,null,null,null,null,null,null,null,null,null,null,null,null,null,null,null,null,null,null,null,null,null,null,null,null,null,null,null,null,null,null,null,null,null,null,{"$f":"ROW()","v":190}]
[1,0,1,null,null,null,null,null,null,null,null,null,null,null,null,null,null,null,null,null,null,null,null,null,null,null,null,null,null,null,null,null,null,null,null,null,null,null,null,null,null,null,null,null,null,null,null,null,null,null,null,null,null,null,null,null,null,null,null,null,null,null,null,null,null,null,null,null,null,null,null,null,null,null,null,null,null,null,null,null,null,{"$f":"ROW()","v":191}]
[1,0,1,null,null,null,null,null,null,null,null,null,null,null,null,null,null,null,null,null,null,null,null,null,null,null,null,null,null,null,null,null,null,null,null,null,null,null,null,null,null,null,null,null,null,null,null,null,null,null,null,null,null,null,null,null,null,null,null,null,null,null,null,null,null,null,null,null,null,null,null,null,null,null,null,null,null,null,null,null,null,{"$f":"ROW()","v":192}]
[1,0,1,null,null,null,null,null,null,null,null,null,null,null,null,null,null,null,null,null,null,null,null,null,null,null,null,null,null,null,null,null,null,null,null,null,null,null,null,null,null,null,null,null,null,null,null,null,null,null,null,null,null,null,null,null,null,null,null,null,null,null,null,null,null,null,null,null,null,null,null,null,null,null,null,null,null,null,null,null,null,{"$f":"ROW()","v":193}]
[1,0,1,null,null,null,null,null,null,null,null,null,null,null,null,null,null,null,null,null,null,null,null,null,null,null,null,null,null,null,null,null,null,null,null,null,null,null,null,null,null,null,null,null,null,null,null,null,null,null,null,null,null,null,null,null,null,null,null,null,null,null,null,null,null,null,null,null,null,null,null,null,null,null,null,null,null,null,null,null,null,{"$f":"ROW()","v":194}]
[1,0,1,null,null,null,null,null,null,null,null,null,null,null,null,null,null,null,null,null,null,null,null,null,null,null,null,null,null,null,null,null,null,null,null,null,null,null,null,null,null,null,null,null,null,null,null,null,null,null,null,null,null,null,null,null,null,null,null,null,null,null,null,null,null,null,null,null,null,null,null,null,null,null,null,null,null,null,null,null,null,{"$f":"ROW()","v":195}]
[1,1,1,null,null,null,null,null,null,null,null,null,null,null,null,null,null,null,null,null,null,null,null,null,null,null,null,null,null,null,null,null,null,null,null,null,null,null,null,null,null,null,null,null,null,null,null,null,null,null,null,null,null,null,null,null,null,null,null,null,null,null,null,null,null,null,null,null,null,null,null,null,null,null,null,null,null,null,null,null,null,{"$f":"ROW()","v":196}]
[{"$f":"Vstupy!A$16","v":1},1,1,null,null,null,null,null,null,null,null,"Finanční plán",null,null,null,null,null,null,null,null,null,null,null,null,null,null,null,null,null,null,null,null,null,null,null,null,null,null,null,null,null,null,null,null,null,null,null,null,null,null,null,null,null,null,null,null,null,null,null,null,null,null,null,null,null,null,null,null,null,null,null,null,null,null,null,null,null,null,null,null,null,{"$f":"ROW()","v":197}]
[{"$f":"Vstupy!A$16","v":1},1,1,null,null,null,null,null,null,null,null,{"$f":"Vstupy!AF$9 & \" \" & Vstupy!AI$10","v":" "},null,null,null,null,null,null,null,null,null,null,null,null,null,null,null,null,null,null,null,null,null,null,null,null,null,null,null,null,null,null,null,null,null,null,null,null,null,null,null,null,null,null,null,null,null,null,null,null,null,null,null,null,null,null,null,null,null,null,null,null,null,null,null,null,null,null,null,null,null,{"$f":"ROW()","v":198}]
[{"$f":"Vstupy!A$16","v":1},{"$f":"COUNTIF(B210:B408,\">0\")","v":25},1,null,null,null,null,null,null,null,null,null,{"$f":"Vstupy!S62","v":"Analýza příjmů a výdajů"},null,null,null,null,null,null,null,null,null,null,null,null,null,null,null,null,null,null,null,null,null,null,null,null,null,null,null,null,null,null,null,null,null,null,null,null,null,null,null,null,null,null,null,null,null,null,null,null,null,null,null,null,null,null,null,null,null,null,null,null,null,null,null,null,null,null,null,null,{"$f":"ROW()","v":199}]
[{"$f":"Vstupy!A$16","v":1},1,1,null,null,null,null,null,null,null,null,null,null,null,null,null,null,null,null,null,null,null,null,null,null,null,null,null,null,null,null,null,null,null,null,null,null,null,null,null,null,null,null,null,null,null,null,null,null,null,null,null,null,null,null,null,null,null,null,null,null,null,null,null,null,null,null,null,null,null,null,null,null,null,null,null,null,null,null,null,null,{"$f":"ROW()","v":200}]
[{"$f":"Vstupy!A$16","v":1},0,1,null,null,null,null,null,null,null,null,null,null,null,null,null,null,null,null,null,null,null,null,null,null,"Požadavek klienta",{"$f":"IF(Vstupy!AF63=0,\"Klient požaduje návrh řešení bez specifických požadavků\",Vstupy!AF63)","v":"Klient požaduje návrh řešení bez specifických požadavků"},null,null,null,null,null,null,null,null,null,null,null,null,null,null,null,null,null,null,null,null,null,null,null,null,null,null,null,null,null,null,null,null,null,null,null,null,null,null,null,null,null,null,null,null,null,null,null,null,null,null,null,null,null,null,{"$f":"ROW()","v":201}]
[{"$f":"Vstupy!A$16","v":1},0,1,null,null,null,null,null,null,null,null,null,null,null,null,null,null,null,null,null,null,null,null,null,null,null,null,null,null,null,null,null,null,null,null,null,null,null,null,null,null,null,null,null,null,null,null,null,null,null,null,null,null,null,null,null,null,null,null,null,null,null,null,null,null,null,null,null,null,null,null,null,null,null,null,null,null,null,null,null,null,{"$f":"ROW()","v":202}]
[{"$f":"Vstupy!A$16","v":1},0,1,null,null,null,null,null,null,null,null,null,null,null,null,null,null,null,null,null,null,null,null,null,null,"Návrh řešení",{"$f":"Vstupy!AF64","v":0},null,null,null,null,null,null,null,null,null,null,null,null,null,null,null,null,null,null,null,null,null,null,null,null,null,null,null,null,null,null,null,null,null,null,null,null,null,null,null,null,null,null,null,null,null,null,null,null,null,null,null,null,null,null,{"$f":"ROW()","v":203}]
[{"$f":"Vstupy!A$16","v":1},0,1,null,null,null,null,null,null,null,null,null,null,null,null,null,null,null,null,null,null,null,null,null,null,null,null,null,null,null,null,null,null,null,null,null,null,null,null,null,null,null,null,null,null,null,null,null,null,null,null,null,null,null,null,null,null,null,null,null,null,null,null,null,null,null,null,null,null,null,null,null,null,null,null,null,null,null,null,null,null,{"$f":"ROW()","v":204}]
[{"$f":"Vstupy!A$16","v":1},0,1,null,null,null,null,null,null,null,null,null,null,null,null,null,null,null,null,null,null,null,null,null,null,"Informace","Cíl - vytvoření uceleného přehledu měsíčních příjmů a výdajů, který pomůže klientovi lépe si uvědomit jeho finanční možnosti, rezervy a případné komplikace ohrožující vyváženost rodinného rozpočtu.",null,null,null,null,null,null,null,null,null,null,null,null,null,null,null,null,null,null,null,null,null,null,null,null,null,null,null,null,null,null,null,null,null,null,null,null,null,null,null,null,null,null,null,null,null,null,null,null,null,null,null,null,null,null,{"$f":"ROW()","v":205}]
[{"$f":"Vstupy!A$16","v":1},0,1,null,null,null,null,null,null,null,null,null,null,null,null,null,null,null,null,null,null,null,null,null,null,null,null,null,null,null,null,null,null,null,null,null,null,null,null,null,null,null,null,null,null,null,null,null,null,null,null,null,null,null,null,null,null,null,null,null,null,null,null,null,null,null,null,null,null,null,null,null,null,null,null,null,null,null,null,null,null,{"$f":"ROW()","v":206}]
[{"$f":"Vstupy!A$16","v":1},0,1,null,null,null,null,null,null,null,null,null,null,null,null,null,null,null,null,null,null,null,null,null,null,null,null,null,null,null,null,null,null,null,null,null,null,null,null,null,null,null,null,null,null,null,null,null,null,null,null,null,null,null,null,null,null,null,null,null,null,null,null,null,null,null,null,null,null,null,null,null,null,null,null,null,null,null,null,null,null,{"$f":"ROW()","v":207}]
[{"$f":"Vstupy!A$16","v":1},0,1,null,null,null,null,null,null,null,null,null,null,null,null,null,null,null,null,null,null,null,null,null,null,null,null,null,null,null,null,null,null,null,null,null,null,null,null,null,null,null,null,null,null,null,null,null,null,null,null,null,null,null,null,null,null,null,null,null,null,null,null,null,null,null,null,null,null,null,null,null,null,null,null,null,null,null,null,null,null,{"$f":"ROW()","v":208}]
[{"$f":"Vstupy!A$16","v":1},0,1,null,null,null,null,null,null,null,null,null,null,null,null,null,null,null,null,null,null,null,null,null,null,null,null,null,null,null,null,null,null,null,null,null,null,null,null,null,null,null,null,null,null,null,null,null,null,null,null,null,null,null,null,null,null,null,null,null,null,null,null,null,null,null,null,null,null,null,null,null,null,null,null,null,null,null,null,null,null,{"$f":"ROW()","v":209}]
[{"$f":"Vstupy!A$16","v":1},1,1,null,null,null,null,null,null,null,null,"Výdaje",null,null,null,null,null,null,null,null,null,null,null,null,null,null,null,null,null,null,null,null,null,null,null,null,null,null,null,null,null,null,null,null,null,null,null,null,null,null,null,null,null,null,null,null,null,null,null,null,null,null,null,null,null,null,null,null,null,null,null,null,null,null,null,null,null,null,null,null,null,{"$f":"ROW()","v":210}]
[{"$f":"Vstupy!A$16","v":1},{"$f":"B212","v":0},1,null,null,null,null,null,null,null,null,null,null,null,null,null,null,null,null,null,null,null,null,null,null,null,null,null,null,null,null,null,null,null,null,null,null,null,null,null,null,null,null,null,null,null,null,null,null,null,null,null,null,null,null,null,null,null,null,null,null,null,null,null,null,null,null,null,null,null,null,null,null,null,null,null,null,null,null,null,null,{"$f":"ROW()","v":211}]
[{"$f":"Vstupy!A$16","v":1},{"$f":"SUM(B213:B250)","v":0},1,null,null,null,null,null,null,null,null,{"$f":"Vstupy!S74","v":"Bydlení, auto, rodina - stav"},null,null,null,null,null,null,null,null,null,null,null,null,null,null,null,null,null,null,null,null,null,null,null,null,null,null,null,null,null,null,null,null,null,"Doporučení",null,null,null,null,null,null,null,null,null,null,null,null,null,null,null,null,null,null,null,null,null,null,null,null,null,null,null,null,null,null,null,null,null,null,null,{"$f":"ROW()","v":212}]
[{"$f":"Vstupy!A$16","v":1},{"$f":"MAX(AM213:CB213)+B214","v":0},1,null,null,null,null,null,null,null,null,{"$f":"Vstupy!S75","v":"Nájem"},null,null,null,null,null,null,null,null,null,null,null,null,null,null,null,null,null,null,null,null,{"$f":"IF(Vstupy!AE75=1,\"ročně\",IF(Vstupy!AE75=2,\"pololetně\",IF(Vstupy!AE75=4,\"čtvrtletně\",\"měsíčně\")))","v":"měsíčně"},null,null,null,null,null,{"$f":"Vstupy!AG75","v":0},null,null,null,null,null,null,null,null,null,null,null,null,null,null,null,null,null,null,null,null,null,null,null,null,null,null,null,null,{"$f":"AG213","v":"měsíčně"},null,null,null,null,null,{"$f":"IF(Vstupy!AK75=\"\",AM213,Vstupy!AK75)","v":0},null,null,null,null,null,null,{"$f":"IF(Vstupy!AK75=\"\",\"\",\"!\")","v":""},{"$f":"ROW()","v":213}]
[{"$f":"Vstupy!A$16","v":1},{"$f":"IF(OR(L214=0,L214=\"\",L214=\" \",L214=\"  \"),0,1)","v":0},1,null,null,null,null,null,null,null,null,{"$f":"Vstupy!AO75","v":0},null,null,null,null,null,null,null,null,null,null,null,null,null,null,null,null,null,null,null,null,null,null,null,null,null,null,null,null,null,null,null,null,null,null,null,null,null,null,null,null,null,null,null,null,null,null,null,null,null,null,null,null,null,null,null,null,null,null,null,null,null,null,null,null,null,null,null,null,null,{"$f":"ROW()","v":214}]
[{"$f":"Vstupy!A$16","v":1},{"$f":"MAX(AM215:CB215)+B216","v":0},1,null,null,null,null,null,null,null,null,{"$f":"Vstupy!S76","v":"Náklady na údržbu nem. - opravy, …"},null,null,null,null,null,null,null,null,null,null,null,null,null,null,null,null,null,null,null,null,{"$f":"IF(Vstupy!AE76=1,\"ročně\",IF(Vstupy!AE76=2,\"pololetně\",IF(Vstupy!AE76=4,\"čtvrtletně\",\"měsíčně\")))","v":"měsíčně"},null,null,null,null,null,{"$f":"Vstupy!AG76","v":0},null,null,null,null,null,null,null,null,null,null,null,null,null,null,null,null,null,null,null,null,null,null,null,null,null,null,null,null,{"$f":"AG215","v":"měsíčně"},null,null,null,null,null,{"$f":"IF(Vstupy!AK76=\"\",AM215,Vstupy!AK76)","v":0},null,null,null,null,null,null,{"$f":"IF(Vstupy!AK76=\"\",\"\",\"!\")","v":""},{"$f":"ROW()","v":215}]
[{"$f":"Vstupy!A$16","v":1},{"$f":"IF(OR(L216=0,L216=\"\",L216=\" \",L216=\"  \"),0,1)","v":0},1,null,null,null,null,null,null,null,null,{"$f":"Vstupy!AO76","v":0},null,null,null,null,null,null,null,null,null,null,null,null,null,null,null,null,null,null,null,null,null,null,null,null,null,null,null,null,null,null,null,null,null,null,null,null,null,null,null,null,null,null,null,null,null,null,null,null,null,null,null,null,null,null,null,null,null,null,null,null,null,null,null,null,null,null,null,null,null,{"$f":"ROW()","v":216}]
[{"$f":"Vstupy!A$16","v":1},{"$f":"MAX(AM217:CB217)+B218","v":0},1,null,null,null,null,null,null,null,null,{"$f":"Vstupy!S77","v":"Spotřební materiál do domácnosti"},null,null,null,null,null,null,null,null,null,null,null,null,null,null,null,null,null,null,null,null,{"$f":"IF(Vstupy!AE77=1,\"ročně\",IF(Vstupy!AE77=2,\"pololetně\",IF(Vstupy!AE77=4,\"čtvrtletně\",\"měsíčně\")))","v":"měsíčně"},null,null,null,null,null,{"$f":"Vstupy!AG77","v":0},null,null,null,null,null,null,null,null,null,null,null,null,null,null,null,null,null,null,null,null,null,null,null,null,null,null,null,null,"měsíčně",null,null,null,null,null,{"$f":"IF(Vstupy!AK77=\"\",AM217,Vstupy!AK77)","v":0},null,null,null,null,null,null,{"$f":"IF(Vstupy!AK77=\"\",\"\",\"!\")","v":""},{"$f":"ROW()","v":217}]
[{"$f":"Vstupy!A$16","v":1},{"$f":"IF(OR(L218=0,L218=\"\",L218=\" \",L218=\"  \"),0,1)","v":0},1,null,null,null,null,null,null,null,null,{"$f":"Vstupy!AO77","v":0},null,null,null,null,null,null,null,null,null,null,null,null,null,null,null,null,null,null,null,null,null,null,null,null,null,null,null,null,null,null,null,null,null,null,null,null,null,null,null,null,null,null,null,null,null,null,null,null,null,null,null,null,null,null,null,null,null,null,null,null,null,null,null,null,null,null,null,null,null,{"$f":"ROW()","v":218}]
[{"$f":"Vstupy!A$16","v":1},{"$f":"MAX(AM219:CB219)+B220","v":0},1,null,null,null,null,null,null,null,null,{"$f":"Vstupy!S78","v":"Energie, topení, voda, plyn, apod."},null,null,null,null,null,null,null,null,null,null,null,null,null,null,null,null,null,null,null,null,{"$f":"IF(Vstupy!AE78=1,\"ročně\",IF(Vstupy!AE78=2,\"pololetně\",IF(Vstupy!AE78=4,\"čtvrtletně\",\"měsíčně\")))","v":"měsíčně"},null,null,null,null,null,{"$f":"Vstupy!AG78","v":0},null,null,null,null,null,null,null,null,null,null,null,null,null,null,null,null,null,null,null,null,null,null,null,null,null,null,null,null,"měsíčně",null,null,null,null,null,{"$f":"IF(Vstupy!AK78=\"\",AM219,Vstupy!AK78)","v":0},null,null,null,null,null,null,{"$f":"IF(Vstupy!AK78=\"\",\"\",\"!\")","v":""},{"$f":"ROW()","v":219}]
[{"$f":"Vstupy!A$16","v":1},{"$f":"IF(OR(L220=0,L220=\"\",L220=\" \",L220=\"  \"),0,1)","v":0},1,null,null,null,null,null,null,null,null,{"$f":"Vstupy!AO78","v":0},null,null,null,null,null,null,null,null,null,null,null,null,null,null,null,null,null,null,null,null,null,null,null,null,null,null,null,null,null,null,null,null,null,null,null,null,null,null,null,null,null,null,null,null,null,null,null,null,null,null,null,null,null,null,null,null,null,null,null,null,null,null,null,null,null,null,null,null,null,{"$f":"ROW()","v":220}]
[{"$f":"Vstupy!A$16","v":1},{"$f":"MAX(AM221:CB221)+B222","v":0},1,null,null,null,null,null,null,null,null,{"$f":"Vstupy!S79","v":"Telefon, internet, televize"},null,null,null,null,null,null,null,null,null,null,null,null,null,null,null,null,null,null,null,null,{"$f":"IF(Vstupy!AE79=1,\"ročně\",IF(Vstupy!AE79=2,\"pololetně\",IF(Vstupy!AE79=4,\"čtvrtletně\",\"měsíčně\")))","v":"měsíčně"},null,null,null,null,null,{"$f":"Vstupy!AG79","v":0},null,null,null,null,null,null,null,null,null,null,null,null,null,null,null,null,null,null,null,null,null,null,null,null,null,null,null,null,"měsíčně",null,null,null,null,null,{"$f":"IF(Vstupy!AK79=\"\",AM221,Vstupy!AK79)","v":0},null,null,null,null,null,null,{"$f":"IF(Vstupy!AK79=\"\",\"\",\"!\")","v":""},{"$f":"ROW()","v":221}]
[{"$f":"Vstupy!A$16","v":1},{"$f":"IF(OR(L222=0,L222=\"\",L222=\" \",L222=\"  \"),0,1)","v":0},1,null,null,null,null,null,null,null,null,{"$f":"Vstupy!AO79","v":0},null,null,null,null,null,null,null,null,null,null,null,null,null,null,null,null,null,null,null,null,null,null,null,null,null,null,null,null,null,null,null,null,null,null,null,null,null,null,null,null,null,null,null,null,null,null,null,null,null,null,null,null,null,null,null,null,null,null,null,null,null,null,null,null,null,null,null,null,null,{"$f":"ROW()","v":222}]
[{"$f":"Vstupy!A$16","v":1},{"$f":"MAX(AM223:CB223)+B224","v":0},1,null,null,null,null,null,null,null,null,{"$f":"Vstupy!S80","v":"Jídlo"},null,null,null,null,null,null,null,null,null,null,null,null,null,null,null,null,null,null,null,null,{"$f":"IF(Vstupy!AE80=1,\"ročně\",IF(Vstupy!AE80=2,\"pololetně\",IF(Vstupy!AE80=4,\"čtvrtletně\",\"měsíčně\")))","v":"měsíčně"},null,null,null,null,null,{"$f":"Vstupy!AG80","v":0},null,null,null,null,null,null,null,null,null,null,null,null,null,null,null,null,null,null,null,null,null,null,null,null,null,null,null,null,"měsíčně",null,null,null,null,null,{"$f":"IF(Vstupy!AK80=\"\",AM223,Vstupy!AK80)","v":0},null,null,null,null,null,null,{"$f":"IF(Vstupy!AK80=\"\",\"\",\"!\")","v":""},{"$f":"ROW()","v":223}]
[{"$f":"Vstupy!A$16","v":1},{"$f":"IF(OR(L224=0,L224=\"\",L224=\" \",L224=\"  \"),0,1)","v":0},1,null,null,null,null,null,null,null,null,{"$f":"Vstupy!AO80","v":0},null,null,null,null,null,null,null,null,null,null,null,null,null,null,null,null,null,null,null,null,null,null,null,null,null,null,null,null,null,null,null,null,null,null,null,null,null,null,null,null,null,null,null,null,null,null,null,null,null,null,null,null,null,null,null,null,null,null,null,null,null,null,null,null,null,null,null,null,null,{"$f":"ROW()","v":224}]
[{"$f":"Vstupy!A$16","v":1},{"$f":"MAX(AM225:CB225)+B226","v":0},1,null,null,null,null,null,null,null,null,{"$f":"Vstupy!S81","v":"Volnočasové aktivity"},null,null,null,null,null,null,null,null,null,null,null,null,null,null,null,null,null,null,null,null,{"$f":"IF(Vstupy!AE81=1,\"ročně\",IF(Vstupy!AE81=2,\"pololetně\",IF(Vstupy!AE81=4,\"čtvrtletně\",\"měsíčně\")))","v":"měsíčně"},null,null,null,null,null,{"$f":"Vstupy!AG81","v":0},null,null,null,null,null,null,null,null,null,null,null,null,null,null,null,null,null,null,null,null,null,null,null,null,null,null,null,null,"měsíčně",null,null,null,null,null,{"$f":"IF(Vstupy!AK81=\"\",AM225,Vstupy!AK81)","v":0},null,null,null,null,null,null,{"$f":"IF(Vstupy!AK81=\"\",\"\",\"!\")","v":""},{"$f":"ROW()","v":225}]
[{"$f":"Vstupy!A$16","v":1},{"$f":"IF(OR(L226=0,L226=\"\",L226=\" \",L226=\"  \"),0,1)","v":0},1,null,null,null,null,null,null,null,null,{"$f":"Vstupy!AO81","v":0},null,null,null,null,null,null,null,null,null,null,null,null,null,null,null,null,null,null,null,null,null,null,null,null,null,null,null,null,null,null,null,null,null,null,null,null,null,null,null,null,null,null,null,null,null,null,null,null,null,null,null,null,null,null,null,null,null,null,null,null,null,null,null,null,null,null,null,null,null,{"$f":"ROW()","v":226}]
[{"$f":"Vstupy!A$16","v":1},{"$f":"MAX(AM227:CB227)+B228","v":0},1,null,null,null,null,null,null,null,null,{"$f":"Vstupy!S82","v":"Ošacení / čistírna"},null,null,null,null,null,null,null,null,null,null,null,null,null,null,null,null,null,null,null,null,{"$f":"IF(Vstupy!AE82=1,\"ročně\",IF(Vstupy!AE82=2,\"pololetně\",IF(Vstupy!AE82=4,\"čtvrtletně\",\"měsíčně\")))","v":"měsíčně"},null,null,null,null,null,{"$f":"Vstupy!AG82","v":0},null,null,null,null,null,null,null,null,null,null,null,null,null,null,null,null,null,null,null,null,null,null,null,null,null,null,null,null,"měsíčně",null,null,null,null,null,{"$f":"IF(Vstupy!AK82=\"\",AM227,Vstupy!AK82)","v":0},null,null,null,null,null,null,{"$f":"IF(Vstupy!AK82=\"\",\"\",\"!\")","v":""},{"$f":"ROW()","v":227}]
[{"$f":"Vstupy!A$16","v":1},{"$f":"IF(OR(L228=0,L228=\"\",L228=\" \",L228=\"  \"),0,1)","v":0},1,null,null,null,null,null,null,null,null,{"$f":"Vstupy!AO82","v":0},null,null,null,null,null,null,null,null,null,null,null,null,null,null,null,null,null,null,null,null,null,null,null,null,null,null,null,null,null,null,null,null,null,null,null,null,null,null,null,null,null,null,null,null,null,null,null,null,null,null,null,null,null,null,null,null,null,null,null,null,null,null,null,null,null,null,null,null,null,{"$f":"ROW()","v":228}]
[{"$f":"Vstupy!A$16","v":1},{"$f":"MAX(AM229:CB229)+B230","v":0},1,null,null,null,null,null,null,null,null,{"$f":"Vstupy!S83","v":"Škola - učebnice, školné apod."},null,null,null,null,null,null,null,null,null,null,null,null,null,null,null,null,null,null,null,null,{"$f":"IF(Vstupy!AE83=1,\"ročně\",IF(Vstupy!AE83=2,\"pololetně\",IF(Vstupy!AE83=4,\"čtvrtletně\",\"měsíčně\")))","v":"měsíčně"},null,null,null,null,null,{"$f":"Vstupy!AG83","v":0},null,null,null,null,null,null,null,null,null,null,null,null,null,null,null,null,null,null,null,null,null,null,null,null,null,null,null,null,"měsíčně",null,null,null,null,null,{"$f":"IF(Vstupy!AK83=\"\",AM229,Vstupy!AK83)","v":0},null,null,null,null,null,null,{"$f":"IF(Vstupy!AK83=\"\",\"\",\"!\")","v":""},{"$f":"ROW()","v":229}]
[{"$f":"Vstupy!A$16","v":1},{"$f":"IF(OR(L230=0,L230=\"\",L230=\" \",L230=\"  \"),0,1)","v":0},1,null,null,null,null,null,null,null,null,{"$f":"Vstupy!AO83","v":0},null,null,null,null,null,null,null,null,null,null,null,null,null,null,null,null,null,null,null,null,null,null,null,null,null,null,null,null,null,null,null,null,null,null,null,null,null,null,null,null,null,null,null,null,null,null,null,null,null,null,null,null,null,null,null,null,null,null,null,null,null,null,null,null,null,null,null,null,null,{"$f":"ROW()","v":230}]
[{"$f":"Vstupy!A$16","v":1},{"$f":"MAX(AM231:CB231)+B232","v":0},1,null,null,null,null,null,null,null,null,{"$f":"Vstupy!S84","v":"Jízdné"},null,null,null,null,null,null,null,null,null,null,null,null,null,null,null,null,null,null,null,null,{"$f":"IF(Vstupy!AE84=1,\"ročně\",IF(Vstupy!AE84=2,\"pololetně\",IF(Vstupy!AE84=4,\"čtvrtletně\",\"měsíčně\")))","v":"měsíčně"},null,null,null,null,null,{"$f":"Vstupy!AG84","v":0},null,null,null,null,null,null,null,null,null,null,null,null,null,null,null,null,null,null,null,null,null,null,null,null,null,null,null,null,"měsíčně",null,null,null,null,null,{"$f":"IF(Vstupy!AK84=\"\",AM231,Vstupy!AK84)","v":0},null,null,null,null,null,null,{"$f":"IF(Vstupy!AK84=\"\",\"\",\"!\")","v":""},{"$f":"ROW()","v":231}]
[{"$f":"Vstupy!A$16","v":1},{"$f":"IF(OR(L232=0,L232=\"\",L232=\" \",L232=\"  \"),0,1)","v":0},1,null,null,null,null,null,null,null,null,{"$f":"Vstupy!AO84","v":0},null,null,null,null,null,null,null,null,null,null,null,null,null,null,null,null,null,null,null,null,null,null,null,null,null,null,null,null,null,null,null,null,null,null,null,null,null,null,null,null,null,null,null,null,null,null,null,null,null,null,null,null,null,null,null,null,null,null,null,null,null,null,null,null,null,null,null,null,null,{"$f":"ROW()","v":232}]
[{"$f":"Vstupy!A$16","v":1},{"$f":"MAX(AM233:CB233)+B234","v":0},1,null,null,null,null,null,null,null,null,{"$f":"Vstupy!S85","v":"Zbytné výdaje (cigarety, alkohol apod.)"},null,null,null,null,null,null,null,null,null,null,null,null,null,null,null,null,null,null,null,null,{"$f":"IF(Vstupy!AE85=1,\"ročně\",IF(Vstupy!AE85=2,\"pololetně\",IF(Vstupy!AE85=4,\"čtvrtletně\",\"měsíčně\")))","v":"měsíčně"},null,null,null,null,null,{"$f":"Vstupy!AG85","v":0},null,null,null,null,null,null,null,null,null,null,null,null,null,null,null,null,null,null,null,null,null,null,null,null,null,null,null,null,"měsíčně",null,null,null,null,null,{"$f":"IF(Vstupy!AK85=\"\",AM233,Vstupy!AK85)","v":0},null,null,null,null,null,null,{"$f":"IF(Vstupy!AK85=\"\",\"\",\"!\")","v":""},{"$f":"ROW()","v":233}]
[{"$f":"Vstupy!A$16","v":1},{"$f":"IF(OR(L234=0,L234=\"\",L234=\" \",L234=\"  \"),0,1)","v":0},1,null,null,null,null,null,null,null,null,{"$f":"Vstupy!AO85","v":0},null,null,null,null,null,null,null,null,null,null,null,null,null,null,null,null,null,null,null,null,null,null,null,null,null,null,null,null,null,null,null,null,null,null,null,null,null,null,null,null,null,null,null,null,null,null,null,null,null,null,null,null,null,null,null,null,null,null,null,null,null,null,null,null,null,null,null,null,null,{"$f":"ROW()","v":234}]
[{"$f":"Vstupy!A$16","v":1},{"$f":"MAX(AM235:CB235)+B236","v":0},1,null,null,null,null,null,null,null,null,{"$f":"Vstupy!S86","v":"Auto - pohonné hmoty, olej …"},null,null,null,null,null,null,null,null,null,null,null,null,null,null,null,null,null,null,null,null,{"$f":"IF(Vstupy!AE86=1,\"ročně\",IF(Vstupy!AE86=2,\"pololetně\",IF(Vstupy!AE86=4,\"čtvrtletně\",\"měsíčně\")))","v":"měsíčně"},null,null,null,null,null,{"$f":"Vstupy!AG86","v":0},null,null,null,null,null,null,null,null,null,null,null,null,null,null,null,null,null,null,null,null,null,null,null,null,null,null,null,null,"měsíčně",null,null,null,null,null,{"$f":"IF(Vstupy!AK86=\"\",AM235,Vstupy!AK86)","v":0},null,null,null,null,null,null,{"$f":"IF(Vstupy!AK86=\"\",\"\",\"!\")","v":""},{"$f":"ROW()","v":235}]
[{"$f":"Vstupy!A$16","v":1},{"$f":"IF(OR(L236=0,L236=\"\",L236=\" \",L236=\"  \"),0,1)","v":0},1,null,null,null,null,null,null,null,null,{"$f":"Vstupy!AO86","v":0},null,null,null,null,null,null,null,null,null,null,null,null,null,null,null,null,null,null,null,null,null,null,null,null,null,null,null,null,null,null,null,null,null,null,null,null,null,null,null,null,null,null,null,null,null,null,null,null,null,null,null,null,null,null,null,null,null,null,null,null,null,null,null,null,null,null,null,null,null,{"$f":"ROW()","v":236}]
[{"$f":"Vstupy!A$16","v":1},{"$f":"MAX(AM237:CB237)+B238","v":0},1,null,null,null,null,null,null,null,null,{"$f":"Vstupy!S87","v":"Auto - opravy, údržby náhradní díly"},null,null,null,null,null,null,null,null,null,null,null,null,null,null,null,null,null,null,null,null,{"$f":"IF(Vstupy!AE87=1,\"ročně\",IF(Vstupy!AE87=2,\"pololetně\",IF(Vstupy!AE87=4,\"čtvrtletně\",\"měsíčně\")))","v":"měsíčně"},null,null,null,null,null,{"$f":"Vstupy!AG87","v":0},null,null,null,null,null,null,null,null,null,null,null,null,null,null,null,null,null,null,null,null,null,null,null,null,null,null,null,null,"měsíčně",null,null,null,null,null,{"$f":"IF(Vstupy!AK87=\"\",AM237,Vstupy!AK87)","v":0},null,null,null,null,null,null,{"$f":"IF(Vstupy!AK87=\"\",\"\",\"!\")","v":""},{"$f":"ROW()","v":237}]
[{"$f":"Vstupy!A$16","v":1},{"$f":"IF(OR(L238=0,L238=\"\",L238=\" \",L238=\"  \"),0,1)","v":0},1,null,null,null,null,null,null,null,null,{"$f":"Vstupy!AO87","v":0},null,null,null,null,null,null,null,null,null,null,null,null,null,null,null,null,null,null,null,null,null,null,null,null,null,null,null,null,null,null,null,null,null,null,null,null,null,null,null,null,null,null,null,null,null,null,null,null,null,null,null,null,null,null,null,null,null,null,null,null,null,null,null,null,null,null,null,null,null,{"$f":"ROW()","v":238}]
[{"$f":"Vstupy!A$16","v":1},{"$f":"MAX(AM239:CB239)+B240","v":0},1,null,null,null,null,null,null,null,null,{"$f":"Vstupy!S88","v":"Jiné - zadejte"},null,null,null,null,null,null,null,null,null,null,null,null,null,null,null,null,null,null,null,null,{"$f":"IF(Vstupy!AE88=1,\"ročně\",IF(Vstupy!AE88=2,\"pololetně\",IF(Vstupy!AE88=4,\"čtvrtletně\",\"měsíčně\")))","v":"měsíčně"},null,null,null,null,null,{"$f":"Vstupy!AG88","v":0},null,null,null,null,null,null,null,null,null,null,null,null,null,null,null,null,null,null,null,null,null,null,null,null,null,null,null,null,"měsíčně",null,null,null,null,null,{"$f":"IF(Vstupy!AK88=\"\",AM239,Vstupy!AK88)","v":0},null,null,null,null,null,null,{"$f":"IF(Vstupy!AK88=\"\",\"\",\"!\")","v":""},{"$f":"ROW()","v":239}]
[{"$f":"Vstupy!A$16","v":1},{"$f":"IF(OR(L240=0,L240=\"\",L240=\" \",L240=\"  \"),0,1)","v":0},1,null,null,null,null,null,null,null,null,{"$f":"Vstupy!AO88","v":0},null,null,null,null,null,null,null,null,null,null,null,null,null,null,null,null,null,null,null,null,null,null,null,null,null,null,null,null,null,null,null,null,null,null,null,null,null,null,null,null,null,null,null,null,null,null,null,null,null,null,null,null,null,null,null,null,null,null,null,null,null,null,null,null,null,null,null,null,null,{"$f":"ROW()","v":240}]
[{"$f":"Vstupy!A$16","v":1},0,1,null,null,null,null,null,null,null,null,null,null,null,null,null,null,null,null,null,null,null,null,null,null,null,null,null,null,null,null,null,null,null,null,null,null,null,null,null,null,null,null,null,null,null,null,null,null,null,null,null,null,null,null,null,null,null,null,null,null,null,null,null,null,null,null,null,null,null,null,null,null,null,null,null,null,null,null,null,null,{"$f":"ROW()","v":241}]
[{"$f":"Vstupy!A$16","v":1},0,1,null,null,null,null,null,null,null,null,null,null,null,null,null,null,null,null,null,null,null,null,null,null,null,null,null,null,null,null,null,null,null,null,null,null,null,null,null,null,null,null,null,null,null,null,null,null,null,null,null,null,null,null,null,null,null,null,null,null,null,null,null,null,null,null,null,null,null,null,null,null,null,null,null,null,null,null,null,null,{"$f":"ROW()","v":242}]
[{"$f":"Vstupy!A$16","v":1},0,1,null,null,null,null,null,null,null,null,null,null,null,null,null,null,null,null,null,null,null,null,null,null,null,null,null,null,null,null,null,null,null,null,null,null,null,null,null,null,null,null,null,null,null,null,null,null,null,null,null,null,null,null,null,null,null,null,null,null,null,null,null,null,null,null,null,null,null,null,null,null,null,null,null,null,null,null,null,null,{"$f":"ROW()","v":243}]
[{"$f":"Vstupy!A$16","v":1},0,1,null,null,null,null,null,null,null,null,null,null,null,null,null,null,null,null,null,null,null,null,null,null,null,null,null,null,null,null,null,null,null,null,null,null,null,null,null,null,null,null,null,null,null,null,null,null,null,null,null,null,null,null,null,null,null,null,null,null,null,null,null,null,null,null,null,null,null,null,null,null,null,null,null,null,null,null,null,null,{"$f":"ROW()","v":244}]
[{"$f":"Vstupy!A$16","v":1},0,1,null,null,null,null,null,null,null,null,null,null,null,null,null,null,null,null,null,null,null,null,null,null,null,null,null,null,null,null,null,null,null,null,null,null,null,null,null,null,null,null,null,null,null,null,null,null,null,null,null,null,null,null,null,null,null,null,null,null,null,null,null,null,null,null,null,null,null,null,null,null,null,null,null,null,null,null,null,null,{"$f":"ROW()","v":245}]
[{"$f":"Vstupy!A$16","v":1},0,1,null,null,null,null,null,null,null,null,null,null,null,null,null,null,null,null,null,null,null,null,null,null,null,null,null,null,null,null,null,null,null,null,null,null,null,null,null,null,null,null,null,null,null,null,null,null,null,null,null,null,null,null,null,null,null,null,null,null,null,null,null,null,null,null,null,null,null,null,null,null,null,null,null,null,null,null,null,null,{"$f":"ROW()","v":246}]
[{"$f":"Vstupy!A$16","v":1},0,1,null,null,null,null,null,null,null,null,null,null,null,null,null,null,null,null,null,null,null,null,null,null,null,null,null,null,null,null,null,null,null,null,null,null,null,null,null,null,null,null,null,null,null,null,null,null,null,null,null,null,null,null,null,null,null,null,null,null,null,null,null,null,null,null,null,null,null,null,null,null,null,null,null,null,null,null,null,null,{"$f":"ROW()","v":247}]
[{"$f":"Vstupy!A$16","v":1},0,1,null,null,null,null,null,null,null,null,null,null,null,null,null,null,null,null,null,null,null,null,null,null,null,null,null,null,null,null,null,null,null,null,null,null,null,null,null,null,null,null,null,null,null,null,null,null,null,null,null,null,null,null,null,null,null,null,null,null,null,null,null,null,null,null,null,null,null,null,null,null,null,null,null,null,null,null,null,null,{"$f":"ROW()","v":248}]
[{"$f":"Vstupy!A$16","v":1},0,1,null,null,null,null,null,null,null,null,null,null,null,null,null,null,null,null,null,null,null,null,null,null,null,null,null,null,null,null,null,null,null,null,null,null,null,null,null,null,null,null,null,null,null,null,null,null,null,null,null,null,null,null,null,null,null,null,null,null,null,null,null,null,null,null,null,null,null,null,null,null,null,null,null,null,null,null,null,null,{"$f":"ROW()","v":249}]
[{"$f":"Vstupy!A$16","v":1},{"$f":"MAX(AM250:CB250)","v":0},1,null,null,null,null,null,null,null,null,null,null,null,null,null,null,null,null,null,null,null,null,null,null,null,null,null,null,null,null,null,"∑ měsíčně",null,null,null,null,null,{"$f":"Vstupy!AG94","v":0},null,null,null,null,null,null,null,null,null,null,null,null,null,null,null,null,null,null,null,null,null,null,null,null,null,null,null,null,"∑ měsíčně",null,null,null,null,null,{"$f":"Vstupy!AK94","v":0},null,null,null,null,null,null,null,{"$f":"ROW()","v":250}]
[{"$f":"Vstupy!A$16","v":1},{"$f":"B252","v":0},1,null,null,null,null,null,null,null,null,null,null,null,null,null,null,null,null,null,null,null,null,null,null,null,null,null,null,null,null,null,null,null,null,null,null,null,null,null,null,null,null,null,null,null,null,null,null,null,null,null,null,null,null,null,null,null,null,null,null,null,null,null,null,null,null,null,null,null,null,null,null,null,null,null,null,null,null,null,null,{"$f":"ROW()","v":251}]
[{"$f":"Vstupy!A$16","v":1},{"$f":"SUM(B253:B271)","v":0},1,null,null,null,null,null,null,null,null,{"$f":"Vstupy!S95","v":"Pojištění osob / zajištění příjmu - stav"},null,null,null,null,null,null,null,null,null,null,null,null,null,null,null,null,null,null,null,null,null,null,null,null,null,null,null,null,null,null,null,null,null,"Doporučení",null,null,null,null,null,null,null,null,null,null,null,null,null,null,null,null,null,null,null,null,null,null,null,null,null,null,null,null,null,null,null,null,null,null,null,{"$f":"ROW()","v":252}]
[{"$f":"Vstupy!A$16","v":1},{"$f":"MAX(AM253:CB253)+B254","v":0},1,null,null,null,null,null,null,null,null,{"$f":"Vstupy!S96","v":0},null,null,null,null,null,null,null,null,null,null,null,null,null,null,null,null,null,null,null,null,{"$f":"IF(Vstupy!AE96=1,\"ročně\",IF(Vstupy!AE96=2,\"pololetně\",IF(Vstupy!AE96=4,\"čtvrtletně\",\"měsíčně\")))","v":"měsíčně"},null,null,null,null,null,{"$f":"Vstupy!AG96","v":0},null,null,null,null,null,null,{"$f":"Vstupy!AK96","v":0},null,null,null,null,null,null,null,null,null,null,null,null,null,null,null,null,null,null,null,null,null,{"$f":"IF(Vstupy!AY96=\"\",AG253,IF(Vstupy!AW96=1,\"ročně\",IF(Vstupy!AW96=2,\"pololetně\",IF(Vstupy!AW96=4,\"čtvrtletně\",\"měsíčně\"))))","v":"měsíčně"},null,null,null,null,null,{"$f":"IF(Vstupy!AY96=\"\",AM253,Vstupy!AY96)","v":0},null,null,null,null,null,null,{"$f":"IF(Vstupy!AY96=\"\",\"\",\"!\")","v":""},{"$f":"ROW()","v":253}]
[{"$f":"Vstupy!A$16","v":1},{"$f":"IF(OR(L254=0,L254=\"\",L254=\" \",L254=\"  \"),0,1)","v":0},1,null,null,null,null,null,null,null,null,{"$f":"Vstupy!BC96","v":0},null,null,null,null,null,null,null,null,null,null,null,null,null,null,null,null,null,null,null,null,null,null,null,null,null,null,null,null,null,null,null,null,null,null,null,null,null,null,null,null,null,null,null,null,null,null,null,null,null,null,null,null,null,null,null,null,null,null,null,null,null,null,null,null,null,null,null,null,null,{"$f":"ROW()","v":254}]
[{"$f":"Vstupy!A$16","v":1},{"$f":"MAX(AM255:CB255)+B256","v":0},1,null,null,null,null,null,null,null,null,{"$f":"Vstupy!S97","v":0},null,null,null,null,null,null,null,null,null,null,null,null,null,null,null,null,null,null,null,null,{"$f":"IF(Vstupy!AE97=1,\"ročně\",IF(Vstupy!AE97=2,\"pololetně\",IF(Vstupy!AE97=4,\"čtvrtletně\",\"měsíčně\")))","v":"měsíčně"},null,null,null,null,null,{"$f":"Vstupy!AG97","v":0},null,null,null,null,null,null,{"$f":"Vstupy!AK97","v":0},null,null,null,null,null,null,null,null,null,null,null,null,null,null,null,null,null,null,null,null,null,{"$f":"IF(Vstupy!AY97=\"\",AG255,IF(Vstupy!AW97=1,\"ročně\",IF(Vstupy!AW97=2,\"pololetně\",IF(Vstupy!AW97=4,\"čtvrtletně\",\"měsíčně\"))))","v":"měsíčně"},null,null,null,null,null,{"$f":"IF(Vstupy!AY97=\"\",AM255,Vstupy!AY97)","v":0},null,null,null,null,null,null,{"$f":"IF(Vstupy!AY97=\"\",\"\",\"!\")","v":""},{"$f":"ROW()","v":255}]
[{"$f":"Vstupy!A$16","v":1},{"$f":"IF(OR(L256=0,L256=\"\",L256=\" \",L256=\"  \"),0,1)","v":0},1,null,null,null,null,null,null,null,null,{"$f":"Vstupy!BC97","v":0},null,null,null,null,null,null,null,null,null,null,null,null,null,null,null,null,null,null,null,null,null,null,null,null,null,null,null,null,null,null,null,null,null,null,null,null,null,null,null,null,null,null,null,null,null,null,null,null,null,null,null,null,null,null,null,null,null,null,null,null,null,null,null,null,null,null,null,null,null,{"$f":"ROW()","v":256}]
[{"$f":"Vstupy!A$16","v":1},{"$f":"MAX(AM257:CB257)+B258","v":0},1,null,null,null,null,null,null,null,null,{"$f":"Vstupy!S98","v":0},null,null,null,null,null,null,null,null,null,null,null,null,null,null,null,null,null,null,null,null,{"$f":"IF(Vstupy!AE98=1,\"ročně\",IF(Vstupy!AE98=2,\"pololetně\",IF(Vstupy!AE98=4,\"čtvrtletně\",\"měsíčně\")))","v":"měsíčně"},null,null,null,null,null,{"$f":"Vstupy!AG98","v":0},null,null,null,null,null,null,{"$f":"Vstupy!AK98","v":0},null,null,null,null,null,null,null,null,null,null,null,null,null,null,null,null,null,null,null,null,null,{"$f":"IF(Vstupy!AY98=\"\",AG257,IF(Vstupy!AW98=1,\"ročně\",IF(Vstupy!AW98=2,\"pololetně\",IF(Vstupy!AW98=4,\"čtvrtletně\",\"měsíčně\"))))","v":"měsíčně"},null,null,null,null,null,{"$f":"IF(Vstupy!AY98=\"\",AM257,Vstupy!AY98)","v":0},null,null,null,null,null,null,{"$f":"IF(Vstupy!AY98=\"\",\"\",\"!\")","v":""},{"$f":"ROW()","v":257}]
[{"$f":"Vstupy!A$16","v":1},{"$f":"IF(OR(L258=0,L258=\"\",L258=\" \",L258=\"  \"),0,1)","v":0},1,null,null,null,null,null,null,null,null,{"$f":"Vstupy!BC98","v":0},null,null,null,null,null,null,null,null,null,null,null,null,null,null,null,null,null,null,null,null,null,null,null,null,null,null,null,null,null,null,null,null,null,null,null,null,null,null,null,null,null,null,null,null,null,null,null,null,null,null,null,null,null,null,null,null,null,null,null,null,null,null,null,null,null,null,null,null,null,{"$f":"ROW()","v":258}]
[{"$f":"Vstupy!A$16","v":1},{"$f":"MAX(AM259:CB259)+B260","v":0},1,null,null,null,null,null,null,null,null,{"$f":"Vstupy!S99","v":0},null,null,null,null,null,null,null,null,null,null,null,null,null,null,null,null,null,null,null,null,{"$f":"IF(Vstupy!AE99=1,\"ročně\",IF(Vstupy!AE99=2,\"pololetně\",IF(Vstupy!AE99=4,\"čtvrtletně\",\"měsíčně\")))","v":"měsíčně"},null,null,null,null,null,{"$f":"Vstupy!AG99","v":0},null,null,null,null,null,null,{"$f":"Vstupy!AK99","v":0},null,null,null,null,null,null,null,null,null,null,null,null,null,null,null,null,null,null,null,null,null,{"$f":"IF(Vstupy!AY99=\"\",AG259,IF(Vstupy!AW99=1,\"ročně\",IF(Vstupy!AW99=2,\"pololetně\",IF(Vstupy!AW99=4,\"čtvrtletně\",\"měsíčně\"))))","v":"měsíčně"},null,null,null,null,null,{"$f":"IF(Vstupy!AY99=\"\",AM259,Vstupy!AY99)","v":0},null,null,null,null,null,null,{"$f":"IF(Vstupy!AY99=\"\",\"\",\"!\")","v":""},{"$f":"ROW()","v":259}]
[{"$f":"Vstupy!A$16","v":1},{"$f":"IF(OR(L260=0,L260=\"\",L260=\" \",L260=\"  \"),0,1)","v":0},1,null,null,null,null,null,null,null,null,{"$f":"Vstupy!BC99","v":0},null,null,null,null,null,null,null,null,null,null,null,null,null,null,null,null,null,null,null,null,null,null,null,null,null,null,null,null,null,null,null,null,null,null,null,null,null,null,null,null,null,null,null,null,null,null,null,null,null,null,null,null,null,null,null,null,null,null,null,null,null,null,null,null,null,null,null,null,null,{"$f":"ROW()","v":260}]
[{"$f":"Vstupy!A$16","v":1},{"$f":"MAX(AM261:CB261)+B262","v":0},1,null,null,null,null,null,null,null,null,{"$f":"Vstupy!S100","v":0},null,null,null,null,null,null,null,null,null,null,null,null,null,null,null,null,null,null,null,null,{"$f":"IF(Vstupy!AE100=1,\"ročně\",IF(Vstupy!AE100=2,\"pololetně\",IF(Vstupy!AE100=4,\"čtvrtletně\",\"měsíčně\")))","v":"měsíčně"},null,null,null,null,null,{"$f":"Vstupy!AG100","v":0},null,null,null,null,null,null,{"$f":"Vstupy!AK100","v":0},null,null,null,null,null,null,null,null,null,null,null,null,null,null,null,null,null,null,null,null,null,{"$f":"IF(Vstupy!AY100=\"\",AG261,IF(Vstupy!AW100=1,\"ročně\",IF(Vstupy!AW100=2,\"pololetně\",IF(Vstupy!AW100=4,\"čtvrtletně\",\"měsíčně\"))))","v":"měsíčně"},null,null,null,null,null,{"$f":"IF(Vstupy!AY100=\"\",AM261,Vstupy!AY100)","v":0},null,null,null,null,null,null,{"$f":"IF(Vstupy!AY100=\"\",\"\",\"!\")","v":""},{"$f":"ROW()","v":261}]
[{"$f":"Vstupy!A$16","v":1},{"$f":"IF(OR(L262=0,L262=\"\",L262=\" \",L262=\"  \"),0,1)","v":0},1,null,null,null,null,null,null,null,null,{"$f":"Vstupy!BC100","v":0},null,null,null,null,null,null,null,null,null,null,null,null,null,null,null,null,null,null,null,null,null,null,null,null,null,null,null,null,null,null,null,null,null,null,null,null,null,null,null,null,null,null,null,null,null,null,null,null,null,null,null,null,null,null,null,null,null,null,null,null,null,null,null,null,null,null,null,null,null,{"$f":"ROW()","v":262}]
[{"$f":"Vstupy!A$16","v":1},0,1,null,null,null,null,null,null,null,null,null,null,null,null,null,null,null,null,null,null,null,null,null,null,null,null,null,null,null,null,null,null,null,null,null,null,null,null,null,null,null,null,null,null,null,null,null,null,null,null,null,null,null,null,null,null,null,null,null,null,null,null,null,null,null,null,null,null,null,null,null,null,null,null,null,null,null,null,null,null,{"$f":"ROW()","v":263}]
[{"$f":"Vstupy!A$16","v":1},0,1,null,null,null,null,null,null,null,null,null,null,null,null,null,null,null,null,null,null,null,null,null,null,null,null,null,null,null,null,null,null,null,null,null,null,null,null,null,null,null,null,null,null,null,null,null,null,null,null,null,null,null,null,null,null,null,null,null,null,null,null,null,null,null,null,null,null,null,null,null,null,null,null,null,null,null,null,null,null,{"$f":"ROW()","v":264}]
[{"$f":"Vstupy!A$16","v":1},0,1,null,null,null,null,null,null,null,null,null,null,null,null,null,null,null,null,null,null,null,null,null,null,null,null,null,null,null,null,null,null,null,null,null,null,null,null,null,null,null,null,null,null,null,null,null,null,null,null,null,null,null,null,null,null,null,null,null,null,null,null,null,null,null,null,null,null,null,null,null,null,null,null,null,null,null,null,null,null,{"$f":"ROW()","v":265}]
[{"$f":"Vstupy!A$16","v":1},0,1,null,null,null,null,null,null,null,null,null,null,null,null,null,null,null,null,null,null,null,null,null,null,null,null,null,null,null,null,null,null,null,null,null,null,null,null,null,null,null,null,null,null,null,null,null,null,null,null,null,null,null,null,null,null,null,null,null,null,null,null,null,null,null,null,null,null,null,null,null,null,null,null,null,null,null,null,null,null,{"$f":"ROW()","v":266}]
[{"$f":"Vstupy!A$16","v":1},0,1,null,null,null,null,null,null,null,null,null,null,null,null,null,null,null,null,null,null,null,null,null,null,null,null,null,null,null,null,null,null,null,null,null,null,null,null,null,null,null,null,null,null,null,null,null,null,null,null,null,null,null,null,null,null,null,null,null,null,null,null,null,null,null,null,null,null,null,null,null,null,null,null,null,null,null,null,null,null,{"$f":"ROW()","v":267}]
[{"$f":"Vstupy!A$16","v":1},0,1,null,null,null,null,null,null,null,null,null,null,null,null,null,null,null,null,null,null,null,null,null,null,null,null,null,null,null,null,null,null,null,null,null,null,null,null,null,null,null,null,null,null,null,null,null,null,null,null,null,null,null,null,null,null,null,null,null,null,null,null,null,null,null,null,null,null,null,null,null,null,null,null,null,null,null,null,null,null,{"$f":"ROW()","v":268}]
[{"$f":"Vstupy!A$16","v":1},0,1,null,null,null,null,null,null,null,null,null,null,null,null,null,null,null,null,null,null,null,null,null,null,null,null,null,null,null,null,null,null,null,null,null,null,null,null,null,null,null,null,null,null,null,null,null,null,null,null,null,null,null,null,null,null,null,null,null,null,null,null,null,null,null,null,null,null,null,null,null,null,null,null,null,null,null,null,null,null,{"$f":"ROW()","v":269}]
[{"$f":"Vstupy!A$16","v":1},0,1,null,null,null,null,null,null,null,null,null,null,null,null,null,null,null,null,null,null,null,null,null,null,null,null,null,null,null,null,null,null,null,null,null,null,null,null,null,null,null,null,null,null,null,null,null,null,null,null,null,null,null,null,null,null,null,null,null,null,null,null,null,null,null,null,null,null,null,null,null,null,null,null,null,null,null,null,null,null,{"$f":"ROW()","v":270}]
[{"$f":"Vstupy!A$16","v":1},{"$f":"MAX(AM271:CB271)","v":0},1,null,null,null,null,null,null,null,null,null,null,null,null,null,null,null,null,null,null,null,null,null,null,null,null,null,null,null,null,null,"∑ měsíčně",null,null,null,null,null,{"$f":"Vstupy!AG106","v":0},null,null,null,null,null,null,null,null,null,null,null,null,null,null,null,null,null,null,null,null,null,null,null,null,null,null,null,null,"∑ měsíčně",null,null,null,null,null,{"$f":"Vstupy!AY106","v":0},null,null,null,null,null,null,null,{"$f":"ROW()","v":271}]
[{"$f":"Vstupy!A$16","v":1},{"$f":"B273","v":0},1,null,null,null,null,null,null,null,null,null,null,null,null,null,null,null,null,null,null,null,null,null,null,null,null,null,null,null,null,null,null,null,null,null,null,null,null,null,null,null,null,null,null,null,null,null,null,null,null,null,null,null,null,null,null,null,null,null,null,null,null,null,null,null,null,null,null,null,null,null,null,null,null,null,null,null,null,null,null,{"$f":"ROW()","v":272}]
[{"$f":"Vstupy!A$16","v":1},{"$f":"SUM(B274:B292)","v":0},1,null,null,null,null,null,null,null,null,{"$f":"Vstupy!S107","v":"Poj. majetku, auta, odpovědnosti - stav"},null,null,null,null,null,null,null,null,null,null,null,null,null,null,null,null,null,null,null,null,null,null,null,null,null,null,null,null,null,null,null,null,null,"Doporučení",null,null,null,null,null,null,null,null,null,null,null,null,null,null,null,null,null,null,null,null,null,null,null,null,null,null,null,null,null,null,null,null,null,null,null,{"$f":"ROW()","v":273}]
[{"$f":"Vstupy!A$16","v":1},{"$f":"MAX(AM274:CB274)+B275","v":0},1,null,null,null,null,null,null,null,null,{"$f":"Vstupy!S108","v":0},null,null,null,null,null,null,null,null,null,null,null,null,null,null,null,null,null,null,null,null,{"$f":"IF(Vstupy!AE108=1,\"ročně\",IF(Vstupy!AE108=2,\"pololetně\",IF(Vstupy!AE108=4,\"čtvrtletně\",\"měsíčně\")))","v":"měsíčně"},null,null,null,null,null,{"$f":"Vstupy!AG108","v":0},null,null,null,null,null,null,{"$f":"Vstupy!AK108","v":0},null,null,null,null,null,null,null,null,null,null,null,null,null,null,null,null,null,null,null,null,null,{"$f":"IF(Vstupy!AY108=\"\",AG274,IF(Vstupy!AW108=1,\"ročně\",IF(Vstupy!AW108=2,\"pololetně\",IF(Vstupy!AW108=4,\"čtvrtletně\",\"měsíčně\"))))","v":"měsíčně"},null,null,null,null,null,{"$f":"IF(Vstupy!AY108=\"\",AM274,Vstupy!AY108)","v":0},null,null,null,null,null,null,{"$f":"IF(Vstupy!AY108=\"\",\"\",\"!\")","v":""},{"$f":"ROW()","v":274}]
[{"$f":"Vstupy!A$16","v":1},{"$f":"IF(OR(L275=0,L275=\"\",L275=\" \",L275=\"  \"),0,1)","v":0},1,null,null,null,null,null,null,null,null,{"$f":"Vstupy!BC108","v":0},null,null,null,null,null,null,null,null,null,null,null,null,null,null,null,null,null,null,null,null,null,null,null,null,null,null,null,null,null,null,null,null,null,null,null,null,null,null,null,null,null,null,null,null,null,null,null,null,null,null,null,null,null,null,null,null,null,null,null,null,null,null,null,null,null,null,null,null,null,{"$f":"ROW()","v":275}]
[{"$f":"Vstupy!A$16","v":1},{"$f":"MAX(AM276:CB276)+B277","v":0},1,null,null,null,null,null,null,null,null,{"$f":"Vstupy!S109","v":0},null,null,null,null,null,null,null,null,null,null,null,null,null,null,null,null,null,null,null,null,{"$f":"IF(Vstupy!AE109=1,\"ročně\",IF(Vstupy!AE109=2,\"pololetně\",IF(Vstupy!AE109=4,\"čtvrtletně\",\"měsíčně\")))","v":"měsíčně"},null,null,null,null,null,{"$f":"Vstupy!AG109","v":0},null,null,null,null,null,null,{"$f":"Vstupy!AK109","v":0},null,null,null,null,null,null,null,null,null,null,null,null,null,null,null,null,null,null,null,null,null,{"$f":"IF(Vstupy!AY109=\"\",AG276,IF(Vstupy!AW109=1,\"ročně\",IF(Vstupy!AW109=2,\"pololetně\",IF(Vstupy!AW109=4,\"čtvrtletně\",\"měsíčně\"))))","v":"měsíčně"},null,null,null,null,null,{"$f":"IF(Vstupy!AY109=\"\",AM276,Vstupy!AY109)","v":0},null,null,null,null,null,null,{"$f":"IF(Vstupy!AY109=\"\",\"\",\"!\")","v":""},{"$f":"ROW()","v":276}]
[{"$f":"Vstupy!A$16","v":1},{"$f":"IF(OR(L277=0,L277=\"\",L277=\" \",L277=\"  \"),0,1)","v":0},1,null,null,null,null,null,null,null,null,{"$f":"Vstupy!BC109","v":0},null,null,null,null,null,null,null,null,null,null,null,null,null,null,null,null,null,null,null,null,null,null,null,null,null,null,null,null,null,null,null,null,null,null,null,null,null,null,null,null,null,null,null,null,null,null,null,null,null,null,null,null,null,null,null,null,null,null,null,null,null,null,null,null,null,null,null,null,null,{"$f":"ROW()","v":277}]
[{"$f":"Vstupy!A$16","v":1},{"$f":"MAX(AM278:CB278)+B279","v":0},1,null,null,null,null,null,null,null,null,{"$f":"Vstupy!S110","v":0},null,null,null,null,null,null,null,null,null,null,null,null,null,null,null,null,null,null,null,null,{"$f":"IF(Vstupy!AE110=1,\"ročně\",IF(Vstupy!AE110=2,\"pololetně\",IF(Vstupy!AE110=4,\"čtvrtletně\",\"měsíčně\")))","v":"měsíčně"},null,null,null,null,null,{"$f":"Vstupy!AG110","v":0},null,null,null,null,null,null,{"$f":"Vstupy!AK110","v":0},null,null,null,null,null,null,null,null,null,null,null,null,null,null,null,null,null,null,null,null,null,{"$f":"IF(Vstupy!AY110=\"\",AG278,IF(Vstupy!AW110=1,\"ročně\",IF(Vstupy!AW110=2,\"pololetně\",IF(Vstupy!AW110=4,\"čtvrtletně\",\"měsíčně\"))))","v":"měsíčně"},null,null,null,null,null,{"$f":"IF(Vstupy!AY110=\"\",AM278,Vstupy!AY110)","v":0},null,null,null,null,null,null,{"$f":"IF(Vstupy!AY110=\"\",\"\",\"!\")","v":""},{"$f":"ROW()","v":278}]
[{"$f":"Vstupy!A$16","v":1},{"$f":"IF(OR(L279=0,L279=\"\",L279=\" \",L279=\"  \"),0,1)","v":0},1,null,null,null,null,null,null,null,null,{"$f":"Vstupy!BC110","v":0},null,null,null,null,null,null,null,null,null,null,null,null,null,null,null,null,null,null,null,null,null,null,null,null,null,null,null,null,null,null,null,null,null,null,null,null,null,null,null,null,null,null,null,null,null,null,null,null,null,null,null,null,null,null,null,null,null,null,null,null,null,null,null,null,null,null,null,null,null,{"$f":"ROW()","v":279}]
[{"$f":"Vstupy!A$16","v":1},{"$f":"MAX(AM280:CB280)+B281","v":0},1,null,null,null,null,null,null,null,null,{"$f":"Vstupy!S111","v":0},null,null,null,null,null,null,null,null,null,null,null,null,null,null,null,null,null,null,null,null,{"$f":"IF(Vstupy!AE111=1,\"ročně\",IF(Vstupy!AE111=2,\"pololetně\",IF(Vstupy!AE111=4,\"čtvrtletně\",\"měsíčně\")))","v":"měsíčně"},null,null,null,null,null,{"$f":"Vstupy!AG111","v":0},null,null,null,null,null,null,{"$f":"Vstupy!AK111","v":0},null,null,null,null,null,null,null,null,null,null,null,null,null,null,null,null,null,null,null,null,null,{"$f":"IF(Vstupy!AY111=\"\",AG280,IF(Vstupy!AW111=1,\"ročně\",IF(Vstupy!AW111=2,\"pololetně\",IF(Vstupy!AW111=4,\"čtvrtletně\",\"měsíčně\"))))","v":"měsíčně"},null,null,null,null,null,{"$f":"IF(Vstupy!AY111=\"\",AM280,Vstupy!AY111)","v":0},null,null,null,null,null,null,{"$f":"IF(Vstupy!AY111=\"\",\"\",\"!\")","v":""},{"$f":"ROW()","v":280}]
[{"$f":"Vstupy!A$16","v":1},{"$f":"IF(OR(L281=0,L281=\"\",L281=\" \",L281=\"  \"),0,1)","v":0},1,null,null,null,null,null,null,null,null,{"$f":"Vstupy!BC111","v":0},null,null,null,null,null,null,null,null,null,null,null,null,null,null,null,null,null,null,null,null,null,null,null,null,null,null,null,null,null,null,null,null,null,null,null,null,null,null,null,null,null,null,null,null,null,null,null,null,null,null,null,null,null,null,null,null,null,null,null,null,null,null,null,null,null,null,null,null,null,{"$f":"ROW()","v":281}]
[{"$f":"Vstupy!A$16","v":1},{"$f":"MAX(AM282:CB282)+B283","v":0},1,null,null,null,null,null,null,null,null,{"$f":"Vstupy!S112","v":0},null,null,null,null,null,null,null,null,null,null,null,null,null,null,null,null,null,null,null,null,{"$f":"IF(Vstupy!AE112=1,\"ročně\",IF(Vstupy!AE112=2,\"pololetně\",IF(Vstupy!AE112=4,\"čtvrtletně\",\"měsíčně\")))","v":"měsíčně"},null,null,null,null,null,{"$f":"Vstupy!AG112","v":0},null,null,null,null,null,null,{"$f":"Vstupy!AK112","v":0},null,null,null,null,null,null,null,null,null,null,null,null,null,null,null,null,null,null,null,null,null,{"$f":"IF(Vstupy!AY112=\"\",AG282,IF(Vstupy!AW112=1,\"ročně\",IF(Vstupy!AW112=2,\"pololetně\",IF(Vstupy!AW112=4,\"čtvrtletně\",\"měsíčně\"))))","v":"měsíčně"},null,null,null,null,null,{"$f":"IF(Vstupy!AY112=\"\",AM282,Vstupy!AY112)","v":0},null,null,null,null,null,null,{"$f":"IF(Vstupy!AY112=\"\",\"\",\"!\")","v":""},{"$f":"ROW()","v":282}]
[{"$f":"Vstupy!A$16","v":1},{"$f":"IF(OR(L283=0,L283=\"\",L283=\" \",L283=\"  \"),0,1)","v":0},1,null,null,null,null,null,null,null,null,{"$f":"Vstupy!BC112","v":0},null,null,null,null,null,null,null,null,null,null,null,null,null,null,null,null,null,null,null,null,null,null,null,null,null,null,null,null,null,null,null,null,null,null,null,null,null,null,null,null,null,null,null,null,null,null,null,null,null,null,null,null,null,null,null,null,null,null,null,null,null,null,null,null,null,null,null,null,null,{"$f":"ROW()","v":283}]
[{"$f":"Vstupy!A$16","v":1},{"$f":"MAX(AM284:CB284)+B285","v":0},1,null,null,null,null,null,null,null,null,{"$f":"Vstupy!S113","v":0},null,null,null,null,null,null,null,null,null,null,null,null,null,null,null,null,null,null,null,null,{"$f":"IF(Vstupy!AE113=1,\"ročně\",IF(Vstupy!AE113=2,\"pololetně\",IF(Vstupy!AE113=4,\"čtvrtletně\",\"měsíčně\")))","v":"měsíčně"},null,null,null,null,null,{"$f":"Vstupy!AG113","v":0},null,null,null,null,null,null,{"$f":"Vstupy!AK113","v":0},null,null,null,null,null,null,null,null,null,null,null,null,null,null,null,null,null,null,null,null,null,{"$f":"IF(Vstupy!AY113=\"\",AG284,IF(Vstupy!AW113=1,\"ročně\",IF(Vstupy!AW113=2,\"pololetně\",IF(Vstupy!AW113=4,\"čtvrtletně\",\"měsíčně\"))))","v":"měsíčně"},null,null,null,null,null,{"$f":"IF(Vstupy!AY113=\"\",AM284,Vstupy!AY113)","v":0},null,null,null,null,null,null,{"$f":"IF(Vstupy!AY113=\"\",\"\",\"!\")","v":""},{"$f":"ROW()","v":284}]
[{"$f":"Vstupy!A$16","v":1},{"$f":"IF(OR(L285=0,L285=\"\",L285=\" \",L285=\"  \"),0,1)","v":0},1,null,null,null,null,null,null,null,null,{"$f":"Vstupy!BC113","v":0},null,null,null,null,null,null,null,null,null,null,null,null,null,null,null,null,null,null,null,null,null,null,null,null,null,null,null,null,null,null,null,null,null,null,null,null,null,null,null,null,null,null,null,null,null,null,null,null,null,null,null,null,null,null,null,null,null,null,null,null,null,null,null,null,null,null,null,null,null,{"$f":"ROW()","v":285}]
[{"$f":"Vstupy!A$16","v":1},{"$f":"MAX(AM286:CB286)+B287","v":0},1,null,null,null,null,null,null,null,null,{"$f":"Vstupy!S114","v":0},null,null,null,null,null,null,null,null,null,null,null,null,null,null,null,null,null,null,null,null,{"$f":"IF(Vstupy!AE114=1,\"ročně\",IF(Vstupy!AE114=2,\"pololetně\",IF(Vstupy!AE114=4,\"čtvrtletně\",\"měsíčně\")))","v":"měsíčně"},null,null,null,null,null,{"$f":"Vstupy!AG114","v":0},null,null,null,null,null,null,{"$f":"Vstupy!AK114","v":0},null,null,null,null,null,null,null,null,null,null,null,null,null,null,null,null,null,null,null,null,null,{"$f":"IF(Vstupy!AY114=\"\",AG286,IF(Vstupy!AW114=1,\"ročně\",IF(Vstupy!AW114=2,\"pololetně\",IF(Vstupy!AW114=4,\"čtvrtletně\",\"měsíčně\"))))","v":"měsíčně"},null,null,null,null,null,{"$f":"IF(Vstupy!AY114=\"\",AM286,Vstupy!AY114)","v":0},null,null,null,null,null,null,{"$f":"IF(Vstupy!AY114=\"\",\"\",\"!\")","v":""},{"$f":"ROW()","v":286}]
[{"$f":"Vstupy!A$16","v":1},{"$f":"IF(OR(L287=0,L287=\"\",L287=\" \",L287=\"  \"),0,1)","v":0},1,null,null,null,null,null,null,null,null,{"$f":"Vstupy!BC114","v":0},null,null,null,null,null,null,null,null,null,null,null,null,null,null,null,null,null,null,null,null,null,null,null,null,null,null,null,null,null,null,null,null,null,null,null,null,null,null,null,null,null,null,null,null,null,null,null,null,null,null,null,null,null,null,null,null,null,null,null,null,null,null,null,null,null,null,null,null,null,{"$f":"ROW()","v":287}]
[{"$f":"Vstupy!A$16","v":1},0,1,null,null,null,null,null,null,null,null,null,null,null,null,null,null,null,null,null,null,null,null,null,null,null,null,null,null,null,null,null,null,null,null,null,null,null,null,null,null,null,null,null,null,null,null,null,null,null,null,null,null,null,null,null,null,null,null,null,null,null,null,null,null,null,null,null,null,null,null,null,null,null,null,null,null,null,null,null,null,{"$f":"ROW()","v":288}]
[{"$f":"Vstupy!A$16","v":1},0,1,null,null,null,null,null,null,null,null,null,null,null,null,null,null,null,null,null,null,null,null,null,null,null,null,null,null,null,null,null,null,null,null,null,null,null,null,null,null,null,null,null,null,null,null,null,null,null,null,null,null,null,null,null,null,null,null,null,null,null,null,null,null,null,null,null,null,null,null,null,null,null,null,null,null,null,null,null,null,{"$f":"ROW()","v":289}]
[{"$f":"Vstupy!A$16","v":1},0,1,null,null,null,null,null,null,null,null,null,null,null,null,null,null,null,null,null,null,null,null,null,null,null,null,null,null,null,null,null,null,null,null,null,null,null,null,null,null,null,null,null,null,null,null,null,null,null,null,null,null,null,null,null,null,null,null,null,null,null,null,null,null,null,null,null,null,null,null,null,null,null,null,null,null,null,null,null,null,{"$f":"ROW()","v":290}]
[{"$f":"Vstupy!A$16","v":1},0,1,null,null,null,null,null,null,null,null,null,null,null,null,null,null,null,null,null,null,null,null,null,null,null,null,null,null,null,null,null,null,null,null,null,null,null,null,null,null,null,null,null,null,null,null,null,null,null,null,null,null,null,null,null,null,null,null,null,null,null,null,null,null,null,null,null,null,null,null,null,null,null,null,null,null,null,null,null,null,{"$f":"ROW()","v":291}]
[{"$f":"Vstupy!A$16","v":1},{"$f":"MAX(AM292:CB292)","v":0},1,null,null,null,null,null,null,null,null,null,null,null,null,null,null,null,null,null,null,null,null,null,null,null,null,null,null,null,null,null,"∑ měsíčně",null,null,null,null,null,{"$f":"Vstupy!AG120","v":0},null,null,null,null,null,null,null,null,null,null,null,null,null,null,null,null,null,null,null,null,null,null,null,null,null,null,null,null,"∑ měsíčně",null,null,null,null,null,{"$f":"Vstupy!AY120","v":0},null,null,null,null,null,null,null,{"$f":"ROW()","v":292}]
[{"$f":"Vstupy!A$16","v":1},1,1,null,null,null,null,null,null,null,null,null,null,null,null,null,null,null,null,null,null,null,null,null,null,null,null,null,null,null,null,null,null,null,null,null,null,null,null,null,null,null,null,null,null,null,null,null,null,null,null,null,null,null,null,null,null,null,null,null,null,null,null,null,null,null,null,null,null,null,null,null,null,null,null,null,null,null,null,null,null,{"$f":"ROW()","v":293}]
[{"$f":"Vstupy!A$16","v":1},1,1,null,null,null,null,null,null,null,null,"Finanční plán OVB",null,null,null,null,null,null,null,null,null,null,null,null,null,null,null,null,null,null,null,null,null,null,null,null,null,null,null,null,null,null,null,null,null,null,null,null,null,null,null,null,null,null,null,null,null,null,null,null,null,null,null,null,null,null,null,null,null,null,null,null,null,null,null,null,null,null,null,null,null,{"$f":"ROW()","v":294}]
[{"$f":"Vstupy!A$16","v":1},1,1,null,null,null,null,null,null,null,null,{"$f":"Vstupy!AF$9 & \" \" & Vstupy!AI$10","v":" "},null,null,null,null,null,null,null,null,null,null,null,null,null,null,null,null,null,null,null,null,null,null,null,null,null,null,null,null,null,null,null,null,null,null,null,null,null,null,null,null,null,null,null,null,null,null,null,null,null,null,null,null,null,null,null,null,null,null,null,null,null,null,null,null,null,null,null,null,null,{"$f":"ROW()","v":295}]
[{"$f":"Vstupy!A$16","v":1},1,1,null,null,null,null,null,null,null,null,null,{"$f":"Vstupy!S62","v":"Analýza příjmů a výdajů"},null,null,null,null,null,null,null,null,null,null,null,null,null,null,null,null,null,null,null,null,null,null,null,null,null,null,null,null,null,null,null,null,null,null,null,null,null,null,null,null,null,null,null,null,null,null,null,null,null,null,null,null,null,null,null,null,null,null,null,null,null,null,null,null,null,null,null,null,{"$f":"ROW()","v":296}]
[{"$f":"Vstupy!A$16","v":1},{"$f":"B298","v":0},1,null,null,null,null,null,null,null,null,null,null,null,null,null,null,null,null,null,null,null,null,null,null,null,null,null,null,null,null,null,null,null,null,null,null,null,null,null,null,null,null,null,null,null,null,null,null,null,null,null,null,null,null,null,null,null,null,null,null,null,null,null,null,null,null,null,null,null,null,null,null,null,null,null,null,null,null,null,null,{"$f":"ROW()","v":297}]
[{"$f":"Vstupy!A$16","v":1},{"$f":"SUM(B299:B325)","v":0},1,null,null,null,null,null,null,null,null,{"$f":"Vstupy!S121","v":"Spoření, investice - stav"},null,null,null,null,null,null,null,null,null,null,null,null,null,null,null,null,null,null,null,"Naspořeno",null,null,null,null,null,null,null,null,null,null,null,null,null,"Doporučení",null,null,null,null,null,null,null,null,null,null,null,null,null,null,null,null,null,null,null,null,null,null,null,null,null,null,null,null,null,null,null,null,null,null,null,{"$f":"ROW()","v":298}]
[{"$f":"Vstupy!A$16","v":1},{"$f":"MAX(X299:CB299)+B300","v":0},1,null,null,null,null,null,null,null,null,{"$f":"Vstupy!S122","v":0},null,null,null,null,null,null,null,null,null,null,null,null,null,{"$f":"Vstupy!AA122","v":0},null,null,null,null,null,null,{"$f":"IF(Vstupy!AE122=1,\"ročně\",IF(Vstupy!AE122=2,\"pololetně\",IF(Vstupy!AE122=4,\"čtvrtletně\",\"měsíčně\")))","v":"měsíčně"},null,null,null,null,null,{"$f":"Vstupy!AG122","v":0},null,null,null,null,null,null,{"$f":"Vstupy!AK122","v":0},null,null,null,null,null,null,null,null,null,null,null,null,null,null,null,null,null,null,null,null,null,{"$f":"IF(Vstupy!AY122=\"\",AG299,IF(Vstupy!AW122=1,\"ročně\",IF(Vstupy!AW122=2,\"pololetně\",IF(Vstupy!AW122=4,\"čtvrtletně\",\"měsíčně\"))))","v":"měsíčně"},null,null,null,null,null,{"$f":"IF(Vstupy!AY122=\"\",AM299,Vstupy!AY122)","v":0},null,null,null,null,null,null,{"$f":"IF(Vstupy!AY122=\"\",\"\",\"!\")","v":""},{"$f":"ROW()","v":299}]
[{"$f":"Vstupy!A$16","v":1},{"$f":"IF(OR(L300=0,L300=\"\",L300=\" \",L300=\"  \"),0,1)","v":0},1,null,null,null,null,null,null,null,null,{"$f":"Vstupy!BC122","v":0},null,null,null,null,null,null,null,null,null,null,null,null,null,null,null,null,null,null,null,null,null,null,null,null,null,null,null,null,null,null,null,null,null,null,null,null,null,null,null,null,null,null,null,null,null,null,null,null,null,null,null,null,null,null,null,null,null,null,null,null,null,null,null,null,null,null,null,null,null,{"$f":"ROW()","v":300}]
[{"$f":"Vstupy!A$16","v":1},{"$f":"MAX(X301:CB301)+B302","v":0},1,null,null,null,null,null,null,null,null,{"$f":"Vstupy!S123","v":0},null,null,null,null,null,null,null,null,null,null,null,null,null,{"$f":"Vstupy!AA123","v":0},null,null,null,null,null,null,{"$f":"IF(Vstupy!AE123=1,\"ročně\",IF(Vstupy!AE123=2,\"pololetně\",IF(Vstupy!AE123=4,\"čtvrtletně\",\"měsíčně\")))","v":"měsíčně"},null,null,null,null,null,{"$f":"Vstupy!AG123","v":0},null,null,null,null,null,null,{"$f":"Vstupy!AK123","v":0},null,null,null,null,null,null,null,null,null,null,null,null,null,null,null,null,null,null,null,null,null,{"$f":"IF(Vstupy!AY123=\"\",AG301,IF(Vstupy!AW123=1,\"ročně\",IF(Vstupy!AW123=2,\"pololetně\",IF(Vstupy!AW123=4,\"čtvrtletně\",\"měsíčně\"))))","v":"měsíčně"},null,null,null,null,null,{"$f":"IF(Vstupy!AY123=\"\",AM301,Vstupy!AY123)","v":0},null,null,null,null,null,null,{"$f":"IF(Vstupy!AY123=\"\",\"\",\"!\")","v":""},{"$f":"ROW()","v":301}]
[{"$f":"Vstupy!A$16","v":1},{"$f":"IF(OR(L302=0,L302=\"\",L302=\" \",L302=\"  \"),0,1)","v":0},1,null,null,null,null,null,null,null,null,{"$f":"Vstupy!BC123","v":0},null,null,null,null,null,null,null,null,null,null,null,null,null,null,null,null,null,null,null,null,null,null,null,null,null,null,null,null,null,null,null,null,null,null,null,null,null,null,null,null,null,null,null,null,null,null,null,null,null,null,null,null,null,null,null,null,null,null,null,null,null,null,null,null,null,null,null,null,null,{"$f":"ROW()","v":302}]
[{"$f":"Vstupy!A$16","v":1},{"$f":"MAX(X303:CB303)+B304","v":0},1,null,null,null,null,null,null,null,null,{"$f":"Vstupy!S124","v":0},null,null,null,null,null,null,null,null,null,null,null,null,null,{"$f":"Vstupy!AA124","v":0},null,null,null,null,null,null,{"$f":"IF(Vstupy!AE124=1,\"ročně\",IF(Vstupy!AE124=2,\"pololetně\",IF(Vstupy!AE124=4,\"čtvrtletně\",\"měsíčně\")))","v":"měsíčně"},null,null,null,null,null,{"$f":"Vstupy!AG124","v":0},null,null,null,null,null,null,{"$f":"Vstupy!AK124","v":0},null,null,null,null,null,null,null,null,null,null,null,null,null,null,null,null,null,null,null,null,null,{"$f":"IF(Vstupy!AY124=\"\",AG303,IF(Vstupy!AW124=1,\"ročně\",IF(Vstupy!AW124=2,\"pololetně\",IF(Vstupy!AW124=4,\"čtvrtletně\",\"měsíčně\"))))","v":"měsíčně"},null,null,null,null,null,{"$f":"IF(Vstupy!AY124=\"\",AM303,Vstupy!AY124)","v":0},null,null,null,null,null,null,{"$f":"IF(Vstupy!AY124=\"\",\"\",\"!\")","v":""},{"$f":"ROW()","v":303}]
[{"$f":"Vstupy!A$16","v":1},{"$f":"IF(OR(L304=0,L304=\"\",L304=\" \",L304=\"  \"),0,1)","v":0},1,null,null,null,null,null,null,null,null,{"$f":"Vstupy!BC124","v":0},null,null,null,null,null,null,null,null,null,null,null,null,null,null,null,null,null,null,null,null,null,null,null,null,null,null,null,null,null,null,null,null,null,null,null,null,null,null,null,null,null,null,null,null,null,null,null,null,null,null,null,null,null,null,null,null,null,null,null,null,null,null,null,null,null,null,null,null,null,{"$f":"ROW()","v":304}]
[{"$f":"Vstupy!A$16","v":1},{"$f":"MAX(X305:CB305)+B306","v":0},1,null,null,null,null,null,null,null,null,{"$f":"Vstupy!S125","v":0},null,null,null,null,null,null,null,null,null,null,null,null,null,{"$f":"Vstupy!AA125","v":0},null,null,null,null,null,null,{"$f":"IF(Vstupy!AE125=1,\"ročně\",IF(Vstupy!AE125=2,\"pololetně\",IF(Vstupy!AE125=4,\"čtvrtletně\",\"měsíčně\")))","v":"měsíčně"},null,null,null,null,null,{"$f":"Vstupy!AG125","v":0},null,null,null,null,null,null,{"$f":"Vstupy!AK125","v":0},null,null,null,null,null,null,null,null,null,null,null,null,null,null,null,null,null,null,null,null,null,{"$f":"IF(Vstupy!AY125=\"\",AG305,IF(Vstupy!AW125=1,\"ročně\",IF(Vstupy!AW125=2,\"pololetně\",IF(Vstupy!AW125=4,\"čtvrtletně\",\"měsíčně\"))))","v":"měsíčně"},null,null,null,null,null,{"$f":"IF(Vstupy!AY125=\"\",AM305,Vstupy!AY125)","v":0},null,null,null,null,null,null,{"$f":"IF(Vstupy!AY125=\"\",\"\",\"!\")","v":""},{"$f":"ROW()","v":305}]
[{"$f":"Vstupy!A$16","v":1},{"$f":"IF(OR(L306=0,L306=\"\",L306=\" \",L306=\"  \"),0,1)","v":0},1,null,null,null,null,null,null,null,null,{"$f":"Vstupy!BC125","v":0},null,null,null,null,null,null,null,null,null,null,null,null,null,null,null,null,null,null,null,null,null,null,null,null,null,null,null,null,null,null,null,null,null,null,null,null,null,null,null,null,null,null,null,null,null,null,null,null,null,null,null,null,null,null,null,null,null,null,null,null,null,null,null,null,null,null,null,null,null,{"$f":"ROW()","v":306}]
[{"$f":"Vstupy!A$16","v":1},{"$f":"MAX(X307:CB307)+B308","v":0},1,null,null,null,null,null,null,null,null,{"$f":"Vstupy!S126","v":0},null,null,null,null,null,null,null,null,null,null,null,null,null,{"$f":"Vstupy!AA126","v":0},null,null,null,null,null,null,{"$f":"IF(Vstupy!AE126=1,\"ročně\",IF(Vstupy!AE126=2,\"pololetně\",IF(Vstupy!AE126=4,\"čtvrtletně\",\"měsíčně\")))","v":"měsíčně"},null,null,null,null,null,{"$f":"Vstupy!AG126","v":0},null,null,null,null,null,null,{"$f":"Vstupy!AK126","v":0},null,null,null,null,null,null,null,null,null,null,null,null,null,null,null,null,null,null,null,null,null,{"$f":"IF(Vstupy!AY126=\"\",AG307,IF(Vstupy!AW126=1,\"ročně\",IF(Vstupy!AW126=2,\"pololetně\",IF(Vstupy!AW126=4,\"čtvrtletně\",\"měsíčně\"))))","v":"měsíčně"},null,null,null,null,null,{"$f":"IF(Vstupy!AY126=\"\",AM307,Vstupy!AY126)","v":0},null,null,null,null,null,null,{"$f":"IF(Vstupy!AY126=\"\",\"\",\"!\")","v":""},{"$f":"ROW()","v":307}]
[{"$f":"Vstupy!A$16","v":1},{"$f":"IF(OR(L308=0,L308=\"\",L308=\" \",L308=\"  \"),0,1)","v":0},1,null,null,null,null,null,null,null,null,{"$f":"Vstupy!BC126","v":0},null,null,null,null,null,null,null,null,null,null,null,null,null,null,null,null,null,null,null,null,null,null,null,null,null,null,null,null,null,null,null,null,null,null,null,null,null,null,null,null,null,null,null,null,null,null,null,null,null,null,null,null,null,null,null,null,null,null,null,null,null,null,null,null,null,null,null,null,null,{"$f":"ROW()","v":308}]
[{"$f":"Vstupy!A$16","v":1},{"$f":"MAX(X309:CB309)+B310","v":0},1,null,null,null,null,null,null,null,null,{"$f":"Vstupy!S127","v":0},null,null,null,null,null,null,null,null,null,null,null,null,null,{"$f":"Vstupy!AA127","v":0},null,null,null,null,null,null,{"$f":"IF(Vstupy!AE127=1,\"ročně\",IF(Vstupy!AE127=2,\"pololetně\",IF(Vstupy!AE127=4,\"čtvrtletně\",\"měsíčně\")))","v":"měsíčně"},null,null,null,null,null,{"$f":"Vstupy!AG127","v":0},null,null,null,null,null,null,{"$f":"Vstupy!AK127","v":0},null,null,null,null,null,null,null,null,null,null,null,null,null,null,null,null,null,null,null,null,null,{"$f":"IF(Vstupy!AY127=\"\",AG309,IF(Vstupy!AW127=1,\"ročně\",IF(Vstupy!AW127=2,\"pololetně\",IF(Vstupy!AW127=4,\"čtvrtletně\",\"měsíčně\"))))","v":"měsíčně"},null,null,null,null,null,{"$f":"IF(Vstupy!AY127=\"\",AM309,Vstupy!AY127)","v":0},null,null,null,null,null,null,{"$f":"IF(Vstupy!AY127=\"\",\"\",\"!\")","v":""},{"$f":"ROW()","v":309}]
[{"$f":"Vstupy!A$16","v":1},{"$f":"IF(OR(L310=0,L310=\"\",L310=\" \",L310=\"  \"),0,1)","v":0},1,null,null,null,null,null,null,null,null,{"$f":"Vstupy!BC127","v":0},null,null,null,null,null,null,null,null,null,null,null,null,null,null,null,null,null,null,null,null,null,null,null,null,null,null,null,null,null,null,null,null,null,null,null,null,null,null,null,null,null,null,null,null,null,null,null,null,null,null,null,null,null,null,null,null,null,null,null,null,null,null,null,null,null,null,null,null,null,{"$f":"ROW()","v":310}]
[{"$f":"Vstupy!A$16","v":1},{"$f":"MAX(X311:CB311)+B312","v":0},1,null,null,null,null,null,null,null,null,{"$f":"Vstupy!S128","v":0},null,null,null,null,null,null,null,null,null,null,null,null,null,{"$f":"Vstupy!AA128","v":0},null,null,null,null,null,null,{"$f":"IF(Vstupy!AE128=1,\"ročně\",IF(Vstupy!AE128=2,\"pololetně\",IF(Vstupy!AE128=4,\"čtvrtletně\",\"měsíčně\")))","v":"měsíčně"},null,null,null,null,null,{"$f":"Vstupy!AG128","v":0},null,null,null,null,null,null,{"$f":"Vstupy!AK128","v":0},null,null,null,null,null,null,null,null,null,null,null,null,null,null,null,null,null,null,null,null,null,{"$f":"IF(Vstupy!AY128=\"\",AG311,IF(Vstupy!AW128=1,\"ročně\",IF(Vstupy!AW128=2,\"pololetně\",IF(Vstupy!AW128=4,\"čtvrtletně\",\"měsíčně\"))))","v":"měsíčně"},null,null,null,null,null,{"$f":"IF(Vstupy!AY128=\"\",AM311,Vstupy!AY128)","v":0},null,null,null,null,null,null,{"$f":"IF(Vstupy!AY128=\"\",\"\",\"!\")","v":""},{"$f":"ROW()","v":311}]
[{"$f":"Vstupy!A$16","v":1},{"$f":"IF(OR(L312=0,L312=\"\",L312=\" \",L312=\"  \"),0,1)","v":0},1,null,null,null,null,null,null,null,null,{"$f":"Vstupy!BC128","v":0},null,null,null,null,null,null,null,null,null,null,null,null,null,null,null,null,null,null,null,null,null,null,null,null,null,null,null,null,null,null,null,null,null,null,null,null,null,null,null,null,null,null,null,null,null,null,null,null,null,null,null,null,null,null,null,null,null,null,null,null,null,null,null,null,null,null,null,null,null,{"$f":"ROW()","v":312}]
[{"$f":"Vstupy!A$16","v":1},{"$f":"MAX(X313:CB313)+B314","v":0},1,null,null,null,null,null,null,null,null,{"$f":"Vstupy!S129","v":0},null,null,null,null,null,null,null,null,null,null,null,null,null,{"$f":"Vstupy!AA129","v":0},null,null,null,null,null,null,{"$f":"IF(Vstupy!AE129=1,\"ročně\",IF(Vstupy!AE129=2,\"pololetně\",IF(Vstupy!AE129=4,\"čtvrtletně\",\"měsíčně\")))","v":"měsíčně"},null,null,null,null,null,{"$f":"Vstupy!AG129","v":0},null,null,null,null,null,null,{"$f":"Vstupy!AK129","v":0},null,null,null,null,null,null,null,null,null,null,null,null,null,null,null,null,null,null,null,null,null,{"$f":"IF(Vstupy!AY129=\"\",AG313,IF(Vstupy!AW129=1,\"ročně\",IF(Vstupy!AW129=2,\"pololetně\",IF(Vstupy!AW129=4,\"čtvrtletně\",\"měsíčně\"))))","v":"měsíčně"},null,null,null,null,null,{"$f":"IF(Vstupy!AY129=\"\",AM313,Vstupy!AY129)","v":0},null,null,null,null,null,null,{"$f":"IF(Vstupy!AY129=\"\",\"\",\"!\")","v":""},{"$f":"ROW()","v":313}]
[{"$f":"Vstupy!A$16","v":1},{"$f":"IF(OR(L314=0,L314=\"\",L314=\" \",L314=\"  \"),0,1)","v":0},1,null,null,null,null,null,null,null,null,{"$f":"Vstupy!BC129","v":0},null,null,null,null,null,null,null,null,null,null,null,null,null,null,null,null,null,null,null,null,null,null,null,null,null,null,null,null,null,null,null,null,null,null,null,null,null,null,null,null,null,null,null,null,null,null,null,null,null,null,null,null,null,null,null,null,null,null,null,null,null,null,null,null,null,null,null,null,null,{"$f":"ROW()","v":314}]
[{"$f":"Vstupy!A$16","v":1},{"$f":"MAX(X315:CB315)+B316","v":0},1,null,null,null,null,null,null,null,null,{"$f":"Vstupy!S130","v":0},null,null,null,null,null,null,null,null,null,null,null,null,null,{"$f":"Vstupy!AA130","v":0},null,null,null,null,null,null,{"$f":"IF(Vstupy!AE130=1,\"ročně\",IF(Vstupy!AE130=2,\"pololetně\",IF(Vstupy!AE130=4,\"čtvrtletně\",\"měsíčně\")))","v":"měsíčně"},null,null,null,null,null,{"$f":"Vstupy!AG130","v":0},null,null,null,null,null,null,{"$f":"Vstupy!AK130","v":0},null,null,null,null,null,null,null,null,null,null,null,null,null,null,null,null,null,null,null,null,null,{"$f":"IF(Vstupy!AY130=\"\",AG315,IF(Vstupy!AW130=1,\"ročně\",IF(Vstupy!AW130=2,\"pololetně\",IF(Vstupy!AW130=4,\"čtvrtletně\",\"měsíčně\"))))","v":"měsíčně"},null,null,null,null,null,{"$f":"IF(Vstupy!AY130=\"\",AM315,Vstupy!AY130)","v":0},null,null,null,null,null,null,{"$f":"IF(Vstupy!AY130=\"\",\"\",\"!\")","v":""},{"$f":"ROW()","v":315}]
[{"$f":"Vstupy!A$16","v":1},{"$f":"IF(OR(L316=0,L316=\"\",L316=\" \",L316=\"  \"),0,1)","v":0},1,null,null,null,null,null,null,null,null,{"$f":"Vstupy!BC130","v":0},null,null,null,null,null,null,null,null,null,null,null,null,null,null,null,null,null,null,null,null,null,null,null,null,null,null,null,null,null,null,null,null,null,null,null,null,null,null,null,null,null,null,null,null,null,null,null,null,null,null,null,null,null,null,null,null,null,null,null,null,null,null,null,null,null,null,null,null,null,{"$f":"ROW()","v":316}]
[{"$f":"Vstupy!A$16","v":1},{"$f":"MAX(X317:CB317)+B318","v":0},1,null,null,null,null,null,null,null,null,{"$f":"Vstupy!S131","v":0},null,null,null,null,null,null,null,null,null,null,null,null,null,{"$f":"Vstupy!AA131","v":0},null,null,null,null,null,null,{"$f":"IF(Vstupy!AE131=1,\"ročně\",IF(Vstupy!AE131=2,\"pololetně\",IF(Vstupy!AE131=4,\"čtvrtletně\",\"měsíčně\")))","v":"měsíčně"},null,null,null,null,null,{"$f":"Vstupy!AG131","v":0},null,null,null,null,null,null,{"$f":"Vstupy!AK131","v":0},null,null,null,null,null,null,null,null,null,null,null,null,null,null,null,null,null,null,null,null,null,{"$f":"IF(Vstupy!AY131=\"\",AG317,IF(Vstupy!AW131=1,\"ročně\",IF(Vstupy!AW131=2,\"pololetně\",IF(Vstupy!AW131=4,\"čtvrtletně\",\"měsíčně\"))))","v":"měsíčně"},null,null,null,null,null,{"$f":"IF(Vstupy!AY131=\"\",AM317,Vstupy!AY131)","v":0},null,null,null,null,null,null,{"$f":"IF(Vstupy!AY131=\"\",\"\",\"!\")","v":""},{"$f":"ROW()","v":317}]
[{"$f":"Vstupy!A$16","v":1},{"$f":"IF(OR(L318=0,L318=\"\",L318=\" \",L318=\"  \"),0,1)","v":0},1,null,null,null,null,null,null,null,null,{"$f":"Vstupy!BC131","v":0},null,null,null,null,null,null,null,null,null,null,null,null,null,null,null,null,null,null,null,null,null,null,null,null,null,null,null,null,null,null,null,null,null,null,null,null,null,null,null,null,null,null,null,null,null,null,null,null,null,null,null,null,null,null,null,null,null,null,null,null,null,null,null,null,null,null,null,null,null,{"$f":"ROW()","v":318}]
[{"$f":"Vstupy!A$16","v":1},{"$f":"MAX(X319:CB319)+B320","v":0},1,null,null,null,null,null,null,null,null,{"$f":"Vstupy!S132","v":0},null,null,null,null,null,null,null,null,null,null,null,null,null,{"$f":"Vstupy!AA132","v":0},null,null,null,null,null,null,{"$f":"IF(Vstupy!AE132=1,\"ročně\",IF(Vstupy!AE132=2,\"pololetně\",IF(Vstupy!AE132=4,\"čtvrtletně\",\"měsíčně\")))","v":"měsíčně"},null,null,null,null,null,{"$f":"Vstupy!AG132","v":0},null,null,null,null,null,null,{"$f":"Vstupy!AK132","v":0},null,null,null,null,null,null,null,null,null,null,null,null,null,null,null,null,null,null,null,null,null,{"$f":"IF(Vstupy!AY132=\"\",AG319,IF(Vstupy!AW132=1,\"ročně\",IF(Vstupy!AW132=2,\"pololetně\",IF(Vstupy!AW132=4,\"čtvrtletně\",\"měsíčně\"))))","v":"měsíčně"},null,null,null,null,null,{"$f":"IF(Vstupy!AY132=\"\",AM319,Vstupy!AY132)","v":0},null,null,null,null,null,null,{"$f":"IF(Vstupy!AY132=\"\",\"\",\"!\")","v":""},{"$f":"ROW()","v":319}]
[{"$f":"Vstupy!A$16","v":1},{"$f":"IF(OR(L320=0,L320=\"\",L320=\" \",L320=\"  \"),0,1)","v":0},1,null,null,null,null,null,null,null,null,{"$f":"Vstupy!BC132","v":0},null,null,null,null,null,null,null,null,null,null,null,null,null,null,null,null,null,null,null,null,null,null,null,null,null,null,null,null,null,null,null,null,null,null,null,null,null,null,null,null,null,null,null,null,null,null,null,null,null,null,null,null,null,null,null,null,null,null,null,null,null,null,null,null,null,null,null,null,null,{"$f":"ROW()","v":320}]
[{"$f":"Vstupy!A$16","v":1},0,1,null,null,null,null,null,null,null,null,null,null,null,null,null,null,null,null,null,null,null,null,null,null,null,null,null,null,null,null,null,null,null,null,null,null,null,null,null,null,null,null,null,null,null,null,null,null,null,null,null,null,null,null,null,null,null,null,null,null,null,null,null,null,null,null,null,null,null,null,null,null,null,null,null,null,null,null,null,null,{"$f":"ROW()","v":321}]
[{"$f":"Vstupy!A$16","v":1},0,1,null,null,null,null,null,null,null,null,null,null,null,null,null,null,null,null,null,null,null,null,null,null,null,null,null,null,null,null,null,null,null,null,null,null,null,null,null,null,null,null,null,null,null,null,null,null,null,null,null,null,null,null,null,null,null,null,null,null,null,null,null,null,null,null,null,null,null,null,null,null,null,null,null,null,null,null,null,null,{"$f":"ROW()","v":322}]
[{"$f":"Vstupy!A$16","v":1},0,1,null,null,null,null,null,null,null,null,null,null,null,null,null,null,null,null,null,null,null,null,null,null,null,null,null,null,null,null,null,null,null,null,null,null,null,null,null,null,null,null,null,null,null,null,null,null,null,null,null,null,null,null,null,null,null,null,null,null,null,null,null,null,null,null,null,null,null,null,null,null,null,null,null,null,null,null,null,null,{"$f":"ROW()","v":323}]
[{"$f":"Vstupy!A$16","v":1},0,1,null,null,null,null,null,null,null,null,null,null,null,null,null,null,null,null,null,null,null,null,null,null,null,null,null,null,null,null,null,null,null,null,null,null,null,null,null,null,null,null,null,null,null,null,null,null,null,null,null,null,null,null,null,null,null,null,null,null,null,null,null,null,null,null,null,null,null,null,null,null,null,null,null,null,null,null,null,null,{"$f":"ROW()","v":324}]
[{"$f":"Vstupy!A$16","v":1},{"$f":"MAX(Y325:CB325)","v":0},1,null,null,null,null,null,null,null,null,null,null,null,null,null,null,null,null,null,null,null,null,null,"∑ naspořeno",{"$f":"Vstupy!AA134","v":0},null,null,null,null,null,null,"∑ měsíčně",null,null,null,null,null,{"$f":"Vstupy!AG134","v":0},null,null,null,null,null,null,null,null,null,null,null,null,null,null,null,null,null,null,null,null,null,null,null,null,null,null,null,null,"∑ měsíčně",null,null,null,null,null,{"$f":"Vstupy!AY134","v":0},null,null,null,null,null,null,null,{"$f":"ROW()","v":325}]
[{"$f":"Vstupy!A$16","v":1},1,1,null,null,null,null,null,null,null,null,null,null,null,null,null,null,null,null,null,null,null,null,null,null,null,null,null,null,null,null,null,null,null,null,null,null,null,null,null,null,null,null,null,null,null,null,null,null,null,null,null,null,null,null,null,null,null,null,null,null,null,null,null,null,null,null,null,null,null,null,null,null,null,null,null,null,null,null,null,null,{"$f":"ROW()","v":326}]
[{"$f":"Vstupy!A$16","v":1},1,1,null,null,null,null,null,null,null,null,"Finanční plán OVB",null,null,null,null,null,null,null,null,null,null,null,null,null,null,null,null,null,null,null,null,null,null,null,null,null,null,null,null,null,null,null,null,null,null,null,null,null,null,null,null,null,null,null,null,null,null,null,null,null,null,null,null,null,null,null,null,null,null,null,null,null,null,null,null,null,null,null,null,null,{"$f":"ROW()","v":327}]
[{"$f":"Vstupy!A$16","v":1},1,1,null,null,null,null,null,null,null,null,{"$f":"Vstupy!AF$9 & \" \" & Vstupy!AI$10","v":" "},null,null,null,null,null,null,null,null,null,null,null,null,null,null,null,null,null,null,null,null,null,null,null,null,null,null,null,null,null,null,null,null,null,null,null,null,null,null,null,null,null,null,null,null,null,null,null,null,null,null,null,null,null,null,null,null,null,null,null,null,null,null,null,null,null,null,null,null,null,{"$f":"ROW()","v":328}]
[{"$f":"Vstupy!A$16","v":1},1,1,null,null,null,null,null,null,null,null,null,{"$f":"Vstupy!S62","v":"Analýza příjmů a výdajů"},null,null,null,null,null,null,null,null,null,null,null,null,null,null,null,null,null,null,null,null,null,null,null,null,null,null,null,null,null,null,null,null,null,null,null,null,null,null,null,null,null,null,null,null,null,null,null,null,null,null,null,null,null,null,null,null,null,null,null,null,null,null,null,null,null,null,null,null,{"$f":"ROW()","v":329}]
[{"$f":"Vstupy!A$16","v":1},{"$f":"B331","v":0},1,null,null,null,null,null,null,null,null,null,null,null,null,null,null,null,null,null,null,null,null,null,null,null,null,null,null,null,null,null,null,null,null,null,null,null,null,null,null,null,null,null,null,null,null,null,null,null,null,null,null,null,null,null,null,null,null,null,null,null,null,null,null,null,null,null,null,null,null,null,null,null,null,null,null,null,null,null,null,{"$f":"ROW()","v":330}]
[{"$f":"Vstupy!A$16","v":1},{"$f":"SUM(B332:B352)","v":0},1,{"$f":"COUNTIF(B210:B325,\">0\")","v":5},null,null,null,null,null,null,null,{"$f":"Vstupy!S135","v":"Úvěry / závazky"},null,null,null,null,null,null,null,null,null,null,null,null,null,"Doplatit",null,null,null,null,null,null,null,null,null,null,null,null,null,null,null,null,null,null,null,"Doporučení",null,null,null,null,null,null,null,null,null,null,null,null,null,null,null,null,null,null,null,null,null,null,null,null,null,null,null,null,null,null,null,null,null,null,null,{"$f":"ROW()","v":331}]
[{"$f":"Vstupy!A$16","v":1},{"$f":"MAX(Z332:CB332)+B333","v":0},1,null,null,null,null,null,null,null,null,{"$f":"Vstupy!S136","v":0},null,null,null,null,null,null,null,null,null,null,null,null,null,{"$f":"Vstupy!AA136","v":0},null,null,null,null,null,null,{"$f":"IF(Vstupy!AE136=1,\"ročně\",IF(Vstupy!AE136=2,\"pololetně\",IF(Vstupy!AE136=4,\"čtvrtletně\",\"měsíčně\")))","v":"měsíčně"},null,null,null,null,null,{"$f":"Vstupy!AG136","v":0},null,null,null,null,null,null,{"$f":"Vstupy!AK136","v":0},null,null,null,null,null,null,null,null,null,null,null,null,null,null,null,null,null,null,null,null,null,{"$f":"IF(Vstupy!AY136=\"\",AG332,IF(Vstupy!AW136=1,\"ročně\",IF(Vstupy!AW136=2,\"pololetně\",IF(Vstupy!AW136=4,\"čtvrtletně\",\"měsíčně\"))))","v":"měsíčně"},null,null,null,null,null,{"$f":"IF(Vstupy!AY136=\"\",AM332,Vstupy!AY136)","v":0},null,null,null,null,null,null,{"$f":"IF(Vstupy!AY136=\"\",\"\",\"!\")","v":""},{"$f":"ROW()","v":332}]
[{"$f":"Vstupy!A$16","v":1},{"$f":"IF(OR(L333=0,L333=\"\",L333=\" \",L333=\"  \"),0,1)","v":0},1,null,null,null,null,null,null,null,null,{"$f":"Vstupy!BC136","v":0},null,null,null,null,null,null,null,null,null,null,null,null,null,null,null,null,null,null,null,null,null,null,null,null,null,null,null,null,null,null,null,null,null,null,null,null,null,null,null,null,null,null,null,null,null,null,null,null,null,null,null,null,null,null,null,null,null,null,null,null,null,null,null,null,null,null,null,null,null,{"$f":"ROW()","v":333}]
[{"$f":"Vstupy!A$16","v":1},{"$f":"MAX(Z334:CB334)+B335","v":0},1,null,null,null,null,null,null,null,null,{"$f":"Vstupy!S137","v":0},null,null,null,null,null,null,null,null,null,null,null,null,null,{"$f":"Vstupy!AA137","v":0},null,null,null,null,null,null,{"$f":"IF(Vstupy!AE137=1,\"ročně\",IF(Vstupy!AE137=2,\"pololetně\",IF(Vstupy!AE137=4,\"čtvrtletně\",\"měsíčně\")))","v":"měsíčně"},null,null,null,null,null,{"$f":"Vstupy!AG137","v":0},null,null,null,null,null,null,{"$f":"Vstupy!AK137","v":0},null,null,null,null,null,null,null,null,null,null,null,null,null,null,null,null,null,null,null,null,null,{"$f":"IF(Vstupy!AY137=\"\",AG334,IF(Vstupy!AW137=1,\"ročně\",IF(Vstupy!AW137=2,\"pololetně\",IF(Vstupy!AW137=4,\"čtvrtletně\",\"měsíčně\"))))","v":"měsíčně"},null,null,null,null,null,{"$f":"IF(Vstupy!AY137=\"\",AM334,Vstupy!AY137)","v":0},null,null,null,null,null,null,{"$f":"IF(Vstupy!AY137=\"\",\"\",\"!\")","v":""},{"$f":"ROW()","v":334}]
[{"$f":"Vstupy!A$16","v":1},{"$f":"IF(OR(L335=0,L335=\"\",L335=\" \",L335=\"  \"),0,1)","v":0},1,null,null,null,null,null,null,null,null,{"$f":"Vstupy!BC137","v":0},null,null,null,null,null,null,null,null,null,null,null,null,null,null,null,null,null,null,null,null,null,null,null,null,null,null,null,null,null,null,null,null,null,null,null,null,null,null,null,null,null,null,null,null,null,null,null,null,null,null,null,null,null,null,null,null,null,null,null,null,null,null,null,null,null,null,null,null,null,{"$f":"ROW()","v":335}]
[{"$f":"Vstupy!A$16","v":1},{"$f":"MAX(Z336:CB336)+B337","v":0},1,null,null,null,null,null,null,null,null,{"$f":"Vstupy!S138","v":0},null,null,null,null,null,null,null,null,null,null,null,null,null,{"$f":"Vstupy!AA138","v":0},null,null,null,null,null,null,{"$f":"IF(Vstupy!AE138=1,\"ročně\",IF(Vstupy!AE138=2,\"pololetně\",IF(Vstupy!AE138=4,\"čtvrtletně\",\"měsíčně\")))","v":"měsíčně"},null,null,null,null,null,{"$f":"Vstupy!AG138","v":0},null,null,null,null,null,null,{"$f":"Vstupy!AK138","v":0},null,null,null,null,null,null,null,null,null,null,null,null,null,null,null,null,null,null,null,null,null,{"$f":"IF(Vstupy!AY138=\"\",AG336,IF(Vstupy!AW138=1,\"ročně\",IF(Vstupy!AW138=2,\"pololetně\",IF(Vstupy!AW138=4,\"čtvrtletně\",\"měsíčně\"))))","v":"měsíčně"},null,null,null,null,null,{"$f":"IF(Vstupy!AY138=\"\",AM336,Vstupy!AY138)","v":0},null,null,null,null,null,null,{"$f":"IF(Vstupy!AY138=\"\",\"\",\"!\")","v":""},{"$f":"ROW()","v":336}]
[{"$f":"Vstupy!A$16","v":1},{"$f":"IF(OR(L337=0,L337=\"\",L337=\" \",L337=\"  \"),0,1)","v":0},1,null,null,null,null,null,null,null,null,{"$f":"Vstupy!BC138","v":0},null,null,null,null,null,null,null,null,null,null,null,null,null,null,null,null,null,null,null,null,null,null,null,null,null,null,null,null,null,null,null,null,null,null,null,null,null,null,null,null,null,null,null,null,null,null,null,null,null,null,null,null,null,null,null,null,null,null,null,null,null,null,null,null,null,null,null,null,null,{"$f":"ROW()","v":337}]
[{"$f":"Vstupy!A$16","v":1},{"$f":"MAX(Z338:CB338)+B339","v":0},1,null,null,null,null,null,null,null,null,{"$f":"Vstupy!S139","v":0},null,null,null,null,null,null,null,null,null,null,null,null,null,{"$f":"Vstupy!AA139","v":0},null,null,null,null,null,null,{"$f":"IF(Vstupy!AE139=1,\"ročně\",IF(Vstupy!AE139=2,\"pololetně\",IF(Vstupy!AE139=4,\"čtvrtletně\",\"měsíčně\")))","v":"měsíčně"},null,null,null,null,null,{"$f":"Vstupy!AG139","v":0},null,null,null,null,null,null,{"$f":"Vstupy!AK139","v":0},null,null,null,null,null,null,null,null,null,null,null,null,null,null,null,null,null,null,null,null,null,{"$f":"IF(Vstupy!AY139=\"\",AG338,IF(Vstupy!AW139=1,\"ročně\",IF(Vstupy!AW139=2,\"pololetně\",IF(Vstupy!AW139=4,\"čtvrtletně\",\"měsíčně\"))))","v":"měsíčně"},null,null,null,null,null,{"$f":"IF(Vstupy!AY139=\"\",AM338,Vstupy!AY139)","v":0},null,null,null,null,null,null,{"$f":"IF(Vstupy!AY139=\"\",\"\",\"!\")","v":""},{"$f":"ROW()","v":338}]
[{"$f":"Vstupy!A$16","v":1},{"$f":"IF(OR(L339=0,L339=\"\",L339=\" \",L339=\"  \"),0,1)","v":0},1,null,null,null,null,null,null,null,null,{"$f":"Vstupy!BC139","v":0},null,null,null,null,null,null,null,null,null,null,null,null,null,null,null,null,null,null,null,null,null,null,null,null,null,null,null,null,null,null,null,null,null,null,null,null,null,null,null,null,null,null,null,null,null,null,null,null,null,null,null,null,null,null,null,null,null,null,null,null,null,null,null,null,null,null,null,null,null,{"$f":"ROW()","v":339}]
[{"$f":"Vstupy!A$16","v":1},{"$f":"MAX(Z340:CB340)+B341","v":0},1,null,null,null,null,null,null,null,null,{"$f":"Vstupy!S140","v":0},null,null,null,null,null,null,null,null,null,null,null,null,null,{"$f":"Vstupy!AA140","v":0},null,null,null,null,null,null,{"$f":"IF(Vstupy!AE140=1,\"ročně\",IF(Vstupy!AE140=2,\"pololetně\",IF(Vstupy!AE140=4,\"čtvrtletně\",\"měsíčně\")))","v":"měsíčně"},null,null,null,null,null,{"$f":"Vstupy!AG140","v":0},null,null,null,null,null,null,{"$f":"Vstupy!AK140","v":0},null,null,null,null,null,null,null,null,null,null,null,null,null,null,null,null,null,null,null,null,null,{"$f":"IF(Vstupy!AY140=\"\",AG340,IF(Vstupy!AW140=1,\"ročně\",IF(Vstupy!AW140=2,\"pololetně\",IF(Vstupy!AW140=4,\"čtvrtletně\",\"měsíčně\"))))","v":"měsíčně"},null,null,null,null,null,{"$f":"IF(Vstupy!AY140=\"\",AM340,Vstupy!AY140)","v":0},null,null,null,null,null,null,{"$f":"IF(Vstupy!AY140=\"\",\"\",\"!\")","v":""},{"$f":"ROW()","v":340}]
[{"$f":"Vstupy!A$16","v":1},{"$f":"IF(OR(L341=0,L341=\"\",L341=\" \",L341=\"  \"),0,1)","v":0},1,null,null,null,null,null,null,null,null,{"$f":"Vstupy!BC140","v":0},null,null,null,null,null,null,null,null,null,null,null,null,null,null,null,null,null,null,null,null,null,null,null,null,null,null,null,null,null,null,null,null,null,null,null,null,null,null,null,null,null,null,null,null,null,null,null,null,null,null,null,null,null,null,null,null,null,null,null,null,null,null,null,null,null,null,null,null,null,{"$f":"ROW()","v":341}]
[{"$f":"Vstupy!A$16","v":1},{"$f":"MAX(Z342:CB342)+B343","v":0},1,null,null,null,null,null,null,null,null,null,null,null,null,null,null,null,null,null,null,null,null,null,null,null,null,null,null,null,null,null,null,null,null,null,null,null,null,null,null,null,null,null,null,null,null,null,null,null,null,null,null,null,null,null,null,null,null,null,null,null,null,null,null,null,null,null,null,null,null,null,null,null,null,null,null,null,null,null,null,{"$f":"ROW()","v":342}]
[{"$f":"Vstupy!A$16","v":1},{"$f":"IF(OR(L343=0,L343=\"\",L343=\" \",L343=\"  \"),0,1)","v":0},1,null,null,null,null,null,null,null,null,null,null,null,null,null,null,null,null,null,null,null,null,null,null,null,null,null,null,null,null,null,null,null,null,null,null,null,null,null,null,null,null,null,null,null,null,null,null,null,null,null,null,null,null,null,null,null,null,null,null,null,null,null,null,null,null,null,null,null,null,null,null,null,null,null,null,null,null,null,null,{"$f":"ROW()","v":343}]
[{"$f":"Vstupy!A$16","v":1},{"$f":"MAX(Z344:CB344)+B345","v":0},1,null,null,null,null,null,null,null,null,null,null,null,null,null,null,null,null,null,null,null,null,null,null,null,null,null,null,null,null,null,null,null,null,null,null,null,null,null,null,null,null,null,null,null,null,null,null,null,null,null,null,null,null,null,null,null,null,null,null,null,null,null,null,null,null,null,null,null,null,null,null,null,null,null,null,null,null,null,null,{"$f":"ROW()","v":344}]
[{"$f":"Vstupy!A$16","v":1},{"$f":"IF(OR(L345=0,L345=\"\",L345=\" \",L345=\"  \"),0,1)","v":0},1,null,null,null,null,null,null,null,null,null,null,null,null,null,null,null,null,null,null,null,null,null,null,null,null,null,null,null,null,null,null,null,null,null,null,null,null,null,null,null,null,null,null,null,null,null,null,null,null,null,null,null,null,null,null,null,null,null,null,null,null,null,null,null,null,null,null,null,null,null,null,null,null,null,null,null,null,null,null,{"$f":"ROW()","v":345}]
[{"$f":"Vstupy!A$16","v":1},{"$f":"MAX(Z346:CB346)+B347","v":0},1,null,null,null,null,null,null,null,null,null,null,null,null,null,null,null,null,null,null,null,null,null,null,null,null,null,null,null,null,null,null,null,null,null,null,null,null,null,null,null,null,null,null,null,null,null,null,null,null,null,null,null,null,null,null,null,null,null,null,null,null,null,null,null,null,null,null,null,null,null,null,null,null,null,null,null,null,null,null,{"$f":"ROW()","v":346}]
[{"$f":"Vstupy!A$16","v":1},{"$f":"IF(OR(L347=0,L347=\"\",L347=\" \",L347=\"  \"),0,1)","v":0},1,null,null,null,null,null,null,null,null,null,null,null,null,null,null,null,null,null,null,null,null,null,null,null,null,null,null,null,null,null,null,null,null,null,null,null,null,null,null,null,null,null,null,null,null,null,null,null,null,null,null,null,null,null,null,null,null,null,null,null,null,null,null,null,null,null,null,null,null,null,null,null,null,null,null,null,null,null,null,{"$f":"ROW()","v":347}]
[{"$f":"Vstupy!A$16","v":1},0,1,null,null,null,null,null,null,null,null,null,null,null,null,null,null,null,null,null,null,null,null,null,null,null,null,null,null,null,null,null,null,null,null,null,null,null,null,null,null,null,null,null,null,null,null,null,null,null,null,null,null,null,null,null,null,null,null,null,null,null,null,null,null,null,null,null,null,null,null,null,null,null,null,null,null,null,null,null,null,{"$f":"ROW()","v":348}]
[{"$f":"Vstupy!A$16","v":1},0,1,null,null,null,null,null,null,null,null,null,null,null,null,null,null,null,null,null,null,null,null,null,null,null,null,null,null,null,null,null,null,null,null,null,null,null,null,null,null,null,null,null,null,null,null,null,null,null,null,null,null,null,null,null,null,null,null,null,null,null,null,null,null,null,null,null,null,null,null,null,null,null,null,null,null,null,null,null,null,{"$f":"ROW()","v":349}]
[{"$f":"Vstupy!A$16","v":1},0,1,null,null,null,null,null,null,null,null,null,null,null,null,null,null,null,null,null,null,null,null,null,null,null,null,null,null,null,null,null,null,null,null,null,null,null,null,null,null,null,null,null,null,null,null,null,null,null,null,null,null,null,null,null,null,null,null,null,null,null,null,null,null,null,null,null,null,null,null,null,null,null,null,null,null,null,null,null,null,{"$f":"ROW()","v":350}]
[{"$f":"Vstupy!A$16","v":1},0,1,null,null,null,null,null,null,null,null,null,null,null,null,null,null,null,null,null,null,null,null,null,null,null,null,null,null,null,null,null,null,null,null,null,null,null,null,null,null,null,null,null,null,null,null,null,null,null,null,null,null,null,null,null,null,null,null,null,null,null,null,null,null,null,null,null,null,null,null,null,null,null,null,null,null,null,null,null,null,{"$f":"ROW()","v":351}]
[{"$f":"Vstupy!A$16","v":1},{"$f":"MAX(AA352:CB352)","v":0},1,null,null,null,null,null,null,null,null,null,null,null,null,null,null,null,null,null,null,null,null,null,"∑ k doplacení",{"$f":"Vstupy!AA148","v":0},null,null,null,null,null,null,"∑ měsíčně",null,null,null,null,null,{"$f":"Vstupy!AG148","v":0},null,null,null,null,null,null,null,null,null,null,null,null,null,null,null,null,null,null,null,null,null,null,null,null,null,null,null,null,"∑ měsíčně",null,null,null,null,null,{"$f":"Vstupy!AY148","v":0},null,null,null,null,null,null,null,{"$f":"ROW()","v":352}]
[{"$f":"Vstupy!A$16","v":1},1,1,null,null,null,null,null,null,null,null,null,null,null,null,null,null,null,null,null,null,null,null,null,null,null,null,null,null,null,null,null,null,null,null,null,null,null,null,null,null,null,null,null,null,null,null,null,null,null,null,null,null,null,null,null,null,null,null,null,null,null,null,null,null,null,null,null,null,null,null,null,null,null,null,null,null,null,null,null,null,{"$f":"ROW()","v":353}]
[{"$f":"Vstupy!A$16","v":1},1,1,null,null,null,null,null,null,null,null,"Finanční plán OVB",null,null,null,null,null,null,null,null,null,null,null,null,null,null,null,null,null,null,null,null,null,null,null,null,null,null,null,null,null,null,null,null,null,null,null,null,null,null,null,null,null,null,null,null,null,null,null,null,null,null,null,null,null,null,null,null,null,null,null,null,null,null,null,null,null,null,null,null,null,{"$f":"ROW()","v":354}]
[{"$f":"Vstupy!A$16","v":1},1,1,null,null,null,null,null,null,null,null,{"$f":"Vstupy!AF$9 & \" \" & Vstupy!AI$10","v":" "},null,null,null,null,null,null,null,null,null,null,null,null,null,null,null,null,null,null,null,null,null,null,null,null,null,null,null,null,null,null,null,null,null,null,null,null,null,null,null,null,null,null,null,null,null,null,null,null,null,null,null,null,null,null,null,null,null,null,null,null,null,null,null,null,null,null,null,null,null,{"$f":"ROW()","v":355}]
[{"$f":"Vstupy!A$16","v":1},1,1,null,null,null,null,null,null,null,null,null,{"$f":"Vstupy!S62","v":"Analýza příjmů a výdajů"},null,null,null,null,null,null,null,null,null,null,null,null,null,null,null,null,null,null,null,null,null,null,null,null,null,null,null,null,null,null,null,null,null,null,null,null,null,null,null,null,null,null,null,null,null,null,null,null,null,null,null,null,null,null,null,null,null,null,null,null,null,null,null,null,null,null,null,null,{"$f":"ROW()","v":356}]
[{"$f":"Vstupy!A$16","v":1},1,1,null,null,null,null,null,null,null,null,null,null,null,null,null,null,null,null,null,null,null,null,null,null,null,null,null,null,null,null,null,null,null,null,null,null,null,null,null,null,null,null,null,null,null,null,null,null,null,null,null,null,null,null,null,null,null,null,null,null,null,null,null,null,null,null,null,null,null,null,null,null,null,null,null,null,null,null,null,null,{"$f":"ROW()","v":357}]
[{"$f":"Vstupy!A$16","v":1},1,1,{"$f":"COUNTIF(B210:B352,\">0\")","v":9},null,null,null,null,null,null,null,{"$f":"Vstupy!S154","v":"Příjmy"},null,null,null,null,null,null,null,null,null,null,null,null,null,null,null,null,null,null,null,null,null,null,null,null,null,null,null,null,null,null,null,null,null,null,null,null,null,null,null,null,null,null,{"$f":"IF(OR(Vstupy!AF9=0,Vstupy!AI161=0),\"\",Vstupy!AF9)","v":""},null,null,null,null,null,null,null,null,{"$f":"IF(Vstupy!AQ9=0,\"\",Vstupy!AQ9)","v":""},null,null,null,null,null,null,null,null,null,null,null,null,null,null,null,null,null,{"$f":"ROW()","v":358}]
[{"$f":"Vstupy!A$16","v":1},{"$f":"BC359+IF(ISNUMBER(BL359),BL359,0)","v":0},1,null,null,null,null,null,null,null,null,{"$f":"Vstupy!S155","v":"Průměrný čistý příjem"},null,null,null,null,null,null,null,null,null,null,null,null,null,null,null,null,null,null,null,null,null,null,null,null,null,null,null,null,null,null,null,null,null,null,{"$f":"IF(Vstupy!AG155=1,\"ročně\",IF(Vstupy!AG155=2,\"pololetně\",IF(Vstupy!AG155=4,\"čtvrtletně\",\"měsíčně\")))","v":"měsíčně"},null,null,null,null,null,null,null,{"$f":"Vstupy!AI155","v":0},null,null,null,null,null,null,null,null,{"$f":"IF(BL$358=\"\",\"\",Vstupy!AM155)","v":""},null,null,null,null,null,null,null,null,null,null,null,null,null,null,null,null,null,{"$f":"ROW()","v":359}]
[{"$f":"Vstupy!A$16","v":1},0,1,null,null,null,null,null,null,null,null,{"$f":"Vstupy!S156","v":"Průměrný čistý příjem z podnikání"},null,null,null,null,null,null,null,null,null,null,null,null,null,null,null,null,null,null,null,null,null,null,null,null,null,null,null,null,null,null,null,null,null,null,{"$f":"IF(Vstupy!AG156=1,\"ročně\",IF(Vstupy!AG156=2,\"pololetně\",IF(Vstupy!AG156=4,\"čtvrtletně\",\"měsíčně\")))","v":"měsíčně"},null,null,null,null,null,null,null,{"$f":"Vstupy!AI156","v":0},null,null,null,null,null,null,null,null,{"$f":"IF(BL$358=\"\",\"\",Vstupy!AM156)","v":""},null,null,null,null,null,null,null,null,null,null,null,null,null,null,null,null,null,{"$f":"ROW()","v":360}]
[{"$f":"Vstupy!A$16","v":1},0,1,null,null,null,null,null,null,null,null,{"$f":"Vstupy!S157","v":"Očekávané bonusy za celý rok"},null,null,null,null,null,null,null,null,null,null,null,null,null,null,null,null,null,null,null,null,null,null,null,null,null,null,null,null,null,null,null,null,null,null,{"$f":"IF(Vstupy!AG157=1,\"ročně\",IF(Vstupy!AG157=2,\"pololetně\",IF(Vstupy!AG157=4,\"čtvrtletně\",\"měsíčně\")))","v":"měsíčně"},null,null,null,null,null,null,null,{"$f":"Vstupy!AI157","v":0},null,null,null,null,null,null,null,null,{"$f":"IF(BL$358=\"\",\"\",Vstupy!AM157)","v":""},null,null,null,null,null,null,null,null,null,null,null,null,null,null,null,null,null,{"$f":"ROW()","v":361}]
[{"$f":"Vstupy!A$16","v":1},0,1,null,null,null,null,null,null,null,null,{"$f":"Vstupy!S158","v":"Příjem z kapitálových investic"},null,null,null,null,null,null,null,null,null,null,null,null,null,null,null,null,null,null,null,null,null,null,null,null,null,null,null,null,null,null,null,null,null,null,{"$f":"IF(Vstupy!AG158=1,\"ročně\",IF(Vstupy!AG158=2,\"pololetně\",IF(Vstupy!AG158=4,\"čtvrtletně\",\"měsíčně\")))","v":"měsíčně"},null,null,null,null,null,null,null,{"$f":"Vstupy!AI158","v":0},null,null,null,null,null,null,null,null,{"$f":"IF(BL$358=\"\",\"\",Vstupy!AM158)","v":""},null,null,null,null,null,null,null,null,null,null,null,null,null,null,null,null,null,{"$f":"ROW()","v":362}]
[{"$f":"Vstupy!A$16","v":1},0,1,null,null,null,null,null,null,null,null,{"$f":"Vstupy!S159","v":"Jiné - zadejte"},null,null,null,null,null,null,null,null,null,null,null,null,null,null,null,null,null,null,null,null,null,null,null,null,null,null,null,null,null,null,null,null,null,null,{"$f":"IF(Vstupy!AG159=1,\"ročně\",IF(Vstupy!AG159=2,\"pololetně\",IF(Vstupy!AG159=4,\"čtvrtletně\",\"měsíčně\")))","v":"měsíčně"},null,null,null,null,null,null,null,{"$f":"Vstupy!AI159","v":0},null,null,null,null,null,null,null,null,{"$f":"IF(BL$358=\"\",\"\",Vstupy!AM159)","v":""},null,null,null,null,null,null,null,null,null,null,null,null,null,null,null,null,null,{"$f":"ROW()","v":363}]
[{"$f":"Vstupy!A$16","v":1},0,1,null,null,null,null,null,null,null,null,{"$f":"Vstupy!S160","v":"Jiné - zadejte"},null,null,null,null,null,null,null,null,null,null,null,null,null,null,null,null,null,null,null,null,null,null,null,null,null,null,null,null,null,null,null,null,null,null,{"$f":"IF(Vstupy!AG160=1,\"ročně\",IF(Vstupy!AG160=2,\"pololetně\",IF(Vstupy!AG160=4,\"čtvrtletně\",\"měsíčně\")))","v":"měsíčně"},null,null,null,null,null,null,null,{"$f":"Vstupy!AI160","v":0},null,null,null,null,null,null,null,null,{"$f":"IF(BL$358=\"\",\"\",Vstupy!AM160)","v":""},null,null,null,null,null,null,null,null,null,null,null,null,null,null,null,null,null,{"$f":"ROW()","v":364}]
[{"$f":"Vstupy!A$16","v":1},0,1,null,null,null,null,null,null,null,null,null,null,null,null,null,null,null,null,null,null,null,null,null,null,null,null,null,null,null,null,null,null,null,null,null,null,null,null,null,null,null,null,null,null,null,null,null,null,null,null,null,null,null,null,null,null,null,null,null,null,null,null,null,null,null,null,null,null,null,null,null,null,null,null,null,null,null,null,null,null,{"$f":"ROW()","v":365}]
[{"$f":"Vstupy!A$16","v":1},0,1,null,null,null,null,null,null,null,null,null,null,null,null,null,null,null,null,null,null,null,null,null,null,null,null,null,null,null,null,null,null,null,null,null,null,null,null,null,null,null,null,null,null,null,null,null,null,null,null,null,null,null,null,null,null,null,null,null,null,null,null,null,null,null,null,null,null,null,null,null,null,null,null,null,null,null,null,null,null,{"$f":"ROW()","v":366}]
[{"$f":"Vstupy!A$16","v":1},0,1,null,null,null,null,null,null,null,null,null,null,null,null,null,null,null,null,null,null,null,null,null,null,null,null,null,null,null,null,null,null,null,null,null,null,null,null,null,null,null,null,null,null,null,null,null,null,null,null,null,null,null,null,null,null,null,null,null,null,null,null,null,null,null,null,null,null,null,null,null,null,null,null,null,null,null,null,null,null,{"$f":"ROW()","v":367}]
[{"$f":"Vstupy!A$16","v":1},0,1,null,null,null,null,null,null,null,null,null,null,null,null,null,null,null,null,null,null,null,null,null,null,null,null,null,null,null,null,null,null,null,null,null,null,null,null,null,null,null,null,null,null,null,null,null,null,null,null,null,null,null,null,null,null,null,null,null,null,null,null,null,null,null,null,null,null,null,null,null,null,null,null,null,null,null,null,null,null,{"$f":"ROW()","v":368}]
[{"$f":"Vstupy!A$16","v":1},0,1,null,null,null,null,null,null,null,null,null,null,null,null,null,null,null,null,null,null,null,null,null,null,null,null,null,null,null,null,null,null,null,null,null,null,null,null,null,null,null,null,null,null,null,null,null,null,null,null,null,null,null,null,null,null,null,null,null,null,null,null,null,null,null,null,null,null,null,null,null,null,null,null,null,null,null,null,null,null,{"$f":"ROW()","v":369}]
[{"$f":"Vstupy!A$16","v":1},0,1,null,null,null,null,null,null,null,null,null,null,null,null,null,null,null,null,null,null,null,null,null,null,null,null,null,null,null,null,null,null,null,null,null,null,null,null,null,null,null,null,null,null,null,null,null,null,null,null,null,null,null,null,null,null,null,null,null,null,null,null,null,null,null,null,null,null,null,null,null,null,null,null,null,null,null,null,null,null,{"$f":"ROW()","v":370}]
[{"$f":"Vstupy!A$16","v":1},0,1,null,null,null,null,null,null,null,null,null,null,null,null,null,null,null,null,null,null,null,null,null,null,null,null,null,null,null,null,null,null,null,null,null,null,null,null,null,null,null,null,null,null,null,null,null,null,null,null,null,null,null,null,null,null,null,null,null,null,null,null,null,null,null,null,null,null,null,null,null,null,null,null,null,null,null,null,null,null,{"$f":"ROW()","v":371}]
[{"$f":"Vstupy!A$16","v":1},0,1,null,null,null,null,null,null,null,null,null,null,null,null,null,null,null,null,null,null,null,null,null,null,null,null,null,null,null,null,null,null,null,null,null,null,null,null,null,null,null,null,null,null,null,null,null,null,null,null,null,null,null,null,null,null,null,null,null,null,null,null,null,null,null,null,null,null,null,null,null,null,null,null,null,null,null,null,null,null,{"$f":"ROW()","v":372}]
[{"$f":"Vstupy!A$16","v":1},0,1,null,null,null,null,null,null,null,null,null,null,null,null,null,null,null,null,null,null,null,null,null,null,null,null,null,null,null,null,null,null,null,null,null,null,null,null,null,null,null,null,null,null,null,null,null,null,null,null,null,null,null,null,null,null,null,null,null,null,null,null,null,null,null,null,null,null,null,null,null,null,null,null,null,null,null,null,null,null,{"$f":"ROW()","v":373}]
[{"$f":"Vstupy!A$16","v":1},0,1,null,null,null,null,null,null,null,null,null,null,null,null,null,null,null,null,null,null,null,null,null,null,null,null,null,null,null,null,null,null,null,null,null,null,null,null,null,null,null,null,null,null,null,null,null,null,null,null,null,null,null,null,null,null,null,null,null,null,null,null,null,null,null,null,null,null,null,null,null,null,null,null,null,null,null,null,null,null,{"$f":"ROW()","v":374}]
[{"$f":"Vstupy!A$16","v":1},1,1,null,null,null,null,null,null,null,null,null,null,null,null,null,null,null,null,null,null,null,null,null,null,null,null,null,null,null,null,null,null,null,null,null,null,null,null,null,null,null,null,null,null,null,null,null,null,null,null,null,null,null,null,null,null,null,null,null,null,null,null,null,null,null,null,null,null,null,null,null,null,null,null,null,null,null,null,null,null,{"$f":"ROW()","v":375}]
[{"$f":"Vstupy!A$16","v":1},1,1,null,null,null,null,null,null,null,null,{"$f":"Vstupy!AU154","v":"Shrnutí"},null,null,null,null,null,null,null,null,{"$f":"Vstupy!BB154","v":"Současný stav"},null,null,null,null,null,null,null,null,null,null,null,null,null,null,null,null,{"$f":"Vstupy!BK154","v":"Doporučení"},null,null,null,null,null,null,null,null,null,null,null,null,null,null,null,null,{"$f":"Vstupy!BT154","v":"Doporučení - souč. stav"},null,null,null,null,null,null,null,null,null,null,null,null,null,null,null,null,null,null,null,null,null,null,null,null,null,null,{"$f":"ROW()","v":376}]
[{"$f":"Vstupy!A$16","v":1},1,1,null,null,null,null,null,null,null,null,null,null,null,null,null,null,null,null,null,"měsíčně",null,null,null,null,null,null,null,"ročně",null,null,null,null,null,null,null,null,"měsíčně",null,null,null,null,null,null,null,"ročně",null,null,null,null,null,null,null,null,"měsíčně",null,null,null,null,null,null,null,"ročně",null,null,null,null,null,null,null,null,{"$f":"Vstupy!CC154","v":"Naspořeno"},null,null,null,null,null,null,null,null,null,{"$f":"ROW()","v":377}]
[{"$f":"Vstupy!A$16","v":1},1,1,null,null,null,null,null,null,null,null,{"$f":"Vstupy!AU156","v":"Celkové výdaje"},null,null,null,null,null,null,null,null,{"$f":"Vstupy!BB156","v":0},null,null,null,null,null,null,null,{"$f":"Vstupy!BF156","v":0},null,null,null,null,null,null,null,null,{"$f":"Vstupy!BK156","v":0},null,null,null,null,null,null,null,{"$f":"Vstupy!BO156","v":0},null,null,null,null,null,null,null,null,{"$f":"Vstupy!BT156","v":0},null,null,null,null,null,null,null,{"$f":"Vstupy!BX156","v":0},null,null,null,null,null,null,null,null,null,{"$f":"Vstupy!CC155","v":0},null,null,null,null,null,null,null,null,{"$f":"ROW()","v":378}]
[{"$f":"Vstupy!A$16","v":1},1,1,null,null,null,null,null,null,null,null,{"$f":"Vstupy!AU157","v":"Celkové příjmy"},null,null,null,null,null,null,null,null,{"$f":"Vstupy!BB157","v":0},null,null,null,null,null,null,null,{"$f":"Vstupy!BF157","v":0},null,null,null,null,null,null,null,null,{"$f":"Vstupy!BK157","v":0},null,null,null,null,null,null,null,{"$f":"Vstupy!BO157","v":0},null,null,null,null,null,null,null,null,{"$f":"Vstupy!BT157","v":0},null,null,null,null,null,null,null,{"$f":"Vstupy!BX157","v":0},null,null,null,null,null,null,null,null,{"$f":"Vstupy!CC156","v":"Úvěry"},null,null,null,null,null,null,null,null,null,{"$f":"ROW()","v":379}]
[{"$f":"Vstupy!A$16","v":1},1,1,null,null,null,null,null,null,null,null,{"$f":"Vstupy!AU158","v":"Příjmy - výdaje"},null,null,null,null,null,null,null,null,{"$f":"Vstupy!BB158","v":0},null,null,null,null,null,null,null,{"$f":"Vstupy!BF158","v":0},null,null,null,null,null,null,null,null,{"$f":"Vstupy!BK158","v":0},null,null,null,null,null,null,null,{"$f":"Vstupy!BO158","v":0},null,null,null,null,null,null,null,null,{"$f":"Vstupy!BT158","v":0},null,null,null,null,null,null,null,{"$f":"Vstupy!BX158","v":0},null,null,null,null,null,null,null,null,null,{"$f":"Vstupy!CC157","v":0},null,null,null,null,null,null,null,null,{"$f":"ROW()","v":380}]
[{"$f":"Vstupy!A$16","v":1},1,1,null,null,null,null,null,null,null,null,null,null,null,null,null,null,null,null,null,null,null,null,null,null,null,null,null,null,null,null,null,null,null,null,null,null,null,null,null,null,null,null,null,null,null,null,null,null,null,null,null,null,null,null,null,null,null,null,null,null,null,null,null,null,null,null,null,null,null,null,null,null,null,null,null,null,null,null,null,null,{"$f":"ROW()","v":381}]
[{"$f":"Vstupy!A$16","v":1},0,1,null,null,null,null,null,null,null,null,null,null,null,null,null,null,null,null,null,null,null,null,null,null,null,null,null,null,null,null,null,null,null,null,null,null,null,null,null,null,null,null,null,null,null,null,null,null,null,null,null,null,null,null,null,null,null,null,null,null,null,null,null,null,null,null,null,null,null,null,null,null,null,null,null,null,null,null,null,null,{"$f":"ROW()","v":382}]
[{"$f":"Vstupy!A$16","v":1},0,1,null,null,null,null,null,null,null,null,null,null,null,null,null,null,null,null,null,null,null,null,null,null,null,null,null,null,null,null,null,null,null,null,null,null,null,null,null,null,null,null,null,null,null,null,null,null,null,null,null,null,null,null,null,null,null,null,null,null,null,null,null,null,null,null,null,null,null,null,null,null,null,null,null,null,null,null,null,null,{"$f":"ROW()","v":383}]
[{"$f":"Vstupy!A$16","v":1},{"$f":"SUM(Help!Q12)","v":0},1,null,null,null,null,null,null,null,null,{"$f":"Vstupy!S149","v":"Očekávaná výplata spoření/investic"},null,null,null,null,null,null,null,null,null,null,null,null,null,null,null,null,null,null,null,null,null,null,null,null,null,null,null,null,null,null,null,null,null,null,null,null,null,null,null,null,null,null,"Stav celkem",{"$f":"AL182","v":0},null,null,null,null,null,null,null,null,null,null,null,null,null,null,null,null,"Doporučení celkem",{"$f":"BR182","v":0},null,null,null,null,null,null,null,{"$f":"ROW()","v":384}]
[{"$f":"Vstupy!A$16","v":1},{"$f":"B384","v":0},1,null,null,null,null,null,null,null,null,null,null,null,null,null,null,null,null,null,null,null,null,null,null,null,null,null,null,null,null,null,null,null,null,null,null,null,null,null,null,null,null,null,null,null,null,null,null,null,null,null,null,null,null,null,null,null,null,null,null,null,null,null,null,null,null,null,null,null,null,null,null,null,null,null,null,null,null,null,null,{"$f":"ROW()","v":385}]
[{"$f":"Vstupy!A$16","v":1},0,1,null,null,null,null,null,null,null,null,null,null,null,null,null,null,null,null,null,null,null,null,null,null,null,null,null,null,null,null,null,null,null,null,null,null,null,null,null,null,null,null,null,null,null,null,null,null,null,null,null,null,null,null,null,null,null,null,null,null,null,null,null,null,null,null,null,null,null,null,null,null,null,null,null,null,null,null,null,null,{"$f":"ROW()","v":386}]
[{"$f":"Vstupy!A$16","v":1},0,1,null,null,null,null,null,null,null,null,null,null,null,null,null,null,null,null,null,null,null,null,null,null,null,null,null,null,null,null,null,null,null,null,null,null,null,null,null,null,null,null,null,null,null,null,null,null,null,null,null,null,null,null,null,null,null,null,null,null,null,null,null,null,null,null,null,null,null,null,null,null,null,null,null,null,null,null,null,null,{"$f":"ROW()","v":387}]
[{"$f":"Vstupy!A$16","v":1},0,1,null,null,null,null,null,null,null,null,null,null,null,null,null,null,null,null,null,null,null,null,null,null,null,null,null,null,null,null,null,null,null,null,null,null,null,null,null,null,null,null,null,null,null,null,null,null,null,null,null,null,null,null,null,null,null,null,null,null,null,null,null,null,null,null,null,null,null,null,null,null,null,null,null,null,null,null,null,null,{"$f":"ROW()","v":388}]
[{"$f":"Vstupy!A$16","v":1},0,1,null,null,null,null,null,null,null,null,null,null,null,null,null,null,null,null,null,null,null,null,null,null,null,null,null,null,null,null,null,null,null,null,null,null,null,null,null,null,null,null,null,null,null,null,null,null,null,null,null,null,null,null,null,null,null,null,null,null,null,null,null,null,null,null,null,null,null,null,null,null,null,null,null,null,null,null,null,null,{"$f":"ROW()","v":389}]
[{"$f":"Vstupy!A$16","v":1},0,1,null,null,null,null,null,null,null,null,null,null,null,null,null,null,null,null,null,null,null,null,null,null,null,null,null,null,null,null,null,null,null,null,null,null,null,null,null,null,null,null,null,null,null,null,null,null,null,null,null,null,null,null,null,null,null,null,null,null,null,null,null,null,null,null,null,null,null,null,null,null,null,null,null,null,null,null,null,null,{"$f":"ROW()","v":390}]
[{"$f":"Vstupy!A$16","v":1},0,1,null,null,null,null,null,null,null,null,null,null,null,null,null,null,null,null,null,null,null,null,null,null,null,null,null,null,null,null,null,null,null,null,null,null,null,null,null,null,null,null,null,null,null,null,null,null,null,null,null,null,null,null,null,null,null,null,null,null,null,null,null,null,null,null,null,null,null,null,null,null,null,null,null,null,null,null,null,null,{"$f":"ROW()","v":391}]
[{"$f":"Vstupy!A$16","v":1},0,1,null,null,null,null,null,null,null,null,null,null,null,null,null,null,null,null,null,null,null,null,null,null,null,null,null,null,null,null,null,null,null,null,null,null,null,null,null,null,null,null,null,null,null,null,null,null,null,null,null,null,null,null,null,null,null,null,null,null,null,null,null,null,null,null,null,null,null,null,null,null,null,null,null,null,null,null,null,null,{"$f":"ROW()","v":392}]
[{"$f":"Vstupy!A$16","v":1},0,1,null,null,null,null,null,null,null,null,null,null,null,null,null,null,null,null,null,null,null,null,null,null,null,null,null,null,null,null,null,null,null,null,null,null,null,null,null,null,null,null,null,null,null,null,null,null,null,null,null,null,null,null,null,null,null,null,null,null,null,null,null,null,null,null,null,null,null,null,null,null,null,null,null,null,null,null,null,null,{"$f":"ROW()","v":393}]
[{"$f":"Vstupy!A$16","v":1},0,1,null,null,null,null,null,null,null,null,null,null,null,null,null,null,null,null,null,null,null,null,null,null,null,null,null,null,null,null,null,null,null,null,null,null,null,null,null,null,null,null,null,null,null,null,null,null,null,null,null,null,null,null,null,null,null,null,null,null,null,null,null,null,null,null,null,null,null,null,null,null,null,null,null,null,null,null,null,null,{"$f":"ROW()","v":394}]
[{"$f":"Vstupy!A$16","v":1},0,1,null,null,null,null,null,null,null,null,null,null,null,null,null,null,null,null,null,null,null,null,null,null,null,null,null,null,null,null,null,null,null,null,null,null,null,null,null,null,null,null,null,null,null,null,null,null,null,null,null,null,null,null,null,null,null,null,null,null,null,null,null,null,null,null,null,null,null,null,null,null,null,null,null,null,null,null,null,null,{"$f":"ROW()","v":395}]
[{"$f":"Vstupy!A$16","v":1},0,1,null,null,null,null,null,null,null,null,null,null,null,null,null,null,null,null,null,null,null,null,null,null,null,null,null,null,null,null,null,null,null,null,null,null,null,null,null,null,null,null,null,null,null,null,null,null,null,null,null,null,null,null,null,null,null,null,null,null,null,null,null,null,null,null,null,null,null,null,null,null,null,null,null,null,null,null,null,null,{"$f":"ROW()","v":396}]
[1,1,1,null,null,null,null,null,null,null,null,null,null,null,null,null,null,null,null,null,null,null,null,null,null,null,null,null,null,null,null,null,null,null,null,null,null,null,null,null,null,null,null,null,null,null,null,null,null,null,null,null,null,null,null,null,null,null,null,null,null,null,null,null,null,null,null,null,null,null,null,null,null,null,null,null,null,null,null,null,null,{"$f":"ROW()","v":397}]
[1,1,1,null,null,null,null,null,null,null,null,"Finanční plán OVB",null,null,null,null,null,null,null,null,null,null,null,null,null,null,null,null,null,null,null,null,null,null,null,null,null,null,null,null,null,null,null,null,null,null,null,null,null,null,null,null,null,null,null,null,null,null,null,null,null,null,null,null,null,null,null,null,null,null,null,null,null,null,null,null,null,null,null,null,null,{"$f":"ROW()","v":398}]
[1,1,1,null,null,null,null,null,null,null,null,{"$f":"Vstupy!AF$9 & \" \" & Vstupy!AI$10","v":" "},null,null,null,null,null,null,null,null,null,null,null,null,null,null,null,null,null,null,null,null,null,null,null,null,null,null,null,null,null,null,null,null,null,null,null,null,null,null,null,null,null,null,null,null,null,null,null,null,null,null,null,null,null,null,null,null,null,null,null,null,null,null,null,null,null,null,null,null,null,{"$f":"ROW()","v":399}]
[{"$f":"Vstupy!A$16","v":1},0,1,null,null,null,null,null,null,null,null,null,null,null,null,null,null,null,null,null,null,null,null,null,null,null,null,null,null,null,null,null,null,null,null,null,null,null,null,null,null,null,null,null,null,null,null,null,null,null,null,null,null,null,null,null,null,null,null,null,null,null,null,null,null,null,null,null,null,null,null,null,null,null,null,null,null,null,null,null,null,{"$f":"ROW()","v":400}]
[{"$f":"Vstupy!A$16","v":1},0,1,null,null,null,null,null,null,null,null,null,null,null,null,null,null,null,null,null,null,null,null,null,null,null,null,null,null,null,null,null,null,null,null,null,null,null,null,null,null,null,null,null,null,null,null,null,null,null,null,null,null,null,null,null,null,null,null,null,null,null,null,null,null,null,null,null,null,null,null,null,null,null,null,null,null,null,null,null,null,{"$f":"ROW()","v":401}]
[{"$f":"Vstupy!A$16","v":1},0,1,null,null,null,null,null,null,null,null,null,null,null,null,null,null,null,null,null,null,null,null,null,null,null,null,null,null,null,null,null,null,null,null,null,null,null,null,null,null,null,null,null,null,null,null,null,null,null,null,null,null,null,null,null,null,null,null,null,null,null,null,null,null,null,null,null,null,null,null,null,null,null,null,null,null,null,null,null,null,{"$f":"ROW()","v":402}]
[{"$f":"Vstupy!A$16","v":1},0,1,null,null,null,null,null,null,null,null,null,null,null,null,null,null,null,null,null,null,null,null,null,null,null,null,null,null,null,null,null,null,null,null,null,null,null,null,null,null,null,null,null,null,null,null,null,null,null,null,null,null,null,null,null,null,null,null,null,null,null,null,null,null,null,null,null,null,null,null,null,null,null,null,null,null,null,null,null,null,{"$f":"ROW()","v":403}]
[{"$f":"Vstupy!A$16","v":1},0,1,null,null,null,null,null,null,null,null,null,null,null,null,null,null,null,null,null,null,null,null,null,null,null,null,null,null,null,null,null,null,null,null,null,null,null,null,null,null,null,null,null,null,null,null,null,null,null,null,null,null,null,null,null,null,null,null,null,null,null,null,null,null,null,null,null,null,null,null,null,null,null,null,null,null,null,null,null,null,{"$f":"ROW()","v":404}]
[{"$f":"Vstupy!A$16","v":1},0,1,null,null,null,null,null,null,null,null,null,null,null,null,null,null,null,null,null,null,null,null,null,null,null,null,null,null,null,null,null,null,null,null,null,null,null,null,null,null,null,null,null,null,null,null,null,null,null,null,null,null,null,null,null,null,null,null,null,null,null,null,null,null,null,null,null,null,null,null,null,null,null,null,null,null,null,null,null,null,{"$f":"ROW()","v":405}]
[{"$f":"Vstupy!A$16","v":1},0,1,null,null,null,null,null,null,null,null,null,null,null,null,null,null,null,null,null,null,null,null,null,null,null,null,null,null,null,null,null,null,null,null,null,null,null,null,null,null,null,null,null,null,null,null,null,null,null,null,null,null,null,null,null,null,null,null,null,null,null,null,null,null,null,null,null,null,null,null,null,null,null,null,null,null,null,null,null,null,{"$f":"ROW()","v":406}]
[{"$f":"Vstupy!A$16","v":1},0,1,null,null,null,null,null,null,null,null,null,null,null,null,null,null,null,null,null,null,null,null,null,null,null,null,null,null,null,null,null,null,null,null,null,null,null,null,null,null,null,null,null,null,null,null,null,null,null,null,null,null,null,null,null,null,null,null,null,null,null,null,null,null,null,null,null,null,null,null,null,null,null,null,null,null,null,null,null,null,{"$f":"ROW()","v":407}]
[{"$f":"Vstupy!A$16","v":1},0,1,null,null,null,null,null,null,null,null,null,null,null,null,null,null,null,null,null,null,null,null,null,null,null,null,null,null,null,null,null,null,null,null,null,null,null,null,null,null,null,null,null,null,null,null,null,null,null,null,null,null,null,null,null,null,null,null,null,null,null,null,null,null,null,null,null,null,null,null,null,null,null,null,null,null,null,null,null,null,{"$f":"ROW()","v":408}]
[{"$f":"Vstupy!A$17","v":0},1,{"$f":"B418+B424+B431+B437","v":0},null,null,null,null,null,null,null,null,null,null,null,null,null,null,null,null,null,null,null,null,null,null,null,null,null,null,null,null,null,null,null,null,null,null,null,null,null,null,null,null,null,null,null,null,null,null,null,null,null,null,null,null,null,null,null,null,null,null,null,null,null,null,null,null,null,null,null,null,null,null,null,null,null,null,null,null,null,null,{"$f":"ROW()","v":409}]
[{"$f":"Vstupy!A$17","v":0},1,{"$f":"B418+B424+B431+B437","v":0},null,null,null,null,null,null,null,null,"Finanční plán OVB",null,null,null,null,null,null,null,null,null,null,null,null,null,null,null,null,null,null,null,null,null,null,null,null,null,null,null,null,null,null,null,null,null,null,null,null,null,null,null,null,null,null,null,null,null,null,null,null,null,null,null,null,null,null,null,null,null,null,null,null,null,null,null,null,null,null,null,null,null,{"$f":"ROW()","v":410}]
[{"$f":"Vstupy!A$17","v":0},1,{"$f":"B418+B424+B431+B437","v":0},null,null,null,null,null,null,null,null,{"$f":"Vstupy!AF$9 & \" \" & Vstupy!AI$10","v":" "},null,null,null,null,null,null,null,null,null,null,null,null,null,null,null,null,null,null,null,null,null,null,null,null,null,null,null,null,null,null,null,null,null,null,null,null,null,null,null,null,null,null,null,null,null,null,null,null,null,null,null,null,null,null,null,null,null,null,null,null,null,null,null,null,null,null,null,null,null,{"$f":"ROW()","v":411}]
[{"$f":"Vstupy!A$17","v":0},1,{"$f":"B418+B424+B431+B437","v":0},null,null,null,null,null,null,null,null,null,{"$f":"Vstupy!S170","v":"Zajištění příjmu"},null,null,null,null,null,null,null,null,null,null,null,null,null,null,null,null,null,null,null,null,null,null,null,null,null,null,null,null,null,null,null,null,null,null,null,null,null,null,null,null,null,null,null,null,null,null,null,null,null,null,null,null,null,null,null,null,null,null,null,null,null,null,null,null,null,null,null,null,{"$f":"ROW()","v":412}]
[{"$f":"Vstupy!A$17","v":0},1,0,null,null,null,null,null,null,null,null,"Požadavek klienta",null,null,null,null,null,null,null,null,null,null,null,null,null,null,null,null,null,null,null,null,null,null,null,null,null,null,null,null,null,null,null,null,null,null,null,null,null,null,null,null,null,null,null,null,null,null,null,null,null,null,null,null,null,null,null,null,null,null,null,null,null,null,null,null,null,null,null,null,null,{"$f":"ROW()","v":413}]
[{"$f":"Vstupy!A$17","v":0},1,0,null,null,null,null,null,null,null,null,{"$f":"IF(Vstupy!AF171=0,\"Klient požaduje návrh řešení bez specifických požadavků\",Vstupy!AF171)","v":"Klient požaduje návrh řešení bez specifických požadavků"},null,null,null,null,null,null,null,null,null,null,null,null,null,null,null,null,null,null,null,null,null,null,null,null,null,null,null,null,null,null,null,null,null,null,null,null,null,null,null,null,null,null,null,null,null,null,null,null,null,null,null,null,null,null,null,null,null,null,null,null,null,null,null,null,null,null,null,null,null,{"$f":"ROW()","v":414}]
[{"$f":"Vstupy!A$17","v":0},{"$f":"Vstupy!G172","v":0},0,null,null,null,null,null,null,null,null,"Návrh řešení",null,null,null,null,null,null,null,null,null,null,null,null,null,null,null,null,null,null,null,null,null,null,null,null,null,null,null,null,null,null,null,null,null,null,null,null,null,null,null,null,null,null,null,null,null,null,null,null,null,null,null,null,null,null,null,null,null,null,null,null,null,null,null,null,null,null,null,null,null,{"$f":"ROW()","v":415}]
[{"$f":"Vstupy!A$17","v":0},{"$f":"Vstupy!G172","v":0},0,null,null,null,null,null,null,null,null,{"$f":"Vstupy!AF172","v":0},null,null,null,null,null,null,null,null,null,null,null,null,null,null,null,null,null,null,null,null,null,null,null,null,null,null,null,null,null,null,null,null,null,null,null,null,null,null,null,null,null,null,null,null,null,null,null,null,null,null,null,null,null,null,null,null,null,null,null,null,null,null,null,null,null,null,null,null,null,{"$f":"ROW()","v":416}]
[{"$f":"Vstupy!A$17","v":0},1,1,null,null,null,null,null,null,null,null,null,null,null,null,null,null,null,null,null,null,null,null,null,null,null,null,null,null,null,null,null,null,null,null,null,null,null,null,null,null,null,null,null,null,null,null,null,null,null,null,null,null,null,null,null,null,null,null,null,null,null,null,null,null,null,null,null,null,null,null,null,null,null,null,null,null,null,null,null,null,{"$f":"ROW()","v":417}]
[{"$f":"Vstupy!A$17","v":0},{"$f":"Vstupy!G$174","v":0},1,null,null,null,null,null,null,null,null,null,"Pro případ smrti",null,null,null,null,null,null,null,null,null,null,null,null,null,null,null,null,null,{"$f":"Vstupy!AF9","v":0},null,null,null,null,null,null,null,null,null,null,null,null,null,null,null,null,{"$f":"IF(Vstupy!AQ9=\"\",\"\",Vstupy!AQ9)","v":""},null,null,null,null,null,null,null,null,null,null,null,null,null,null,null,null,null,null,null,null,null,null,null,null,null,null,null,null,null,null,null,null,null,{"$f":"ROW()","v":418}]
[{"$f":"Vstupy!A$17","v":0},{"$f":"Vstupy!G$174","v":0},1,null,null,null,null,null,null,null,null,{"$f":"Vstupy!S174","v":"X násobek čistého ročního příjmu"},null,null,null,null,null,null,null,null,null,null,null,null,null,null,null,null,null,null,null,null,null,{"$f":"IF(AE421=\"\",\"\",Vstupy!AG174)","v":""},{"$f":"IF(AE421=\"\",\"\",Vstupy!AH174)","v":""},null,null,null,null,{"$f":"IF(AE421=\"\",\"\",Vstupy!AL174)","v":""},null,null,null,null,null,null,null,null,null,null,{"$f":"IF(AV421=\"\",\"\",Vstupy!AR174)","v":""},{"$f":"IF(AV421=\"\",\"\",Vstupy!AS174)","v":""},null,null,null,null,{"$f":"IF(AV421=\"\",\"\",Vstupy!AW174)","v":""},null,null,null,null,null,null,null,null,null,null,null,null,null,null,null,null,null,null,null,null,null,null,null,null,{"$f":"ROW()","v":419}]
[{"$f":"Vstupy!A$17","v":0},{"$f":"Vstupy!G$174","v":0},1,null,null,null,null,null,null,null,null,"Výše závazků, které chcete                                        v případě smrti vyrovnat",null,null,null,null,null,null,null,null,null,null,null,null,null,null,null,null,null,null,{"$f":"IF(AE421=\"\",\"\",Vstupy!AF175)","v":""},null,null,null,null,null,null,null,null,null,null,null,null,null,null,null,null,{"$f":"IF(AV421=\"\",\"\",Vstupy!AQ175)","v":""},null,null,null,null,null,null,null,null,null,null,null,null,null,null,null,null,null,null,null,null,null,null,null,null,null,null,null,null,null,null,null,null,null,{"$f":"ROW()","v":420}]
[{"$f":"Vstupy!A$17","v":0},{"$f":"Vstupy!G$174","v":0},1,null,null,null,null,null,null,null,null,"Doporučená pojistná částka",null,null,null,null,null,null,null,null,null,null,null,null,null,null,null,null,null,null,{"$f":"IF(Vstupy!AF176=0,\"\",Vstupy!AF176)","v":""},null,null,null,null,null,null,null,null,null,null,null,null,null,null,null,null,{"$f":"IF(Vstupy!AQ176 = 0,\"\",Vstupy!AQ176)","v":""},null,null,null,null,null,null,null,null,null,null,null,null,null,null,null,null,null,null,null,null,null,null,null,null,null,null,null,null,null,null,null,null,null,{"$f":"ROW()","v":421}]
[{"$f":"Vstupy!A$17","v":0},0,1,null,null,null,null,null,null,null,null,null,null,null,null,null,null,null,null,null,null,null,null,null,null,"Informace","Cíl - zajištění pozůstalých a vyrovnání závazků\n\nDoporučená výše zajištění = výše nezajištěných závazků + 1x až 4x čistý roční příjem klienta (dle potřeb pozůstalých - především počet a stáří dětí).\nJe rozumné sjednat degresivní plnění, protože s rostoucím věkem klesá potřeba zajištění a předpokládá se umořování závazků klientem.\nV případě nezajištěných závazků u partnerů se jejich výše mezi partnery rozloží v jimi požadovaném poměru, především s ohledem na příjem.",null,null,null,null,null,null,null,null,null,null,null,null,null,null,null,null,null,null,null,null,null,null,null,null,null,null,null,null,null,null,null,null,null,null,null,null,null,null,null,null,null,null,null,null,null,null,null,null,null,null,null,null,null,null,{"$f":"ROW()","v":422}]
[{"$f":"Vstupy!A$17","v":0},{"$f":"Vstupy!G$174","v":0},1,null,null,null,null,null,null,null,null,null,null,null,null,null,null,null,null,null,null,null,null,null,null,null,null,null,null,null,null,null,null,null,null,null,null,null,null,null,null,null,null,null,null,null,null,null,null,null,null,null,null,null,null,null,null,null,null,null,null,null,null,null,null,null,null,null,null,null,null,null,null,null,null,null,null,null,null,null,null,{"$f":"ROW()","v":423}]
[{"$f":"Vstupy!A$17","v":0},{"$f":"Vstupy!G$184","v":0},1,null,null,null,null,null,null,null,null,null,"Pro příp. trv. PN / snížené PS",null,null,null,null,null,null,null,null,null,null,null,null,null,null,null,null,null,{"$f":"Vstupy!AF9","v":0},null,null,null,null,null,null,null,null,null,null,null,null,null,null,null,null,{"$f":"IF(Vstupy!AQ9=\"\",\"\",Vstupy!AQ9)","v":""},null,null,null,null,null,null,null,null,null,null,null,null,null,null,null,null,{"$f":"IF(Vstupy!BB9=\"\",\"\",Vstupy!BB9)","v":""},null,null,null,null,null,null,null,null,null,null,null,null,null,null,null,null,{"$f":"IF(Vstupy!BM9=\"\",\"\",Vstupy!BM9)","v":""},null,null,null,null,null,null,null,null,null,null,null,null,null,null,null,null,{"$f":"IF(Vstupy!BX9=\"\",\"\",Vstupy!BX9)","v":""}]
[{"$f":"Vstupy!A$17","v":0},{"$f":"Vstupy!G$184","v":0},1,null,null,null,null,null,null,null,null,"Měsíční dávky / závazky, které chcete jednorázově vyrovnat 1)",null,null,null,null,null,null,null,null,null,null,null,null,null,null,null,null,null,null,{"$f":"IF(Vstupy!AF184+Vstupy!AL184=0,\"\",Vstupy!AF184)","v":""},null,null,null,null,null,null,null,{"$f":"IF(Vstupy!AF184+Vstupy!AL184=0,\"\",\"/\")","v":""},{"$f":"IF(Vstupy!AF184+Vstupy!AL184=0,\"\",Vstupy!AL184)","v":""},null,null,null,null,null,null,null,{"$f":"IF(Vstupy!AQ184+Vstupy!AW184=0,\"\",Vstupy!AQ184)","v":""},null,null,null,null,null,null,null,{"$f":"IF(Vstupy!AQ184+Vstupy!AW184=0,\"\",\"/\")","v":""},{"$f":"IF(Vstupy!AQ184+Vstupy!AW184=0,\"\",Vstupy!AW184)","v":""},null,null,null,null,null,null,null,{"$f":"IF(Vstupy!BB184+Vstupy!BH184=0,\"\",Vstupy!BB184)","v":""},null,null,null,null,null,null,null,{"$f":"IF(Vstupy!BB184+Vstupy!BH184=0,\"\",\"/\")","v":""},{"$f":"IF(Vstupy!BB184+Vstupy!BH184=0,\"\",Vstupy!BH184)","v":""},null,null,null,null,null,null,null,{"$f":"IF(Vstupy!BM184+Vstupy!BS184=0,\"\",Vstupy!BM184)","v":""},null,null,null,null,null,null,null,{"$f":"IF(Vstupy!BM184+Vstupy!BS184=0,\"\",\"/\")","v":""},{"$f":"IF(Vstupy!BM184+Vstupy!BS184=0,\"\",Vstupy!BS184)","v":""},null,null,null,null,null,null,null,{"$f":"IF(Vstupy!BX184+Vstupy!CD184=0,\"\",Vstupy!BX184)","v":""},null,null,null,null,null,null,null,{"$f":"IF(Vstupy!BX184+Vstupy!CD184=0,\"\",\"/\")","v":""},{"$f":"IF(Vstupy!BX184+Vstupy!CD184=0,\"\",Vstupy!CD184)","v":""}]
[{"$f":"Vstupy!A$17","v":0},{"$f":"Vstupy!G$184","v":0},1,null,null,null,null,null,null,null,null,"Očekávaný invalidní důchod,        popřípadě jiné měsíční dávky dávky",null,null,null,null,null,null,null,null,null,null,null,null,null,null,null,null,null,null,{"$f":"IF(Vstupy!AF184+Vstupy!AL184=0,\"\",Vstupy!AH185)","v":""},null,null,null,null,null,null,null,null,null,null,null,null,null,null,null,null,{"$f":"IF(Vstupy!AQ184+Vstupy!AW184=0,\"\",Vstupy!AS185)","v":""},null,null,null,null,null,null,null,null,null,null,null,null,null,null,null,null,{"$f":"IF(Vstupy!BB184+Vstupy!BH184=0,\"\",Vstupy!BD185)","v":""},null,null,null,null,null,null,null,null,null,null,null,null,null,null,null,null,{"$f":"IF(Vstupy!BM184+Vstupy!BS184=0,\"\",Vstupy!BO185)","v":""},null,null,null,null,null,null,null,null,null,null,null,null,null,null,null,null,{"$f":"IF(Vstupy!BX184+Vstupy!CD184=0,\"\",Vstupy!BZ185)","v":""}]
[{"$f":"Vstupy!A$17","v":0},{"$f":"Vstupy!G$184","v":0},1,null,null,null,null,null,null,null,null,"Rozpouštěná PČ /  doba / zhodn.       (PČ při plné progresi) 2)",null,null,null,null,null,null,null,null,null,null,null,null,null,null,null,null,null,null,{"$f":"IF(Vstupy!AF184+Vstupy!AL184=0,\"\",Vstupy!AH186)","v":""},null,null,null,null,null,null,null,{"$f":"IF(Vstupy!AF184+Vstupy!AL184=0,\"\",\"/  \"&Vstupy!AF186&\"  /\")","v":""},null,null,null,{"$f":"IF(Vstupy!AF184+Vstupy!AL184=0,\"\",Vstupy!AN186)","v":""},null,null,null,null,{"$f":"IF(Vstupy!AQ184+Vstupy!AW184=0,\"\",Vstupy!AS186)","v":""},null,null,null,null,null,null,null,{"$f":"IF(Vstupy!AQ184+Vstupy!AW184=0,\"\",\"/  \"&Vstupy!AQ186&\"  /\")","v":""},null,null,null,{"$f":"IF(Vstupy!AQ184+Vstupy!AW184=0,\"\",Vstupy!AY186)","v":""},null,null,null,null,{"$f":"IF(Vstupy!BB184+Vstupy!BH184=0,\"\",Vstupy!BD186)","v":""},null,null,null,null,null,null,null,{"$f":"IF(Vstupy!BB184+Vstupy!BH184=0,\"\",\"/  \"&Vstupy!BB186&\"  /\")","v":""},null,null,null,{"$f":"IF(Vstupy!BB184+Vstupy!BH184=0,\"\",Vstupy!BJ186)","v":""},null,null,null,null,{"$f":"IF(Vstupy!BM184+Vstupy!BS184=0,\"\",Vstupy!BO186)","v":""},null,null,null,null,null,null,null,{"$f":"IF(Vstupy!BM184+Vstupy!BS184=0,\"\",\"/\"&Vstupy!BM186&\"/\")","v":""},null,null,null,{"$f":"IF(Vstupy!BM184+Vstupy!BS184=0,\"\",Vstupy!BU186)","v":""},null,null,null,null,{"$f":"IF(Vstupy!BX184+Vstupy!CD184=0,\"\",Vstupy!BZ186)","v":""},null,null,null,null,null,null,null,{"$f":"IF(Vstupy!BX184+Vstupy!CD184=0,\"\",\"/\"&Vstupy!BX186&\"/\")","v":""},null,null,null,{"$f":"IF(Vstupy!BX184+Vstupy!CD184=0,\"\",Vstupy!CF186)","v":""}]
[{"$f":"Vstupy!A$17","v":0},{"$f":"Vstupy!G$184","v":0},1,null,null,null,null,null,null,null,null,"Investování PČ - dávky z výnosu                                     (PČ při plné progresi) 3)",null,null,null,null,null,null,null,null,null,null,null,null,null,null,null,null,null,null,{"$f":"IF(Vstupy!AF184+Vstupy!AL184=0,\"\",Vstupy!AH187)","v":""},null,null,null,null,null,null,null,null,null,null,null,{"$f":"IF(Vstupy!AF184+Vstupy!AL184=0,\"\",Vstupy!AN187)","v":""},null,null,null,null,{"$f":"IF(Vstupy!AQ184+Vstupy!AW184=0,\"\",Vstupy!AS187)","v":""},null,null,null,null,null,null,null,null,null,null,null,{"$f":"IF(Vstupy!AQ184+Vstupy!AW184=0,\"\",Vstupy!AY187)","v":""},null,null,null,null,{"$f":"IF(Vstupy!BB184+Vstupy!BH184=0,\"\",Vstupy!BD187)","v":""},null,null,null,null,null,null,null,null,null,null,null,{"$f":"IF(Vstupy!BB184+Vstupy!BH184=0,\"\",Vstupy!BJ187)","v":""},null,null,null,null,{"$f":"IF(Vstupy!BM184+Vstupy!BS184=0,\"\",Vstupy!BO187)","v":""},null,null,null,null,null,null,null,null,null,null,null,{"$f":"IF(Vstupy!BM184+Vstupy!BS184=0,\"\",Vstupy!BU187)","v":""},null,null,null,null,{"$f":"IF(Vstupy!BX184+Vstupy!CD184=0,\"\",Vstupy!BZ187)","v":""},null,null,null,null,null,null,null,null,null,null,null,{"$f":"IF(Vstupy!BX184+Vstupy!CD184=0,\"\",Vstupy!CF187)","v":""}]
[{"$f":"Vstupy!A$17","v":0},0,1,null,null,null,null,null,null,null,null,null,null,null,null,null,null,null,null,null,null,null,null,null,null,"Informace","Cíl - dorovnání příjmu (v roce 2011 činí průměrná výše plného invalidního důchodu cca 11 000) do výše původního příjmu, popř. vyrovnání závazků\n\nDoporučená výše zajištění\nvar. 1 - Dávky, které budou do odchodu do důchodu dorovnávat výpadek příjmu. Po odchodu do důchodu nastává čerpání naspořeného důchodu.\nvar. 2 - Pojistná částka, ze které bude klient do odchodu do důchodu dorovnávat výpadek příjmu popř. z ní navíc vyrovná závazky – buď jejím rozpouštěním (je rozumné sjednat degresivní plnění, protože se krátí doba do důchodu = doba po kterou je potřeba PČ rozpouštět a s rostoucím věkem také klesá potřeba zajištění a předpokládá se umořování závazků klientem) nebo vybíráním zisků z investované PČ (po odchodu do důchodu zůstává klientovi celá investovaná PČ).\n\nMinimálně zajistit splacení / schopnost splácení finančních závazků\nDěti individuálně - aby mohli vést plnohodnotný život\n\nK dispozici jsou zpravidla tyto produkty:\nPlná invalidita                                výplata v případě přiznání invalidity 3. stupně z důvodu úrazu nebo nemoci\nTrvalé následky úrazu                  výplata v případě jakýchkoli TN způsobených úrazem\nZproštění od placení pojistného    většinou rozsah jako „Pracovní neschopnost“, ale plnění omezeno pouze na pojistné za příslušné pojištění\nZávažná onemocnění                     výplata při diagnóze v pojistných podmínkách vyjmenovaných závažných onemocnění. Buď dojde k vyléčení (po dobu léčení by klient měl mít sjednáno pojištění pro případ dočasné pracovní neschopnosti) nebo nastane invalidita 1., 2. nebo 3. stupně. Invaliditu 3. stupně je výhodnější zajistit „Plnou invaliditou“ – je sice o něco dražší, ale vztahuje se na veškeré nemoci a úrazy. Pojištěním závažných onemocnění není výhodné zajišťovat dlouhodobý výpadek příjmu, je lépe ho chápat jako jednorázové „bolestné“.",null,null,null,null,null,null,null,null,null,null,null,null,null,null,null,null,null,null,null,null,null,null,null,null,null,null,null,null,null,null,null,null,null,null,null,null,null,null,null,null,null,null,null,null,null,null,null,null,null,null,null,null,null,null,{"$f":"ROW()","v":429}]
[{"$f":"Vstupy!A$17","v":0},{"$f":"Vstupy!G$184","v":0},1,null,null,null,null,null,null,null,null,"1) Dávka, kterou chcete v případě trvalé pracovní neschopnosti, resp. snížené pracovní schopnosti pobírat / výše závazků, které chcete jednorázově vyrovnat.\n2) Doba = počet let, během kterých se obdržená PČ rozpustí na mnou požadované měsíční dávky (snížené o příp. inv. důchod). Za předpokladu, že bude vyplacená PČ stále zhodnocována uvedenou sazbou. \n3) Suma potřebná k tomu, aby výnosy z ní pokryly mnou požadované měsíční dávky (snížené o příp. inv. důchod). Suma se nesnižuje, odčerpávám jen její zhodnocení.",null,null,null,null,null,null,null,null,null,null,null,null,null,null,null,null,null,null,null,null,null,null,null,null,null,null,null,null,null,null,null,null,null,null,null,null,null,null,null,null,null,null,null,null,null,null,null,null,null,null,null,null,null,null,null,null,null,null,null,null,null,null,null,null,null,null,null,null,null,{"$f":"ROW()","v":430}]
[{"$f":"Vstupy!A$17","v":0},{"$f":"Vstupy!G$194","v":0},1,null,null,null,null,null,null,null,null,null,"Pro případ dočasné PN",null,null,null,null,null,null,null,null,null,null,null,null,null,null,null,null,null,{"$f":"Vstupy!AF9","v":0},null,null,null,null,null,null,null,null,null,null,null,null,null,null,null,null,{"$f":"IF(Vstupy!AQ9=\"\",\"\",Vstupy!AQ9)","v":""},null,null,null,null,null,null,null,null,null,null,null,null,null,null,null,null,null,null,null,null,null,null,null,null,null,null,null,null,null,null,null,null,null,{"$f":"ROW()","v":431}]
[{"$f":"Vstupy!A$17","v":0},{"$f":"Vstupy!G$194","v":0},1,null,null,null,null,null,null,null,null,"Požadovaný příjem (A)                        měsíční / denní",null,null,null,null,null,null,null,null,null,null,null,null,null,null,null,null,null,null,{"$f":"IF(Vstupy!AF194=0,\"\",Vstupy!AF194)","v":""},null,null,null,null,null,null,null,{"$f":"IF(Vstupy!AF194=0,\"\",\"/\")","v":""},{"$f":"IF(Vstupy!AF194=0,\"\",Vstupy!AL194)","v":""},null,null,null,null,null,null,null,{"$f":"IF(Vstupy!AQ194=0,\"\",Vstupy!AQ194)","v":""},null,null,null,null,null,null,null,{"$f":"IF(Vstupy!AQ194=0,\"\",\"/\")","v":""},{"$f":"IF(Vstupy!AQ194=0,\"\",Vstupy!AW194)","v":""},null,null,null,null,null,null,null,null,null,null,null,null,null,null,null,null,null,null,null,null,null,null,null,null,{"$f":"ROW()","v":432}]
[{"$f":"Vstupy!A$17","v":0},{"$f":"Vstupy!G$194","v":0},1,null,null,null,null,null,null,null,null,"Nemocenská (B)                         (orientačně!) měsíční / denní",null,null,null,null,null,null,null,null,null,null,null,null,null,null,null,null,null,null,{"$f":"IF(Vstupy!AF194=0,\"\",Vstupy!AF195)","v":""},null,null,null,null,null,null,null,{"$f":"IF(Vstupy!AF194=0,\"\",\"/\")","v":""},{"$f":"IF(Vstupy!AF194=0,\"\",Vstupy!AL195)","v":""},null,null,null,null,null,null,null,{"$f":"IF(Vstupy!AQ194=0,\"\",Vstupy!AQ195)","v":""},null,null,null,null,null,null,null,{"$f":"IF(Vstupy!AQ194=0,\"\",\"/\")","v":""},{"$f":"IF(Vstupy!AQ194=0,\"\",Vstupy!AW195)","v":""},null,null,null,null,null,null,null,null,null,null,null,null,null,null,null,null,null,null,null,null,null,null,null,null,{"$f":"ROW()","v":433}]
[{"$f":"Vstupy!A$17","v":0},{"$f":"Vstupy!G$194","v":0},1,null,null,null,null,null,null,null,null,"Potřebné dorovnání (A-B)                       měsíční / denní",null,null,null,null,null,null,null,null,null,null,null,null,null,null,null,null,null,null,{"$f":"IF(Vstupy!AF194=0,\"\",Vstupy!AF196)","v":""},null,null,null,null,null,null,null,{"$f":"IF(Vstupy!AF194=0,\"\",\"/\")","v":""},{"$f":"IF(Vstupy!AF194=0,\"\",Vstupy!AL196)","v":""},null,null,null,null,null,null,null,{"$f":"IF(Vstupy!AQ194=0,\"\",Vstupy!AQ196)","v":""},null,null,null,null,null,null,null,{"$f":"IF(Vstupy!AQ194=0,\"\",\"/\")","v":""},{"$f":"IF(Vstupy!AQ194=0,\"\",Vstupy!AW196)","v":""},null,null,null,null,null,null,null,null,null,null,null,null,null,null,null,null,null,null,null,null,null,null,null,null,{"$f":"ROW()","v":434}]
[{"$f":"Vstupy!A$17","v":0},0,1,null,null,null,null,null,null,null,null,null,null,null,null,null,null,null,null,null,null,null,null,null,null,"Informace","Cíl - dorovnání příjmu do výše původního příjmu\n\nDoporučená výše zajištění\nDávky, které budou po dobu pobytu na \"neschopence\" dorovnávat výpadek příjmu.\nMinimálně zajistit schopnost splácení finančních závazků.\n\nK dispozici jsou zpravidla tyto produkty:\nPracovní neschopnost                    jakákoli nemoc nebo úraz který klienta přivede na neschopenku – doma nebo v nemocnici\nDoba nezbytného léčení úrazu      jakýkoli úraz – s neschopenkou i bez ní – doma nebo v nemocnici\nPobyt v nemocnici                          jakákoli nemoc nebo úraz který klienta přivede do nemocnice\nTělesné poškození úrazem            pouze vyjmenované úrazy – s neschopenkou i bez ní – doma nebo v nemocnici\nSplátky úvěru                                většinou rozsah jako „Pracovní neschopnost“, ale plnění omezeno pouze na splátky úvěru\nPravidelné výdaje                         většinou rozsah jako \"Prac. nesch.\", ale plnění omezeno pouze na prav. výdaje vyjm. v poj. podm. (např. inkaso)\nZproštění od placení pojistného    většinou rozsah jako „Pracovní neschopnost“, ale plnění omezeno pouze na pojistné za příslušné pojištění",null,null,null,null,null,null,null,null,null,null,null,null,null,null,null,null,null,null,null,null,null,null,null,null,null,null,null,null,null,null,null,null,null,null,null,null,null,null,null,null,null,null,null,null,null,null,null,null,null,null,null,null,null,null,{"$f":"ROW()","v":435}]
[{"$f":"Vstupy!A$17","v":0},{"$f":"Vstupy!G$194","v":0},1,null,null,null,null,null,null,null,null,null,null,null,null,null,null,null,null,null,null,null,null,null,null,null,null,null,null,null,null,null,null,null,null,null,null,null,null,null,null,null,null,null,null,null,null,null,null,null,null,null,null,null,null,null,null,null,null,null,null,null,null,null,null,null,null,null,null,null,null,null,null,null,null,null,null,null,null,null,null,{"$f":"ROW()","v":436}]
[{"$f":"Vstupy!A$17","v":0},{"$f":"Vstupy!G$201","v":0},1,null,null,null,null,null,null,null,null,null,"Pro případ ztráty zaměstnání",null,null,null,null,null,null,null,null,null,null,null,null,null,null,null,null,null,{"$f":"Vstupy!AF9","v":0},null,null,null,null,null,null,null,null,null,null,null,null,null,null,null,null,{"$f":"IF(Vstupy!AQ9=\"\",\"\",Vstupy!AQ9)","v":""},null,null,null,null,null,null,null,null,null,null,null,null,null,null,null,null,null,null,null,null,null,null,null,null,null,null,null,null,null,null,null,null,null,{"$f":"ROW()","v":437}]
[{"$f":"Vstupy!A$17","v":0},{"$f":"Vstupy!G$201","v":0},1,null,null,null,null,null,null,null,null,"Požadovaný příjem (A)                        měsíční / denní",null,null,null,null,null,null,null,null,null,null,null,null,null,null,null,null,null,null,{"$f":"IF(Vstupy!AF201=0,\"\",Vstupy!AF201)","v":""},null,null,null,null,null,null,null,{"$f":"IF(Vstupy!AF201=0,\"\",\"/\")","v":""},{"$f":"IF(Vstupy!AF201=0,\"\",Vstupy!AL201)","v":""},null,null,null,null,null,null,null,{"$f":"IF(Vstupy!AQ201=0,\"\",Vstupy!AQ201)","v":""},null,null,null,null,null,null,null,{"$f":"IF(Vstupy!AQ201=0,\"\",\"/\")","v":""},{"$f":"IF(Vstupy!AQ201=0,\"\",Vstupy!AW201)","v":""},null,null,null,null,null,null,null,null,null,null,null,null,null,null,null,null,null,null,null,null,null,null,null,null,{"$f":"ROW()","v":438}]
[{"$f":"Vstupy!A$17","v":0},{"$f":"Vstupy!G$201","v":0},1,null,null,null,null,null,null,null,null,"Ø podpora vyplacená ÚP (B)                        (orientačně!) měsíční / denní",null,null,null,null,null,null,null,null,null,null,null,null,null,null,null,null,null,null,{"$f":"IF(Vstupy!AF201=0,\"\",Vstupy!AF202)","v":""},null,null,null,null,null,null,null,{"$f":"IF(Vstupy!AF201=0,\"\",\"/\")","v":""},{"$f":"IF(Vstupy!AF201=0,\"\",Vstupy!AL202)","v":""},null,null,null,null,null,null,null,{"$f":"IF(Vstupy!AQ201=0,\"\",Vstupy!AQ202)","v":""},null,null,null,null,null,null,null,{"$f":"IF(Vstupy!AQ201=0,\"\",\"/\")","v":""},{"$f":"IF(Vstupy!AQ201=0,\"\",Vstupy!AW202)","v":""},null,null,null,null,null,null,null,null,null,null,null,null,null,null,null,null,null,null,null,null,null,null,null,null,{"$f":"ROW()","v":439}]
[{"$f":"Vstupy!A$17","v":0},{"$f":"Vstupy!G$201","v":0},1,null,null,null,null,null,null,null,null,"Potřebné dorovnání (A-B)                       měsíční / denní",null,null,null,null,null,null,null,null,null,null,null,null,null,null,null,null,null,null,{"$f":"IF(Vstupy!AF201=0,\"\",Vstupy!AF203)","v":""},null,null,null,null,null,null,null,{"$f":"IF(Vstupy!AF201=0,\"\",\"/\")","v":""},{"$f":"IF(Vstupy!AF201=0,\"\",Vstupy!AL203)","v":""},null,null,null,null,null,null,null,{"$f":"IF(Vstupy!AQ201=0,\"\",Vstupy!AQ203)","v":""},null,null,null,null,null,null,null,{"$f":"IF(Vstupy!AQ201=0,\"\",\"/\")","v":""},{"$f":"IF(Vstupy!AQ201=0,\"\",Vstupy!AW203)","v":""},null,null,null,null,null,null,null,null,null,null,null,null,null,null,null,null,null,null,null,null,null,null,null,null,{"$f":"ROW()","v":440}]
[{"$f":"Vstupy!A$17","v":0},0,1,null,null,null,null,null,null,null,null,null,null,null,null,null,null,null,null,null,null,null,null,null,null,"Informace","Cíl - dorovnání příjmu do výše původního příjmu\n\nDoporučená výše zajištění\nDávky, které budou po dobu příjmu podpory dorovnávat výpadek příjmu.\nMinimálně zajistit schopnost splácení finančních závazků.\n\nK dispozici jsou zpravidla tyto produkty:\nSplátky úvěru                                 většinou rozsah jako „Pracovní neschopnost“, ale plnění omezeno pouze na splátky úvěru\nPravidelné výdaje                          většinou rozsah jako \"Prac. nesch.\", ale plnění omezeno pouze na prav. výdaje vyjm. v poj. podm. (např. inkaso)\nZproštění od placení pojistného     většinou rozsah jako „Pracovní neschopnost“, ale plnění omezeno pouze na pojistné za příslušné pojištění",null,null,null,null,null,null,null,null,null,null,null,null,null,null,null,null,null,null,null,null,null,null,null,null,null,null,null,null,null,null,null,null,null,null,null,null,null,null,null,null,null,null,null,null,null,null,null,null,null,null,null,null,null,null,{"$f":"ROW()","v":441}]
[{"$f":"Vstupy!A$17","v":0},{"$f":"B443","v":0},0,null,null,null,null,null,null,null,null,null,null,null,null,null,null,null,null,null,null,null,null,null,null,null,null,null,null,null,null,null,null,null,null,null,null,null,null,null,null,null,null,null,null,null,null,null,null,null,null,null,null,null,null,null,null,null,null,null,null,null,null,null,null,null,null,null,null,null,null,null,null,null,null,null,null,null,null,null,null,{"$f":"ROW()","v":442}]
[{"$f":"Vstupy!A$17","v":0},{"$f":"B444+B445+B446+B447","v":0},0,null,null,null,null,null,null,null,null,null,{"$f":"Vstupy!S204","v":"Ostatní pojištění osob (úrazové pojištění dětí, …)"},null,null,null,null,null,null,null,null,null,null,null,null,null,null,null,null,null,null,null,null,null,null,null,null,null,null,null,null,null,null,null,null,null,null,null,null,null,null,null,null,null,null,null,null,null,null,null,null,null,null,null,null,null,null,null,null,null,null,null,null,null,null,null,null,null,null,null,null,{"$f":"ROW()","v":443}]
[{"$f":"Vstupy!A$17","v":0},{"$f":"B445","v":0},0,null,null,null,null,null,null,null,null,"Požadavek klienta",null,null,null,null,null,null,null,null,null,null,null,null,null,null,null,null,null,null,null,null,null,null,null,null,null,null,null,null,null,null,null,null,null,null,null,null,null,null,null,null,null,null,null,null,null,null,null,null,null,null,null,null,null,null,null,null,null,null,null,null,null,null,null,null,null,null,null,null,null,{"$f":"ROW()","v":444}]
[{"$f":"Vstupy!A$17","v":0},{"$f":"IF(L445=0,0,1)","v":0},0,null,null,null,null,null,null,null,null,{"$f":"Vstupy!AF205","v":0},null,null,null,null,null,null,null,null,null,null,null,null,null,null,null,null,null,null,null,null,null,null,null,null,null,null,null,null,null,null,null,null,null,null,null,null,null,null,null,null,null,null,null,null,null,null,null,null,null,null,null,null,null,null,null,null,null,null,null,null,null,null,null,null,null,null,null,null,null,{"$f":"ROW()","v":445}]
[{"$f":"Vstupy!A$17","v":0},{"$f":"B447","v":0},0,null,null,null,null,null,null,null,null,"Návrh řešení",null,null,null,null,null,null,null,null,null,null,null,null,null,null,null,null,null,null,null,null,null,null,null,null,null,null,null,null,null,null,null,null,null,null,null,null,null,null,null,null,null,null,null,null,null,null,null,null,null,null,null,null,null,null,null,null,null,null,null,null,null,null,null,null,null,null,null,null,null,{"$f":"ROW()","v":446}]
[{"$f":"Vstupy!A$17","v":0},{"$f":"IF(L447=0,0,1)","v":0},0,null,null,null,null,null,null,null,null,{"$f":"Vstupy!AF206","v":0},null,null,null,null,null,null,null,null,null,null,null,null,null,null,null,null,null,null,null,null,null,null,null,null,null,null,null,null,null,null,null,null,null,null,null,null,null,null,null,null,null,null,null,null,null,null,null,null,null,null,null,null,null,null,null,null,null,null,null,null,null,null,null,null,null,null,null,null,null,{"$f":"ROW()","v":447}]
[{"$f":"Vstupy!A$17","v":0},0,0,null,null,null,null,null,null,null,null,null,null,null,null,null,null,null,null,null,null,null,null,null,null,null,null,null,null,null,null,null,null,null,null,null,null,null,null,null,null,null,null,null,null,null,null,null,null,null,null,null,null,null,null,null,null,null,null,null,null,null,null,null,null,null,null,null,null,null,null,null,null,null,null,null,null,null,null,null,null,{"$f":"ROW()","v":448}]
[{"$f":"Vstupy!A$17","v":0},0,0,null,null,null,null,null,null,null,null,"Obecné informace",null,null,null,null,null,null,null,null,null,null,null,null,null,null,null,null,null,null,null,null,null,null,null,null,null,null,null,null,null,null,null,null,null,null,null,null,null,null,null,null,null,null,null,null,null,null,null,null,null,null,null,null,null,null,null,null,null,null,null,null,null,null,null,null,null,null,null,null,null,{"$f":"ROW()","v":449}]
[{"$f":"Vstupy!A$17","v":0},0,0,null,null,null,null,null,null,null,null,"Ze svého měsíčního příjmu  člověk obvykle automaticky hradí své běžné výdaje, ale existují okolnosti, kdy se jeho příjem může krátkodobě rozkolísat, případně o něj může zcela přijít. Je třeba myslet na to, co by následovalo například při nemoci, úrazu, výpovědi ze zaměstnání, ale i rozvodu, ztrátě partnera a podobně. Vedle státního sociálního zabezpečení, tedy například nemocenské, případně podpory v nezaměstnanosti, existují i jiné nástroje, které těmto rizikům čelí a v určité míře je eliminují a dávají člověku možnost udržet si svoji životní úroveň. \nKrátkodobý pokles příjmů lze řešit soukromým zdravotním pojištěním, které se vztahuje na situaci, kdy dojde ke ztrátě příjmu jak v důsledku úrazu, tak v důsledku nemoci. Jedná se o garanci výplaty určité částky po dobu, kdy jsme hospitalizováni v nemocnici a po dobu, kdy jsme v pracovní neschopnosti. Můžeme použít i úrazové pojištění. Využívá se denní odškodné po dobu léčení úrazu nebo třeba tělesné poškození v důsledku úrazu. V případě denního odškodného je nám vyplácena paušální dávka za každý den léčení úrazu v případě, že úraz je v léčení určitý počet dní, většinou alespoň 7 dní. Potom je denní dávka vyplácena od 8. dne, a to i zpětně za prvních 7 dní. U pojištění tělesného poškození následkem úrazu je vyplaceno určité procento z pojistné částky v závislosti na procentu tělesného poškození těla. Dlouhodobý pokles příjmů se řeší pojištěním trvalých následků úrazu. Pojišťovna plní za každý úraz, který zanechá trvalé následky, určitým procentem z pojistné částky. Každá pojišťovna si tato procenta stanovuje vlastním způsobem - některá plní od 0,5 %, některá od 1 % nebo třeba i až od 10 %. Zda úraz zanechal trvalé následky nebo nikoliv, se většinou hodnotí až po 1 roce od úrazu. Tento typ pojištění se běžně sjednává i s takzvaným progresivním plněním. To znamená, že například pokud jsme pojištěni na trvalé následky na pojistnou částku 500 000 Kč a dojde k trvalým následkům vyšším než je 25 %, tak je plněno z dvojnásobku pojistné částky. Pokud je to více než 50 %, potom z trojnásobku a pokud je to více než 75 %, je plněno ze 4-násobku pojistné částky, tedy v tomto případě z 2 000 000 Kč. Finanční zajištění pro případ trvalé invalidity můžeme vyřešit pojištěním trvalé invalidity následkem úrazu, nebo pojištění plné invalidity, které se vztahuje na invaliditu způsobenou jak úrazem, tak nemocí. Obě tato pojištění lze většinou sjednat jen jako součást kapitálového životního pojištění, flexibilního životního pojištění nebo investičního životního pojištění. U kapitálového životního pojištění je vždy automaticky součástí pojistná částka pro případ smrti. U flexibilního životního pojištění je pojistná částka pro případ smrti variabilní, můžeme stanovit minimální, nebo i nulovou pojistnou částku. V obou těchto pojištěních je většinou garantována částka, která je vyplacena na konci pojistné doby. U investičního životního pojištění garanci výplaty určité částky na konci není, ale zase lze rozhodnout, jakým způsobem bude s pojistným nakládáno a lze tak dosáhnout velmi zajímavého výnosu. Pojistné je investováno do otevřených podílových fondů. Pojistná částka pro případ smrti je variabilní.\nInvestiční životní pojištění spojuje dva moderní finanční produkty: kapitálové životní pojištění a investice do podílových fondů. Poskytuje tak jednak jistotu pro případ nepředvídatelných situací a jednak možnost vysokého zhodnocení vložených peněz, neboť podílové fondy patří mezi nejvýnosnější druhy investic. Kombinací investic do třech fondů volí klient investiční strategii (pro něj optimální míru rizika a výnosu). Rovněž volí poměr rizikové a spořicí části a výši pojistné částky obvykle v rozmezí minimální a maximální hodnoty závislé na výši pojistného. Pojištění tak získává buď spořicí, nebo rizikový charakter. V případě úmrtí vyplatí pojišťovna buď sjednanou pojistnou částku, nebo hodnotu fondu (vždy vyšší z obou položek). Při pojištění s nízkou pojistnou částkou je většina pojistného zhodnocována ve fondech. Při pojištění s vysokou pojistnou částkou je většina pojistného využita na krytí rizik. \nVýhodou všech typů životního pojištění jez pravidla právě možnost volit maximum parametrů jak v oblasti pojištěných rizika pojistných částek, tak i možnosti získat daňové úlevy.",null,null,null,null,null,null,null,null,null,null,null,null,null,null,null,null,null,null,null,null,null,null,null,null,null,null,null,null,null,null,null,null,null,null,null,null,null,null,null,null,null,null,null,null,null,null,null,null,null,null,null,null,null,null,null,null,null,null,null,null,null,null,null,null,null,null,null,null,null,{"$f":"ROW()","v":450}]
[{"$f":"Vstupy!A$17","v":0},0,1,null,null,null,null,null,null,null,null,null,null,null,null,null,null,null,null,null,null,null,null,null,null,null,null,null,null,null,null,null,null,null,null,null,null,null,null,null,null,null,null,null,null,null,null,null,null,null,null,null,null,null,null,null,null,null,null,null,null,null,null,null,null,null,null,null,null,null,null,null,null,null,null,null,null,null,null,null,null,{"$f":"ROW()","v":451}]
[{"$f":"Vstupy!A$18","v":0},1,{"$f":"Vstupy!G$212","v":0},null,null,null,null,null,null,null,null,null,null,null,null,null,null,null,null,null,null,null,null,null,null,null,null,null,null,null,null,null,null,null,null,null,null,null,null,null,null,null,null,null,null,null,null,null,null,null,null,null,null,null,null,null,null,null,null,null,null,null,null,null,null,null,null,null,null,null,null,null,null,null,null,null,null,null,null,null,null,{"$f":"ROW()","v":452}]
[{"$f":"Vstupy!A$18","v":0},1,{"$f":"Vstupy!G$212","v":0},null,null,null,null,null,null,null,null,"Finanční plán OVB",null,null,null,null,null,null,null,null,null,null,null,null,null,null,null,null,null,null,null,null,null,null,null,null,null,null,null,null,null,null,null,null,null,null,null,null,null,null,null,null,null,null,null,null,null,null,null,null,null,null,null,null,null,null,null,null,null,null,null,null,null,null,null,null,null,null,null,null,null,{"$f":"ROW()","v":453}]
[{"$f":"Vstupy!A$18","v":0},1,{"$f":"Vstupy!G$212","v":0},null,null,null,null,null,null,null,null,{"$f":"Vstupy!AF$9 & \" \" & Vstupy!AI$10","v":" "},null,null,null,null,null,null,null,null,null,null,null,null,null,null,null,null,null,null,null,null,null,null,null,null,null,null,null,null,null,null,null,null,null,null,null,null,null,null,null,null,null,null,null,null,null,null,null,null,null,null,null,null,null,null,null,null,null,null,null,null,null,null,null,null,null,null,null,null,null,{"$f":"ROW()","v":454}]
[{"$f":"Vstupy!A$18","v":0},1,{"$f":"Vstupy!G$212","v":0},null,null,null,null,null,null,null,null,null,{"$f":"Vstupy!S209","v":"Penze formou finančního důchodu"},null,null,null,null,null,null,null,null,null,null,null,null,null,null,null,null,null,null,null,null,null,null,null,null,null,null,null,null,null,null,null,null,null,null,null,null,null,null,null,null,null,null,null,null,null,null,null,null,null,null,null,null,null,null,null,null,null,null,null,null,null,null,null,null,null,null,null,null,{"$f":"ROW()","v":455}]
[{"$f":"Vstupy!A$18","v":0},1,0,null,null,null,null,null,null,null,null,"Požadavek klienta",null,null,null,null,null,null,null,null,null,null,null,null,null,null,null,null,null,null,null,null,null,null,null,null,null,null,null,null,null,null,null,null,null,null,null,null,null,null,null,null,null,null,null,null,null,null,null,null,null,null,null,null,null,null,null,null,null,null,null,null,null,null,null,null,null,null,null,null,null,{"$f":"ROW()","v":456}]
[{"$f":"Vstupy!A$18","v":0},1,0,null,null,null,null,null,null,null,null,{"$f":"IF(Vstupy!AF210=0,\"Klient požaduje návrh řešení bez specifických požadavků\",Vstupy!AF210)","v":"Klient požaduje návrh řešení bez specifických požadavků"},null,null,null,null,null,null,null,null,null,null,null,null,null,null,null,null,null,null,null,null,null,null,null,null,null,null,null,null,null,null,null,null,null,null,null,null,null,null,null,null,null,null,null,null,null,null,null,null,null,null,null,null,null,null,null,null,null,null,null,null,null,null,null,null,null,null,null,null,null,{"$f":"ROW()","v":457}]
[{"$f":"Vstupy!A$18","v":0},{"$f":"Vstupy!G211","v":0},0,null,null,null,null,null,null,null,null,"Návrh řešení",null,null,null,null,null,null,null,null,null,null,null,null,null,null,null,null,null,null,null,null,null,null,null,null,null,null,null,null,null,null,null,null,null,null,null,null,null,null,null,null,null,null,null,null,null,null,null,null,null,null,null,null,null,null,null,null,null,null,null,null,null,null,null,null,null,null,null,null,null,{"$f":"ROW()","v":458}]
[{"$f":"Vstupy!A$18","v":0},{"$f":"Vstupy!G211","v":0},0,null,null,null,null,null,null,null,null,{"$f":"Vstupy!AF211","v":0},null,null,null,null,null,null,null,null,null,null,null,null,null,null,null,null,null,null,null,null,null,null,null,null,null,null,null,null,null,null,null,null,null,null,null,null,null,null,null,null,null,null,null,null,null,null,null,null,null,null,null,null,null,null,null,null,null,null,null,null,null,null,null,null,null,null,null,null,null,{"$f":"ROW()","v":459}]
[{"$f":"Vstupy!A$18","v":0},1,1,null,null,null,null,null,null,null,null,null,null,null,null,null,null,null,null,null,null,null,null,null,null,null,null,null,null,null,null,null,null,null,null,null,null,null,null,null,null,null,null,null,null,null,null,null,null,null,null,null,null,null,null,null,null,null,null,null,null,null,null,null,null,null,null,null,null,null,null,null,null,null,null,null,null,null,null,null,null,{"$f":"ROW()","v":460}]
[{"$f":"Vstupy!A$18","v":0},{"$f":"Vstupy!G$212","v":0},1,null,null,null,null,null,null,null,null,null,null,null,null,null,null,null,null,null,null,null,null,null,null,null,null,null,null,null,{"$f":"Vstupy!AF9","v":0},null,null,null,null,null,null,null,null,null,null,null,null,null,null,null,null,{"$f":"IF(Vstupy!AQ9=\"\",\"\",Vstupy!AQ9)","v":""},null,null,null,null,null,null,null,null,null,null,null,null,null,null,null,null,null,null,null,null,null,null,null,null,null,null,null,null,null,null,null,null,null,{"$f":"ROW()","v":461}]
[{"$f":"Vstupy!A$18","v":0},{"$f":"Vstupy!G$212","v":0},1,null,null,null,null,null,null,null,null,"Požadovaný důchod 4)                           (v současné / budoucí hodnotě)",null,null,null,null,null,null,null,null,null,null,null,null,null,null,null,null,null,null,{"$f":"IF(AE464=\"\",\"\",Vstupy!AF212)","v":""},null,null,null,null,null,null,null,{"$f":"IF(AE464=\"\",\"\",\"/\")","v":""},{"$f":"IF(AE464=\"\",\"\",Vstupy!AL212)","v":""},null,null,null,null,null,null,null,{"$f":"IF(AV464=\"\",\"\",Vstupy!AQ212)","v":""},null,null,null,null,null,null,null,{"$f":"IF(AV464=\"\",\"\",\"/\")","v":""},{"$f":"IF(AV464=\"\",\"\",Vstupy!AW212)","v":""},null,null,null,null,null,null,null,null,null,null,null,null,null,null,null,null,null,null,null,null,null,null,null,null,{"$f":"ROW()","v":462}]
[{"$f":"Vstupy!A$18","v":0},{"$f":"Vstupy!G$212","v":0},1,null,null,null,null,null,null,null,null,"Starobní důchod                                       (v budoucí hodnotě)",null,null,null,null,null,null,null,null,null,null,null,null,null,null,null,null,null,null,{"$f":"IF(AE464=\"\",\"\",Vstupy!AH213)","v":""},null,null,null,null,null,null,null,null,null,null,null,null,null,null,null,null,{"$f":"IF(AV464=\"\",\"\",Vstupy!AS213)","v":""},null,null,null,null,null,null,null,null,null,null,null,null,null,null,null,null,null,null,null,null,null,null,null,null,null,null,null,null,null,null,null,null,null,{"$f":"ROW()","v":463}]
[{"$f":"Vstupy!A$18","v":0},{"$f":"Vstupy!G$212","v":0},1,null,null,null,null,null,null,null,null,"Naspořená suma / výplaty (roky) / 5)                                    míra úročení naspořené sumy",null,null,null,null,null,null,null,null,null,null,null,null,null,null,null,null,null,null,{"$f":"IF(Vstupy!AH214 = 0,\"\",Vstupy!AH214)","v":""},null,null,null,null,null,null,null,{"$f":"IF(AE464=\"\",\"\",\"/  \"&Vstupy!AF214&\"  /\" )","v":""},null,null,null,{"$f":"IF(AE464=\"\",\"\",Vstupy!AN214 )","v":""},null,null,null,null,{"$f":"IF(Vstupy!AS214 = 0,\"\",Vstupy!AS214)","v":""},null,null,null,null,null,null,null,{"$f":"IF(AV464=\"\",\"\",\"/  \"&Vstupy!AQ214&\"  /\" )","v":""},null,null,null,{"$f":"IF(AV464=\"\",\"\",Vstupy!AY214 )","v":""},null,null,null,null,null,null,null,null,null,null,null,null,null,null,null,null,null,null,null,null,null,{"$f":"ROW()","v":464}]
[{"$f":"Vstupy!A$18","v":0},{"$f":"Vstupy!G$212","v":0},1,null,null,null,null,null,null,null,null,"Naspořená suma, 6)                                    míra úročení naspořené sumy",null,null,null,null,null,null,null,null,null,null,null,null,null,null,null,null,null,null,{"$f":"IF(Vstupy!AH215 = 0,\"\",Vstupy!AH215)","v":""},null,null,null,null,null,null,null,null,null,null,null,{"$f":"IF(AE465=\"\",\"\",Vstupy!AN215 )","v":""},null,null,null,null,{"$f":"IF(Vstupy!AS215 = 0,\"\",Vstupy!AS215)","v":""},null,null,null,null,null,null,null,null,null,null,null,{"$f":"IF(AV465=\"\",\"\",Vstupy!AY215 )","v":""},null,null,null,null,null,null,null,null,null,null,null,null,null,null,null,null,null,null,null,null,null,{"$f":"ROW()","v":465}]
[{"$f":"Vstupy!A$18","v":0},0,1,null,null,null,null,null,null,null,null,null,null,null,null,null,null,null,null,null,null,null,null,null,null,"Informace","Cíl - dorovnání státní penze do klientem požadované výše (doporučená doba výplaty naspořené penze - 20 let)\n\nK dispozici jsou zpravidla tyto produkty:\nPenzijní připojištění\nInvestice do fondů\nInvestice do Life-Cycle produktů\nRezevotvorná část životního pojištění\nNákup nemovitosti, během ekonomicky aktivního života její splacení a v důchodu její pronájem nebo prodej",null,null,null,null,null,null,null,null,null,null,null,null,null,null,null,null,null,null,null,null,null,null,null,null,null,null,null,null,null,null,null,null,null,null,null,null,null,null,null,null,null,null,null,null,null,null,null,null,null,null,null,null,null,null,{"$f":"ROW()","v":466}]
[{"$f":"Vstupy!A$18","v":0},1,1,null,null,null,null,null,null,null,null,{"$f":"\"4) Kolik bych chtěl brát pokud bych odešel do penze nyní / nominální hodnota této sumy v době odchodu do penze (zohledněna inflace \"&TEXT(Vstupy!AD212,\"0,00%\")&\")\"","v":"4) Kolik bych chtěl brát pokud bych odešel do penze nyní / nominální hodnota této sumy v době odchodu do penze (zohledněna inflace 1,50%)"},null,null,null,null,null,null,null,null,null,null,null,null,null,null,null,null,null,null,null,null,null,null,null,null,null,null,null,null,null,null,null,null,null,null,null,null,null,null,null,null,null,null,null,null,null,null,null,null,null,null,null,null,null,null,null,null,null,null,null,null,null,null,null,null,null,null,null,null,null,{"$f":"ROW()","v":467}]
[{"$f":"Vstupy!A$18","v":0},1,1,null,null,null,null,null,null,null,null,{"$f":"\"5) Výplata (roky) =  doba po kterou chci rozpouštět naspořenou sumu = suma potřebná k dorovnání státní penze do mnou požadovaného důchodu\" & \" / míra úročení = míra jakou se bude naspořená suma úročit po dobu jejího rozpouštění. Za dobu rozpouštění se rozpustí celá naspořená suma.\"","v":"5) Výplata (roky) =  doba po kterou chci rozpouštět naspořenou sumu = suma potřebná k dorovnání státní penze do mnou požadovaného důchodu / míra úročení = míra jakou se bude naspořená suma úročit po dobu jejího rozpouštění. Za dobu rozpouštění se rozpustí celá naspořená suma."},null,null,null,null,null,null,null,null,null,null,null,null,null,null,null,null,null,null,null,null,null,null,null,null,null,null,null,null,null,null,null,null,null,null,null,null,null,null,null,null,null,null,null,null,null,null,null,null,null,null,null,null,null,null,null,null,null,null,null,null,null,null,null,null,null,null,null,null,null,{"$f":"ROW()","v":468}]
[{"$f":"Vstupy!A$18","v":0},1,1,null,null,null,null,null,null,null,null,{"$f":"\"6) Pokud se bude naspořená suma zhodnocovat danou mírou zhodnocení, postačí roční zhodnocení k dorovnání státní penze do požadovaného důchodu. Naspořená suma se po celou dobu nesnižuje, odčerpává se pouze její zhodnocení.\"","v":"6) Pokud se bude naspořená suma zhodnocovat danou mírou zhodnocení, postačí roční zhodnocení k dorovnání státní penze do požadovaného důchodu. Naspořená suma se po celou dobu nesnižuje, odčerpává se pouze její zhodnocení."},null,null,null,null,null,null,null,null,null,null,null,null,null,null,null,null,null,null,null,null,null,null,null,null,null,null,null,null,null,null,null,null,null,null,null,null,null,null,null,null,null,null,null,null,null,null,null,null,null,null,null,null,null,null,null,null,null,null,null,null,null,null,null,null,null,null,null,null,null,{"$f":"ROW()","v":469}]
[{"$f":"Vstupy!A$18","v":0},1,0,null,null,null,null,null,null,null,null,null,null,null,null,null,null,null,null,null,null,null,null,null,null,null,null,null,null,null,null,null,null,null,null,null,null,null,null,null,null,null,null,null,null,null,null,null,null,null,null,null,null,null,null,null,null,null,null,null,null,null,null,null,null,null,null,null,null,null,null,null,null,null,null,null,null,null,null,null,null,{"$f":"ROW()","v":470}]
[{"$f":"Vstupy!A$18","v":0},1,0,null,null,null,null,null,null,null,null,"Obecné informace",null,null,null,null,null,null,null,null,null,null,null,null,null,null,null,null,null,null,null,null,null,null,null,null,null,null,null,null,null,null,null,null,null,null,null,null,null,null,null,null,null,null,null,null,null,null,null,null,null,null,null,null,null,null,null,null,null,null,null,null,null,null,null,null,null,null,null,null,null,{"$f":"ROW()","v":471}]
[{"$f":"Vstupy!A$18","v":0},1,0,null,null,null,null,null,null,null,null,"Výchozí situace: Celkem 80 % pracujících na celém světě si myslí, že největší odpovědnost za výši příjmu v důchodu nese stát. Češi spolu s Belgičany, Španěly a Filipínci přitom patří k národům, které na stát spoléhají nejvíce. Že by měl stát hrát hlavní roli v zabezpečení důchodu, se domnívá až 90 % Čechů.\n\nObčané České republiky se dnes v průměru dožívají vyššího věku a mají méně dětí než v minulosti. V důsledku toho dochází ke změně věkové struktury populace a demografickému stárnutí. \nV roce 2004 žilo v Česku 14 procent občanů starších 65 let. V roce 2030 by měli podle odhadů Českého statistického úřadu tvořit takřka 23 procent veškerého obyvatelstva. O dvacet let později už dokonce celou třetinu, což by v té době mělo představovat přibližně tři miliony osob. \n\nPočet lidí ve věku 85 a více let by měl do roku 2050 stoupnout přibližně na půl milionu. To úzce souvisí se zvyšováním průměrného věku, který díky kvalitnější lékařské péči roste. Někteří odborníci přitom upozorňují na to, že antibiotika druhé generace, jejichž uvedení do praxe není vyloučeno, by tento proces podpořila skokovým způsobem - lidí vysokého věku by tedy mohlo být ještě více. \n\nDemografický vývoj přímo ovlivňuje důchodové výdaje státu, na jednoho starobního důchodce přispívá  2,45 poplatníka. V praxi je ovšem tento ukazatel o něco horší, vedle starobních důchodců totiž stát vyplácí i důchody pozůstalostní a invalidní (jejich počet v relaci k celkovému počtu obyvatel je u nás výjimečně vysoký) - celkem je tedy u nás penzistů 2 631 838 a na každého připadá jen 1,82 poplatníků pojistného.  Pokud se splní demografické prognózy, bude se poměr mezi důchodci a pracujícími vyvíjet nepříznivě. Pokud se důchodový systém nezmění, mohla by v roce 2050 jedna zaměstnaná osoba „živit“ jednoho důchodce. Poroste také podíl důchodů na HDP. \n\nSoučasná vláda plánuje provést důchodovou reformu, která by měla začít fungovat od 1. ledna 2012. Současná situace je skutečně alarmující, a pokud se reforma neprovede co nejdříve, mohlo by to vést k závažným problémům, jako je neudržitelný finanční schodek či chudoba důchodců.\n\nZávěr a řešení: pro zachování životní úrovně i v penzijním věku se nelze spoléhat na stát a je potřeba již nyní zvolit vhodná spořící produkt právě pro období penze. K dispozici jsou zpravidla tyto produkty: Penzijní připojištění, Investice do fondů, Investice do Life-Cycle produktu, Rezevotvorné části životního pojištění anebo nákup nemovitosti, během ekonomicky aktivního života její splacení a v důchodu její pronájem nebo prodej. ",null,null,null,null,null,null,null,null,null,null,null,null,null,null,null,null,null,null,null,null,null,null,null,null,null,null,null,null,null,null,null,null,null,null,null,null,null,null,null,null,null,null,null,null,null,null,null,null,null,null,null,null,null,null,null,null,null,null,null,null,null,null,null,null,null,null,null,null,null,{"$f":"ROW()","v":472}]
[{"$f":"Vstupy!A$18","v":0},1,0,null,null,null,null,null,null,null,null,null,null,null,null,null,null,null,null,null,null,null,null,null,null,null,null,null,null,null,null,null,null,null,null,null,null,null,null,null,null,null,null,null,null,null,null,null,null,null,null,null,null,null,null,null,null,null,null,null,null,null,null,null,null,null,null,null,null,null,null,null,null,null,null,null,null,null,null,null,null,{"$f":"ROW()","v":473}]
[{"$f":"Vstupy!A$18","v":0},0,1,null,null,null,null,null,null,null,null,null,null,null,null,null,null,null,null,null,null,null,null,null,null,null,null,null,null,null,null,null,null,null,null,null,null,null,null,null,null,null,null,null,null,null,null,null,null,null,null,null,null,null,null,null,null,null,null,null,null,null,null,null,null,null,null,null,null,null,null,null,null,null,null,null,null,null,null,null,null,{"$f":"ROW()","v":474}]
[{"$f":"Vstupy!A$18","v":0},0,1,null,null,null,null,null,null,null,null,null,null,null,null,null,null,null,null,null,null,null,null,null,null,null,null,null,null,null,null,null,null,null,null,null,null,null,null,null,null,null,null,null,null,null,null,null,null,null,null,null,null,null,null,null,null,null,null,null,null,null,null,null,null,null,null,null,null,null,null,null,null,null,null,null,null,null,null,null,null,{"$f":"ROW()","v":475}]
[{"$f":"Vstupy!A$18","v":0},0,1,null,null,null,null,null,null,null,null,null,null,null,null,null,null,null,null,null,null,null,null,null,null,null,null,null,null,null,null,null,null,null,null,null,null,null,null,null,null,null,null,null,null,null,null,null,null,null,null,null,null,null,null,null,null,null,null,null,null,null,null,null,null,null,null,null,null,null,null,null,null,null,null,null,null,null,null,null,null,{"$f":"ROW()","v":476}]
[{"$f":"Vstupy!A$18","v":0},0,1,null,null,null,null,null,null,null,null,null,null,null,null,null,null,null,null,null,null,null,null,null,null,null,null,null,null,null,null,null,null,null,null,null,null,null,null,null,null,null,null,null,null,null,null,null,null,null,null,null,null,null,null,null,null,null,null,null,null,null,null,null,null,null,null,null,null,null,null,null,null,null,null,null,null,null,null,null,null,{"$f":"ROW()","v":477}]
[{"$f":"Vstupy!A$18","v":0},0,1,null,null,null,null,null,null,null,null,null,null,null,null,null,null,null,null,null,null,null,null,null,null,null,null,null,null,null,null,null,null,null,null,null,null,null,null,null,null,null,null,null,null,null,null,null,null,null,null,null,null,null,null,null,null,null,null,null,null,null,null,null,null,null,null,null,null,null,null,null,null,null,null,null,null,null,null,null,null,{"$f":"ROW()","v":478}]
[{"$f":"Vstupy!A$18","v":0},0,1,null,null,null,null,null,null,null,null,null,null,null,null,null,null,null,null,null,null,null,null,null,null,null,null,null,null,null,null,null,null,null,null,null,null,null,null,null,null,null,null,null,null,null,null,null,null,null,null,null,null,null,null,null,null,null,null,null,null,null,null,null,null,null,null,null,null,null,null,null,null,null,null,null,null,null,null,null,null,{"$f":"ROW()","v":479}]
[{"$f":"Vstupy!A$18","v":0},0,1,null,null,null,null,null,null,null,null,null,null,null,null,null,null,null,null,null,null,null,null,null,null,null,null,null,null,null,null,null,null,null,null,null,null,null,null,null,null,null,null,null,null,null,null,null,null,null,null,null,null,null,null,null,null,null,null,null,null,null,null,null,null,null,null,null,null,null,null,null,null,null,null,null,null,null,null,null,null,{"$f":"ROW()","v":480}]
[{"$f":"Vstupy!A$20","v":0},1,{"$f":"B490+B491+B492+B493+B494+B495+B496","v":0},null,null,null,null,null,null,null,null,null,null,null,null,null,null,null,null,null,null,null,null,null,null,null,null,null,null,null,null,null,null,null,null,null,null,null,null,null,null,null,null,null,null,null,null,null,null,null,null,null,null,null,null,null,null,null,null,null,null,null,null,null,null,null,null,null,null,null,null,null,null,null,null,null,null,null,null,null,null,{"$f":"ROW()","v":481}]
[{"$f":"Vstupy!A$20","v":0},1,{"$f":"B490+B491+B492+B493+B494+B495+B496","v":0},null,null,null,null,null,null,null,null,"Finanční plán OVB",null,null,null,null,null,null,null,null,null,null,null,null,null,null,null,null,null,null,null,null,null,null,null,null,null,null,null,null,null,null,null,null,null,null,null,null,null,null,null,null,null,null,null,null,null,null,null,null,null,null,null,null,null,null,null,null,null,null,null,null,null,null,null,null,null,null,null,null,null,{"$f":"ROW()","v":482}]
[{"$f":"Vstupy!A$20","v":0},1,{"$f":"B490+B491+B492+B493+B494+B495+B496","v":0},null,null,null,null,null,null,null,null,{"$f":"Vstupy!AF$9 & \" \" & Vstupy!AI$10","v":" "},null,null,null,null,null,null,null,null,null,null,null,null,null,null,null,null,null,null,null,null,null,null,null,null,null,null,null,null,null,null,null,null,null,null,null,null,null,null,null,null,null,null,null,null,null,null,null,null,null,null,null,null,null,null,null,null,null,null,null,null,null,null,null,null,null,null,null,null,null,{"$f":"ROW()","v":483}]
[{"$f":"Vstupy!A$20","v":0},1,{"$f":"B490+B491+B492+B493+B494+B495+B496","v":0},null,null,null,null,null,null,null,null,null,{"$f":"Vstupy!S235","v":"Financování bydlení"},null,null,null,null,null,null,null,null,null,null,null,null,null,null,null,null,null,null,null,null,null,null,null,null,null,null,null,null,null,null,null,null,null,null,null,null,null,null,null,null,null,null,null,null,null,null,null,null,null,null,null,null,null,null,null,null,null,null,null,null,null,null,null,null,null,null,null,null,{"$f":"ROW()","v":484}]
[{"$f":"Vstupy!A$20","v":0},1,0,null,null,null,null,null,null,null,null,"Požadavek klienta",null,null,null,null,null,null,null,null,null,null,null,null,null,null,null,null,null,null,null,null,null,null,null,null,null,null,null,null,null,null,null,null,null,null,null,null,null,null,null,null,null,null,null,null,null,null,null,null,null,null,null,null,null,null,null,null,null,null,null,null,null,null,null,null,null,null,null,null,null,{"$f":"ROW()","v":485}]
[{"$f":"Vstupy!A$20","v":0},1,0,null,null,null,null,null,null,null,null,{"$f":"IF(Vstupy!AF236=0,\"Klient požaduje návrh řešení bez specifických požadavků\",Vstupy!AF236)","v":"Klient požaduje návrh řešení bez specifických požadavků"},null,null,null,null,null,null,null,null,null,null,null,null,null,null,null,null,null,null,null,null,null,null,null,null,null,null,null,null,null,null,null,null,null,null,null,null,null,null,null,null,null,null,null,null,null,null,null,null,null,null,null,null,null,null,null,null,null,null,null,null,null,null,null,null,null,null,null,null,null,{"$f":"ROW()","v":486}]
[{"$f":"Vstupy!A$20","v":0},{"$f":"Vstupy!G237","v":0},0,null,null,null,null,null,null,null,null,"Návrh řešení",null,null,null,null,null,null,null,null,null,null,null,null,null,null,null,null,null,null,null,null,null,null,null,null,null,null,null,null,null,null,null,null,null,null,null,null,null,null,null,null,null,null,null,null,null,null,null,null,null,null,null,null,null,null,null,null,null,null,null,null,null,null,null,null,null,null,null,null,null,{"$f":"ROW()","v":487}]
[{"$f":"Vstupy!A$20","v":0},{"$f":"Vstupy!G237","v":0},0,null,null,null,null,null,null,null,null,{"$f":"Vstupy!AF237","v":0},null,null,null,null,null,null,null,null,null,null,null,null,null,null,null,null,null,null,null,null,null,null,null,null,null,null,null,null,null,null,null,null,null,null,null,null,null,null,null,null,null,null,null,null,null,null,null,null,null,null,null,null,null,null,null,null,null,null,null,null,null,null,null,null,null,null,null,null,null,{"$f":"ROW()","v":488}]
[{"$f":"Vstupy!A$20","v":0},1,1,null,null,null,null,null,null,null,null,null,null,null,null,null,null,null,null,null,null,null,null,null,null,null,null,null,null,null,null,null,null,null,null,null,null,null,null,null,null,null,null,null,null,null,null,null,null,null,null,null,null,null,null,null,null,null,null,null,null,null,null,null,null,null,null,null,null,null,null,null,null,null,null,null,null,null,null,null,null,{"$f":"ROW()","v":489}]
[{"$f":"Vstupy!A$20","v":0},{"$f":"Vstupy!G238","v":0},1,null,null,null,null,null,null,null,null,"Cena nemovitosti",null,null,null,null,null,null,null,null,null,null,{"$f":"Vstupy!AF238","v":0},null,null,null,null,null,null,null,null,null,null,null,null,null,null,"Výše úvěru",null,{"$f":"Vstupy!AS238","v":0},null,null,null,null,null,null,null,null,null,null,null,null,null,null,null,null,null,null,null,null,null,null,"Max. počet let splácení",{"$f":"Vstupy!BI238","v":0},null,null,null,null,null,null,null,null,null,null,null,null,null,null,null,null,null,{"$f":"ROW()","v":490}]
[{"$f":"Vstupy!A$20","v":0},{"$f":"Vstupy!G239","v":0},1,null,null,null,null,null,null,null,null,{"$f":"IF(B494=0,\"Řešení\",\"Řešení 1\")","v":"Řešení"},null,null,null,null,null,null,null,null,null,null,null,null,null,null,null,null,null,null,null,null,null,null,null,null,null,null,null,null,null,null,null,null,null,null,null,null,null,null,null,null,null,null,null,null,null,null,null,null,null,null,null,null,null,null,null,null,null,null,null,null,null,null,null,null,null,null,null,null,null,{"$f":"ROW()","v":491}]
[{"$f":"Vstupy!A$20","v":0},{"$f":"Vstupy!G239","v":0},1,null,null,null,null,null,null,null,null,{"$f":"Vstupy!AF239","v":0},null,null,null,null,null,null,null,null,null,null,null,null,null,null,null,null,null,null,null,null,null,null,null,null,null,null,null,null,null,null,null,null,null,null,null,null,null,null,null,null,null,null,null,null,null,null,null,null,null,null,null,null,null,null,null,null,null,null,null,null,null,null,null,null,null,null,null,null,null,{"$f":"ROW()","v":492}]
[{"$f":"Vstupy!A$20","v":0},{"$f":"Vstupy!G240","v":0},1,null,null,null,null,null,null,null,null,"Řešení 2",null,null,null,null,null,null,null,null,null,null,null,null,null,null,null,null,null,null,null,null,null,null,null,null,null,null,null,null,null,null,null,null,null,null,null,null,null,null,null,null,null,null,null,null,null,null,null,null,null,null,null,null,null,null,null,null,null,null,null,null,null,null,null,null,null,null,null,null,null,{"$f":"ROW()","v":493}]
[{"$f":"Vstupy!A$20","v":0},{"$f":"Vstupy!G240","v":0},1,null,null,null,null,null,null,null,null,{"$f":"Vstupy!AF240","v":0},null,null,null,null,null,null,null,null,null,null,null,null,null,null,null,null,null,null,null,null,null,null,null,null,null,null,null,null,null,null,null,null,null,null,null,null,null,null,null,null,null,null,null,null,null,null,null,null,null,null,null,null,null,null,null,null,null,null,null,null,null,null,null,null,null,null,null,null,null,{"$f":"ROW()","v":494}]
[{"$f":"Vstupy!A$20","v":0},{"$f":"Vstupy!G241","v":0},1,null,null,null,null,null,null,null,null,"Řešení 3",null,null,null,null,null,null,null,null,null,null,null,null,null,null,null,null,null,null,null,null,null,null,null,null,null,null,null,null,null,null,null,null,null,null,null,null,null,null,null,null,null,null,null,null,null,null,null,null,null,null,null,null,null,null,null,null,null,null,null,null,null,null,null,null,null,null,null,null,null,{"$f":"ROW()","v":495}]
[{"$f":"Vstupy!A$20","v":0},{"$f":"Vstupy!G241","v":0},1,null,null,null,null,null,null,null,null,{"$f":"Vstupy!AF241","v":0},null,null,null,null,null,null,null,null,null,null,null,null,null,null,null,null,null,null,null,null,null,null,null,null,null,null,null,null,null,null,null,null,null,null,null,null,null,null,null,null,null,null,null,null,null,null,null,null,null,null,null,null,null,null,null,null,null,null,null,null,null,null,null,null,null,null,null,null,null,{"$f":"ROW()","v":496}]
[{"$f":"Vstupy!A$20","v":0},0,1,null,null,null,null,null,null,null,null,null,null,null,null,null,null,null,null,null,null,null,null,null,null,"Informace","Cíl - zajištění finančních zdrojů za účelem nákupu nemovitosti\n\nK dispozici jsou zpravidla tyto produkty:\nHypoteční úvěry\nStavební spoření / úvěry ze stavebního spoření",null,null,null,null,null,null,null,null,null,null,null,null,null,null,null,null,null,null,null,null,null,null,null,null,null,null,null,null,null,null,null,null,null,null,null,null,null,null,null,null,null,null,null,null,null,null,null,null,null,null,null,null,null,null,{"$f":"ROW()","v":497}]
[{"$f":"Vstupy!A$20","v":0},1,0,null,null,null,null,null,null,null,null,null,null,null,null,null,null,null,null,null,null,null,null,null,null,null,null,null,null,null,null,null,null,null,null,null,null,null,null,null,null,null,null,null,null,null,null,null,null,null,null,null,null,null,null,null,null,null,null,null,null,null,null,null,null,null,null,null,null,null,null,null,null,null,null,null,null,null,null,null,null,{"$f":"ROW()","v":498}]
[{"$f":"Vstupy!A$20","v":0},1,0,null,null,null,null,null,null,null,null,"Obecné informace",null,null,null,null,null,null,null,null,null,null,null,null,null,null,null,null,null,null,null,null,null,null,null,null,null,null,null,null,null,null,null,null,null,null,null,null,null,null,null,null,null,null,null,null,null,null,null,null,null,null,null,null,null,null,null,null,null,null,null,null,null,null,null,null,null,null,null,null,null,{"$f":"ROW()","v":499}]
[{"$f":"Vstupy!A$20","v":0},1,0,null,null,null,null,null,null,null,null,"Koupě vlastní nemovitosti je finančně nejvýhodnějším způsobem řešení problematiky bydlení. Většina klientů používá k financování bydlení hypoteční úvěr, případně úvěr ze stavebního spoření. Současný trh však nabízí i jiné možnosti.\n\nV České republice je hypoteční úvěr definován jako úvěr, jehož splacení včetně příslušenství je zajištěno zástavním právem k nemovitosti i rozestavěné. Hypoteční úvěr je účelově vázaný úvěr, který je poskytován na koupi nemovitosti, stavebního pozemku, výstavbu nemovitosti, rekonstrukci, modernizaci či opravy nemovitosti, splacení úvěru či půjčky použité na investice do nemovitosti, získání vlastnického podílu na nemovitosti apod. Hypoteční je možné využít i neúčelově. Takový hypoteční úvěr se nazývá Americká hypotéka. Některé banky nabízí i možnost kombinace účelů hypotečních úvěrů. Tato služba je velice výhodná pro ty, kdo chtějí z jednoho úvěru například koupit nemovitost i rekonstruovat.\n\nStavební spoření je účelový druh spoření, při kterém vkladatel dlouhodobě ukládá prostředky u specializované banky. V průběhu spoření může čerpat státní podporu a po jeho skončení získává, při splnění dalších podmínek, nárok na úvěr ze stavebního spoření. Stavební spoření vzniklo za účelem umožnit širokému spektru obyvatel formou výhodných podmínek spoření a úvěrů aktivně řešit vlastní bytové potřeby.\n\nHypoteční úvěr, který banka obvykle nabízí je ohraničen několika specifickými parametry, mezi něž bezesporu patří doba splácení hypotéky, velikost splátky, fixace splátky a úroková míra. K dalším důležitým údajům na straně banky pak patří bonita klienta a velikost zástavy. Bonita klienta představuje schopnost hypoteční úvěr splatit. Banka se tím chrání proti případným problémům či ztrátě zaměstnání klienta. Díky této rezervě má klient šanci alespoň částečně se připravit na nenadálé události. Takže je důležité doložit dostatečný příjem a dokázat tím bance, že klient je schopen bez problémů hypotéku splatit. Dalším velmi důležitým faktorem je samotná hodnota zastavené nemovitost. Zastavená nemovitost musí logicky být ve vlastnictví žadatele a je nutné uvést do katastru nemovitostí, že právě tato nemovitost podléhá zástavnímu právu. Banky pak jednají o velikosti hypotéky v relaci právě k ceně této nemovitosti. Je důležité si uvědomit, že čím vyšší částku v poměru k celkové ceně nemovitosti klient chce, tím je pro banku rizikovější a banka mu tedy nabídne přísnější podmínky. Splátku hypotéky lze také snížit či zvýšit a to při volbě fixace. Fixace představuje dobu, po kterou je pevně stanovena úroková sazba hypotéky. Při končícím období fixace je opět nutné zvolit nějaký horizont a zde se dá relativně dost ušetřit.. Avšak je důležité se uvědomit, že po uplynutí fixace mohou být podmínky opět úplně jiné, takže je třeba volit mezi jistotou (delší období fixace) či možností ušetřit (kratší období fixace). Navíc pouze při změně doby fixace je možné hypotéku bez sankcí a zbytečných poplatků předčasně splatit. Kromě úroků samotných hypotéku provází i další poplatky, které se promítnou do ceny. Jde o poplatky za vyřízení úvěru, vedení účtu, čerpání peněz a podobně. ",null,null,null,null,null,null,null,null,null,null,null,null,null,null,null,null,null,null,null,null,null,null,null,null,null,null,null,null,null,null,null,null,null,null,null,null,null,null,null,null,null,null,null,null,null,null,null,null,null,null,null,null,null,null,null,null,null,null,null,null,null,null,null,null,null,null,null,null,null,{"$f":"ROW()","v":500}]
[{"$f":"Vstupy!A$20","v":0},1,0,null,null,null,null,null,null,null,null,null,null,null,null,null,null,null,null,null,null,null,null,null,null,null,null,null,null,null,null,null,null,null,null,null,null,null,null,null,null,null,null,null,null,null,null,null,null,null,null,null,null,null,null,null,null,null,null,null,null,null,null,null,null,null,null,null,null,null,null,null,null,null,null,null,null,null,null,null,null,{"$f":"ROW()","v":501}]
[{"$f":"Vstupy!A$20","v":0},0,1,null,null,null,null,null,null,null,null,null,null,null,null,null,null,null,null,null,null,null,null,null,null,null,null,null,null,null,null,null,null,null,null,null,null,null,null,null,null,null,null,null,null,null,null,null,null,null,null,null,null,null,null,null,null,null,null,null,null,null,null,null,null,null,null,null,null,null,null,null,null,null,null,null,null,null,null,null,null,{"$f":"ROW()","v":502}]
[{"$f":"Vstupy!A$20","v":0},0,1,null,null,null,null,null,null,null,null,null,null,null,null,null,null,null,null,null,null,null,null,null,null,null,null,null,null,null,null,null,null,null,null,null,null,null,null,null,null,null,null,null,null,null,null,null,null,null,null,null,null,null,null,null,null,null,null,null,null,null,null,null,null,null,null,null,null,null,null,null,null,null,null,null,null,null,null,null,null,{"$f":"ROW()","v":503}]
[{"$f":"Vstupy!A$20","v":0},0,1,null,null,null,null,null,null,null,null,null,null,null,null,null,null,null,null,null,null,null,null,null,null,null,null,null,null,null,null,null,null,null,null,null,null,null,null,null,null,null,null,null,null,null,null,null,null,null,null,null,null,null,null,null,null,null,null,null,null,null,null,null,null,null,null,null,null,null,null,null,null,null,null,null,null,null,null,null,null,{"$f":"ROW()","v":504}]
[{"$f":"Vstupy!A$20","v":0},0,1,null,null,null,null,null,null,null,null,null,null,null,null,null,null,null,null,null,null,null,null,null,null,null,null,null,null,null,null,null,null,null,null,null,null,null,null,null,null,null,null,null,null,null,null,null,null,null,null,null,null,null,null,null,null,null,null,null,null,null,null,null,null,null,null,null,null,null,null,null,null,null,null,null,null,null,null,null,null,{"$f":"ROW()","v":505}]
[{"$f":"Vstupy!A$20","v":0},0,1,null,null,null,null,null,null,null,null,null,null,null,null,null,null,null,null,null,null,null,null,null,null,null,null,null,null,null,null,null,null,null,null,null,null,null,null,null,null,null,null,null,null,null,null,null,null,null,null,null,null,null,null,null,null,null,null,null,null,null,null,null,null,null,null,null,null,null,null,null,null,null,null,null,null,null,null,null,null,{"$f":"ROW()","v":506}]
[{"$f":"Vstupy!A$20","v":0},0,1,null,null,null,null,null,null,null,null,null,null,null,null,null,null,null,null,null,null,null,null,null,null,null,null,null,null,null,null,null,null,null,null,null,null,null,null,null,null,null,null,null,null,null,null,null,null,null,null,null,null,null,null,null,null,null,null,null,null,null,null,null,null,null,null,null,null,null,null,null,null,null,null,null,null,null,null,null,null,{"$f":"ROW()","v":507}]
[{"$f":"Vstupy!A$20","v":0},0,1,null,null,null,null,null,null,null,null,null,null,null,null,null,null,null,null,null,null,null,null,null,null,null,null,null,null,null,null,null,null,null,null,null,null,null,null,null,null,null,null,null,null,null,null,null,null,null,null,null,null,null,null,null,null,null,null,null,null,null,null,null,null,null,null,null,null,null,null,null,null,null,null,null,null,null,null,null,null,{"$f":"ROW()","v":508}]
[{"$f":"Vstupy!A$20","v":0},0,1,null,null,null,null,null,null,null,null,null,null,null,null,null,null,null,null,null,null,null,null,null,null,null,null,null,null,null,null,null,null,null,null,null,null,null,null,null,null,null,null,null,null,null,null,null,null,null,null,null,null,null,null,null,null,null,null,null,null,null,null,null,null,null,null,null,null,null,null,null,null,null,null,null,null,null,null,null,null,{"$f":"ROW()","v":509}]
[{"$f":"Vstupy!A$21","v":0},1,{"$f":"B522","v":0},null,null,null,null,null,null,null,null,null,null,null,null,null,null,null,null,null,null,null,null,null,null,null,null,null,null,null,null,null,null,null,null,null,null,null,null,null,null,null,null,null,null,null,null,null,null,null,null,null,null,null,null,null,null,null,null,null,null,null,null,null,null,null,null,null,null,null,null,null,null,null,null,null,null,null,null,null,null,{"$f":"ROW()","v":510}]
[{"$f":"Vstupy!A$21","v":0},1,{"$f":"B522","v":0},null,null,null,null,null,null,null,null,"Finanční plán OVB",null,null,null,null,null,null,null,null,null,null,null,null,null,null,null,null,null,null,null,null,null,null,null,null,null,null,null,null,null,null,null,null,null,null,null,null,null,null,null,null,null,null,null,null,null,null,null,null,null,null,null,null,null,null,null,null,null,null,null,null,null,null,null,null,null,null,null,null,null,{"$f":"ROW()","v":511}]
[{"$f":"Vstupy!A$21","v":0},1,{"$f":"B522","v":0},null,null,null,null,null,null,null,null,{"$f":"Vstupy!AF$9 & \" \" & Vstupy!AI$10","v":" "},null,null,null,null,null,null,null,null,null,null,null,null,null,null,null,null,null,null,null,null,null,null,null,null,null,null,null,null,null,null,null,null,null,null,null,null,null,null,null,null,null,null,null,null,null,null,null,null,null,null,null,null,null,null,null,null,null,null,null,null,null,null,null,null,null,null,null,null,null,{"$f":"ROW()","v":512}]
[{"$f":"Vstupy!A$21","v":0},1,{"$f":"B522","v":0},null,null,null,null,null,null,null,null,null,{"$f":"Vstupy!S251","v":"Pojištění majetku / odpovědnosti"},null,null,null,null,null,null,null,null,null,null,null,null,null,null,null,null,null,null,null,null,null,null,null,null,null,null,null,null,null,null,null,null,null,null,null,null,null,null,null,null,null,null,null,null,null,null,null,null,null,null,null,null,null,null,null,null,null,null,null,null,null,null,null,null,null,null,null,null,{"$f":"ROW()","v":513}]
[{"$f":"Vstupy!A$21","v":0},1,0,null,null,null,null,null,null,null,null,"Požadavek klienta",null,null,null,null,null,null,null,null,null,null,null,null,null,null,null,null,null,null,null,null,null,null,null,null,null,null,null,null,null,null,null,null,null,null,null,null,null,null,null,null,null,null,null,null,null,null,null,null,null,null,null,null,null,null,null,null,null,null,null,null,null,null,null,null,null,null,null,null,null,{"$f":"ROW()","v":514}]
[{"$f":"Vstupy!A$21","v":0},1,0,null,null,null,null,null,null,null,null,{"$f":"IF(Vstupy!AF252=0,\"Klient požaduje návrh řešení bez specifických požadavků\",Vstupy!AF252)","v":"Klient požaduje návrh řešení bez specifických požadavků"},null,null,null,null,null,null,null,null,null,null,null,null,null,null,null,null,null,null,null,null,null,null,null,null,null,null,null,null,null,null,null,null,null,null,null,null,null,null,null,null,null,null,null,null,null,null,null,null,null,null,null,null,null,null,null,null,null,null,null,null,null,null,null,null,null,null,null,null,null,{"$f":"ROW()","v":515}]
[{"$f":"Vstupy!A$21","v":0},{"$f":"Vstupy!G253","v":0},0,null,null,null,null,null,null,null,null,"Návrh řešení",null,null,null,null,null,null,null,null,null,null,null,null,null,null,null,null,null,null,null,null,null,null,null,null,null,null,null,null,null,null,null,null,null,null,null,null,null,null,null,null,null,null,null,null,null,null,null,null,null,null,null,null,null,null,null,null,null,null,null,null,null,null,null,null,null,null,null,null,null,{"$f":"ROW()","v":516}]
[{"$f":"Vstupy!A$21","v":0},{"$f":"Vstupy!G253","v":0},0,null,null,null,null,null,null,null,null,{"$f":"Vstupy!AF253","v":0},null,null,null,null,null,null,null,null,null,null,null,null,null,null,null,null,null,null,null,null,null,null,null,null,null,null,null,null,null,null,null,null,null,null,null,null,null,null,null,null,null,null,null,null,null,null,null,null,null,null,null,null,null,null,null,null,null,null,null,null,null,null,null,null,null,null,null,null,null,{"$f":"ROW()","v":517}]
[{"$f":"Vstupy!A$21","v":0},1,1,null,null,null,null,null,null,null,null,null,null,null,null,null,null,null,null,null,null,null,null,null,null,null,null,null,null,null,null,null,null,null,null,null,null,null,null,null,null,null,null,null,null,null,null,null,null,null,null,null,null,null,null,null,null,null,null,null,null,null,null,null,null,null,null,null,null,null,null,null,null,null,null,null,null,null,null,null,null,{"$f":"ROW()","v":518}]
[{"$f":"Vstupy!A$21","v":0},{"$f":"Vstupy!G254","v":0},1,null,null,null,null,null,null,null,null,"Domácnost",null,null,null,null,null,null,null,null,null,null,null,null,"č. 1:",{"$f":"IF(Vstupy!AF254 =0,\"\",Vstupy!AF254 & \" m2 X \" & TEXT(Vstupy!AK254,\"# ###\") & \" Kč/m2 = \" & TEXT(Vstupy!AQ254,\"# ###\")  & \" Kč *\")","v":""},null,null,null,null,null,null,null,null,null,null,null,null,null,null,null,null,null,null,null,null,null,null,null,null,null,null,null,null,{"$f":"IF(Vstupy!BD254=0,\"\",\"č. 2:\")","v":""},{"$f":"IF(Vstupy!BD254=0,\"\",Vstupy!BD254 & \" m2 X \" & TEXT(Vstupy!BI254,\"# ###\") & \" Kč/m2 = \" & TEXT(Vstupy!BO254,\"# ###\")  & \" Kč *\")","v":""},null,null,null,null,null,null,null,null,null,null,null,null,null,null,null,null,null,null,null,null,null,null,null,null,null,{"$f":"ROW()","v":519}]
[{"$f":"Vstupy!A$21","v":0},{"$f":"Vstupy!G255","v":0},1,null,null,null,null,null,null,null,null,"Stavba",null,null,null,null,null,null,null,null,null,null,null,null,"č. 1:",{"$f":"IF(Vstupy!AF255 =0,\"\",Vstupy!AF255 & \" m3 X \" & TEXT(Vstupy!AK255,\"# ###\") & \" Kč/m3 = \" & TEXT(Vstupy!AQ255,\"# ###\")  & \" Kč *\")","v":""},null,null,null,null,null,null,null,null,null,null,null,null,null,null,null,null,null,null,null,null,null,null,null,null,null,null,null,null,{"$f":"IF(Vstupy!BD255=0,\"\",\"č. 2:\")","v":""},{"$f":"IF(Vstupy!BD255=0,\"\",Vstupy!BD255 & \" m3 X \" & TEXT(Vstupy!BI255,\"# ###\") & \" Kč/m3 = \" & TEXT(Vstupy!BO255,\"# ###\")  & \" Kč *\")","v":""},null,null,null,null,null,null,null,null,null,null,null,null,null,null,null,null,null,null,null,null,null,null,null,null,null,{"$f":"ROW()","v":520}]
[{"$f":"Vstupy!A$21","v":0},{"$f":"Vstupy!G256","v":0},1,null,null,null,null,null,null,null,null,"Bytová jednotka",null,null,null,null,null,null,null,null,null,null,null,null,"č. 1:",{"$f":"IF(Vstupy!AF256 =0,\"\",Vstupy!AF256 & \" m2 X \" & TEXT(Vstupy!AK256,\"# ###\") & \" Kč/m2 = \" & TEXT(Vstupy!AQ256,\"# ###\")  & \" Kč *\")","v":""},null,null,null,null,null,null,null,null,null,null,null,null,null,null,null,null,null,null,null,null,null,null,null,null,null,null,null,null,{"$f":"IF(Vstupy!BD256=0,\"\",\"č. 2:\")","v":""},{"$f":"IF(Vstupy!BD256=0,\"\",Vstupy!BD256 & \" m2 X \" & TEXT(Vstupy!BI256,\"# ###\") & \" Kč/m2 = \" & TEXT(Vstupy!BO256,\"# ###\")  & \" Kč *\")","v":""},null,null,null,null,null,null,null,null,null,null,null,null,null,null,null,null,null,null,null,null,null,null,null,null,null,{"$f":"ROW()","v":521}]
[{"$f":"Vstupy!A$21","v":0},{"$f":"B519+B520+B521","v":0},1,null,null,null,null,null,null,null,null,"* Doporučená pojistná částka. Neodpovídá-li pojistná částka pojistné hodnotě, vystavuje se pojištěný riziku krácení plnění v případě škodní události.",null,null,null,null,null,null,null,null,null,null,null,null,null,null,null,null,null,null,null,null,null,null,null,null,null,null,null,null,null,null,null,null,null,null,null,null,null,null,null,null,null,null,null,null,null,null,null,null,null,null,null,null,null,null,null,null,null,null,null,null,null,null,null,null,null,null,null,null,null,{"$f":"ROW()","v":522}]
[{"$f":"Vstupy!A$21","v":0},1,0,null,null,null,null,null,null,null,null,null,null,null,null,null,null,null,null,null,null,null,null,null,null,null,null,null,null,null,null,null,null,null,null,null,null,null,null,null,null,null,null,null,null,null,null,null,null,null,null,null,null,null,null,null,null,null,null,null,null,null,null,null,null,null,null,null,null,null,null,null,null,null,null,null,null,null,null,null,null,{"$f":"ROW()","v":523}]
[{"$f":"Vstupy!A$21","v":0},1,0,null,null,null,null,null,null,null,null,"Obecné informace",null,null,null,null,null,null,null,null,null,null,null,null,null,null,null,null,null,null,null,null,null,null,null,null,null,null,null,null,null,null,null,null,null,null,null,null,null,null,null,null,null,null,null,null,null,null,null,null,null,null,null,null,null,null,null,null,null,null,null,null,null,null,null,null,null,null,null,null,null,{"$f":"ROW()","v":524}]
[{"$f":"Vstupy!A$21","v":0},1,0,null,null,null,null,null,null,null,null,"Promáčený strop, zničené podlahy nebo nevítaná návštěva zloděje. To jsou některé z nezáviděníhodných situací. Ovšem i s běžným provozem domácnosti je spojena celá řada rizik. Další neočekávané problémy mohou přinést přírodní živly a katastrofy. Proto není od věci uzavřít odpovídající pojištění. Pojištění majetku nemůže zabránit případným škodám, ale pomůže zmírnit finanční ztráty, které v důsledku škod mohou vzniknout.\n\nPojištění majetku poskytuje finanční náhradu v případě škody v důsledku živelní události, krádeže, loupeže nebo vandalismu. Jeho základním cílem je ochrana majetku proti následkům nepředvídatelných událostí. Majetkové pojištění lze rozdělit do dvou základních skupin. A to na pojištění domácnosti a pojištění nemovitosti jako je byt, rodinný dům, chata, chalupa a další budovy. Pojištění majetku má již od roku 2000 rostoucí tendenci. Objem předepsaného pojistného u pojištění majetku se v letech 2002 až 2007 zvýšil o 34 procent z 12,73 mld. Kč v roce 2002 na 17,02 mld. Kč v roce 2007. Pro pojištění majetku hovoří i živelné katastrofy, které v posledních letech Českou republiku zasáhly. Jak povodně, tak řádění větru v posledních dvou letech. Největší větrná katastrofa, orkán Kyrill, zasáhla v lednu 2007 celé území České republiky a způsobila bezmála 80 tisíc pojistných událostí v objemu téměř 2,25 mld. Kč. O rok později následovala vichřice Emma, která v březnu 2008 způsobila téměř 38 tisíc škod v celkové výši přesahující 1,24 mld. Kč. Události posledních let, povodně v roce 2011 v severních a východních Čechách anebo zemětřesení spojené s tsunami a jaderným nebezpečím v Japonsku, hovoří samy za sebe. Dobře uzavřené pojištění majetku sice nezabrání tomu, aby pojištěného nepostihlo nic zlého, ale pomůže zmírnit finanční následky, pokud k takové situaci dojde. \n\nPolicie šetří ročně asi 160 000 nehod, při kterých dochází k téměř tisíci úmrtí a škodám za 8 miliard korun. Zanedbatelné bohužel není ani riziko odcizení. Přes jisté pozitivní trendy se již od roku 1992 vytrvale drží nad hranicí 20 tisíc vozidel. Ale nemusí nutně dojít k nejhoršímu. Stačí, když vám přední sklo poškodí odlétnutý kamínek – i takové škody se běžně stávají a mohou vám zkazit náladu. Tyto situace řeší pojištění motorových vozidel, ať už zákonné anebo dobrovolné. \n\nPro případ vzniku škody, kterou můžete způsobit sami nedopatřením např. při praní prádla vodou vyteklou z pračky, či pádem na schodech a sražením současně jiného člověka, který se zraní, musíte způsobenou škodu nahradit. V některých případech odpovídáte i za škodu, kterou jste přímo nezpůsobili, např. pokud vaše děti při sportu rozbijí okno, pes vběhne pod kola automobilu a ten je následkem dopravní nehody poškozen apod. Jako podnikatelé čelíte riziku značné finanční zátěže, rozsah odpovědnosti za škodu z činnosti související s provozem podniku je totiž široký. Zvolte si pojištění, které rizika pokryje a zároveň se přizpůsobí potřebám vašeho podniku. Pro vysoce kvalifikované profesionály, na jejichž práci jsou kladeny vysoké požadavky, protože jejich chyby mohou mít závažné následky a kterým i zákon většinou ukládá povinnost pojistit se pro případ své odpovědnosti za škodu, je určeno pojištění profesní odpovědnosti za škodu Pro všechny tyto případy existuje tedy celá škála pojištění odpovědnosti. ",null,null,null,null,null,null,null,null,null,null,null,null,null,null,null,null,null,null,null,null,null,null,null,null,null,null,null,null,null,null,null,null,null,null,null,null,null,null,null,null,null,null,null,null,null,null,null,null,null,null,null,null,null,null,null,null,null,null,null,null,null,null,null,null,null,null,null,null,null,{"$f":"ROW()","v":525}]
[{"$f":"Vstupy!A$21","v":0},1,0,null,null,null,null,null,null,null,null,null,null,null,null,null,null,null,null,null,null,null,null,null,null,null,null,null,null,null,null,null,null,null,null,null,null,null,null,null,null,null,null,null,null,null,null,null,null,null,null,null,null,null,null,null,null,null,null,null,null,null,null,null,null,null,null,null,null,null,null,null,null,null,null,null,null,null,null,null,null,{"$f":"ROW()","v":526}]
[{"$f":"Vstupy!A$21","v":0},0,1,null,null,null,null,null,null,null,null,null,null,null,null,null,null,null,null,null,null,null,null,null,null,null,null,null,null,null,null,null,null,null,null,null,null,null,null,null,null,null,null,null,null,null,null,null,null,null,null,null,null,null,null,null,null,null,null,null,null,null,null,null,null,null,null,null,null,null,null,null,null,null,null,null,null,null,null,null,null,{"$f":"ROW()","v":527}]
[{"$f":"Vstupy!A$21","v":0},0,1,null,null,null,null,null,null,null,null,null,null,null,null,null,null,null,null,null,null,null,null,null,null,null,null,null,null,null,null,null,null,null,null,null,null,null,null,null,null,null,null,null,null,null,null,null,null,null,null,null,null,null,null,null,null,null,null,null,null,null,null,null,null,null,null,null,null,null,null,null,null,null,null,null,null,null,null,null,null,{"$f":"ROW()","v":528}]
[{"$f":"Vstupy!A$21","v":0},0,1,null,null,null,null,null,null,null,null,null,null,null,null,null,null,null,null,null,null,null,null,null,null,null,null,null,null,null,null,null,null,null,null,null,null,null,null,null,null,null,null,null,null,null,null,null,null,null,null,null,null,null,null,null,null,null,null,null,null,null,null,null,null,null,null,null,null,null,null,null,null,null,null,null,null,null,null,null,null,{"$f":"ROW()","v":529}]
[{"$f":"Vstupy!A$21","v":0},0,1,null,null,null,null,null,null,null,null,null,null,null,null,null,null,null,null,null,null,null,null,null,null,null,null,null,null,null,null,null,null,null,null,null,null,null,null,null,null,null,null,null,null,null,null,null,null,null,null,null,null,null,null,null,null,null,null,null,null,null,null,null,null,null,null,null,null,null,null,null,null,null,null,null,null,null,null,null,null,{"$f":"ROW()","v":530}]
[{"$f":"Vstupy!A$21","v":0},0,1,null,null,null,null,null,null,null,null,null,null,null,null,null,null,null,null,null,null,null,null,null,null,null,null,null,null,null,null,null,null,null,null,null,null,null,null,null,null,null,null,null,null,null,null,null,null,null,null,null,null,null,null,null,null,null,null,null,null,null,null,null,null,null,null,null,null,null,null,null,null,null,null,null,null,null,null,null,null,{"$f":"ROW()","v":531}]
[{"$f":"Vstupy!A$21","v":0},0,1,null,null,null,null,null,null,null,null,null,null,null,null,null,null,null,null,null,null,null,null,null,null,null,null,null,null,null,null,null,null,null,null,null,null,null,null,null,null,null,null,null,null,null,null,null,null,null,null,null,null,null,null,null,null,null,null,null,null,null,null,null,null,null,null,null,null,null,null,null,null,null,null,null,null,null,null,null,null,{"$f":"ROW()","v":532}]
[{"$f":"Vstupy!A$21","v":0},0,1,null,null,null,null,null,null,null,null,null,null,null,null,null,null,null,null,null,null,null,null,null,null,null,null,null,null,null,null,null,null,null,null,null,null,null,null,null,null,null,null,null,null,null,null,null,null,null,null,null,null,null,null,null,null,null,null,null,null,null,null,null,null,null,null,null,null,null,null,null,null,null,null,null,null,null,null,null,null,{"$f":"ROW()","v":533}]
[{"$f":"Vstupy!A$21","v":0},0,1,null,null,null,null,null,null,null,null,null,null,null,null,null,null,null,null,null,null,null,null,null,null,null,null,null,null,null,null,null,null,null,null,null,null,null,null,null,null,null,null,null,null,null,null,null,null,null,null,null,null,null,null,null,null,null,null,null,null,null,null,null,null,null,null,null,null,null,null,null,null,null,null,null,null,null,null,null,null,{"$f":"ROW()","v":534}]
[{"$f":"Vstupy!A$21","v":0},0,1,null,null,null,null,null,null,null,null,null,null,null,null,null,null,null,null,null,null,null,null,null,null,null,null,null,null,null,null,null,null,null,null,null,null,null,null,null,null,null,null,null,null,null,null,null,null,null,null,null,null,null,null,null,null,null,null,null,null,null,null,null,null,null,null,null,null,null,null,null,null,null,null,null,null,null,null,null,null,{"$f":"ROW()","v":535}]
[{"$f":"Vstupy!A$21","v":0},0,1,null,null,null,null,null,null,null,null,null,null,null,null,null,null,null,null,null,null,null,null,null,null,null,null,null,null,null,null,null,null,null,null,null,null,null,null,null,null,null,null,null,null,null,null,null,null,null,null,null,null,null,null,null,null,null,null,null,null,null,null,null,null,null,null,null,null,null,null,null,null,null,null,null,null,null,null,null,null,{"$f":"ROW()","v":536}]
[{"$f":"Vstupy!A$22","v":0},1,{"$f":"Vstupy!G271","v":0},null,null,null,null,null,null,null,null,null,null,null,null,null,null,null,null,null,null,null,null,null,null,null,null,null,null,null,null,null,null,null,null,null,null,null,null,null,null,null,null,null,null,null,null,null,null,null,null,null,null,null,null,null,null,null,null,null,null,null,null,null,null,null,null,null,null,null,null,null,null,null,null,null,null,null,null,null,null,{"$f":"ROW()","v":537}]
[{"$f":"Vstupy!A$22","v":0},1,{"$f":"Vstupy!G271","v":0},null,null,null,null,null,null,null,null,"Finanční plán OVB",null,null,null,null,null,null,null,null,null,null,null,null,null,null,null,null,null,null,null,null,null,null,null,null,null,null,null,null,null,null,null,null,null,null,null,null,null,null,null,null,null,null,null,null,null,null,null,null,null,null,null,null,null,null,null,null,null,null,null,null,null,null,null,null,null,null,null,null,null,{"$f":"ROW()","v":538}]
[{"$f":"Vstupy!A$22","v":0},1,{"$f":"Vstupy!G271","v":0},null,null,null,null,null,null,null,null,{"$f":"Vstupy!AF$9 & \" \" & Vstupy!AI$10","v":" "},null,null,null,null,null,null,null,null,null,null,null,null,null,null,null,null,null,null,null,null,null,null,null,null,null,null,null,null,null,null,null,null,null,null,null,null,null,null,null,null,null,null,null,null,null,null,null,null,null,null,null,null,null,null,null,null,null,null,null,null,null,null,null,null,null,null,null,null,null,{"$f":"ROW()","v":539}]
[{"$f":"Vstupy!A$22","v":0},1,{"$f":"Vstupy!G271","v":0},null,null,null,null,null,null,null,null,null,{"$f":"Vstupy!S268","v":"Investice"},null,null,null,null,null,null,null,null,null,null,null,null,null,null,null,null,null,null,null,null,null,null,null,null,null,null,null,null,null,null,null,null,null,null,null,null,null,null,null,null,null,null,null,null,null,null,null,null,null,null,null,null,null,null,null,null,null,null,null,null,null,null,null,null,null,null,null,null,{"$f":"ROW()","v":540}]
[{"$f":"Vstupy!A$22","v":0},1,0,null,null,null,null,null,null,null,null,"Požadavek klienta",null,null,null,null,null,null,null,null,null,null,null,null,null,null,null,null,null,null,null,null,null,null,null,null,null,null,null,null,null,null,null,null,null,null,null,null,null,null,null,null,null,null,null,null,null,null,null,null,null,null,null,null,null,null,null,null,null,null,null,null,null,null,null,null,null,null,null,null,null,{"$f":"ROW()","v":541}]
[{"$f":"Vstupy!A$22","v":0},1,0,null,null,null,null,null,null,null,null,{"$f":"IF(Vstupy!AF269=0,\"Klient požaduje návrh řešení bez specifických požadavků\",Vstupy!AF269)","v":"Klient požaduje návrh řešení bez specifických požadavků"},null,null,null,null,null,null,null,null,null,null,null,null,null,null,null,null,null,null,null,null,null,null,null,null,null,null,null,null,null,null,null,null,null,null,null,null,null,null,null,null,null,null,null,null,null,null,null,null,null,null,null,null,null,null,null,null,null,null,null,null,null,null,null,null,null,null,null,null,null,{"$f":"ROW()","v":542}]
[{"$f":"Vstupy!A$22","v":0},{"$f":"Vstupy!G270","v":0},0,null,null,null,null,null,null,null,null,"Návrh řešení",null,null,null,null,null,null,null,null,null,null,null,null,null,null,null,null,null,null,null,null,null,null,null,null,null,null,null,null,null,null,null,null,null,null,null,null,null,null,null,null,null,null,null,null,null,null,null,null,null,null,null,null,null,null,null,null,null,null,null,null,null,null,null,null,null,null,null,null,null,{"$f":"ROW()","v":543}]
[{"$f":"Vstupy!A$22","v":0},{"$f":"Vstupy!G270","v":0},0,null,null,null,null,null,null,null,null,{"$f":"Vstupy!AF270","v":0},null,null,null,null,null,null,null,null,null,null,null,null,null,null,null,null,null,null,null,null,null,null,null,null,null,null,null,null,null,null,null,null,null,null,null,null,null,null,null,null,null,null,null,null,null,null,null,null,null,null,null,null,null,null,null,null,null,null,null,null,null,null,null,null,null,null,null,null,null,{"$f":"ROW()","v":544}]
[{"$f":"Vstupy!A$22","v":0},1,1,null,null,null,null,null,null,null,null,null,null,null,null,null,null,null,null,null,null,null,null,null,null,null,null,null,null,null,null,null,null,null,null,null,null,null,null,null,null,null,null,null,null,null,null,null,null,null,null,null,null,null,null,null,null,null,null,null,null,null,null,null,null,null,null,null,null,null,null,null,null,null,null,null,null,null,null,null,null,{"$f":"ROW()","v":545}]
[{"$f":"Vstupy!A$22","v":0},{"$f":"Vstupy!G271","v":0},1,null,null,null,null,null,null,null,null,null,null,null,null,null,null,null,null,null,null,null,null,null,null,null,null,null,null,null,null,null,null,{"$f":"Vstupy!AE271","v":"Jednorázový vklad na počátku"},null,null,null,null,null,null,null,null,null,null,null,null,null,"Pravidelný měsíční vklad",null,null,null,null,null,null,null,null,null,null,"Roky investování",null,null,null,null,null,null,null,null,null,null,"Roční zhodnocení",null,null,null,null,null,null,null,null,null,null,"Naspořená suma",{"$f":"ROW()","v":546}]
[{"$f":"Vstupy!A$22","v":0},{"$f":"Vstupy!G271","v":0},1,null,null,null,null,null,null,null,null,null,{"$f":"IF(B548=0,\"\",\"Var. 1\")","v":""},null,null,null,null,null,null,null,null,null,null,{"$f":"Vstupy!AF271","v":0},null,null,null,null,null,null,null,null,null,null,null,null,null,null,null,{"$f":"Vstupy!AS271","v":0},null,null,null,null,null,null,null,null,null,null,null,null,null,null,null,{"$f":"Vstupy!BF271","v":0},null,null,null,null,null,null,null,{"$f":"Vstupy!BS271","v":0},null,null,null,null,null,null,null,{"$f":"Vstupy!CC271","v":0},null,null,null,null,null,null,null,null,null,{"$f":"ROW()","v":547}]
[{"$f":"Vstupy!A$22","v":0},{"$f":"Vstupy!G272","v":0},1,null,null,null,null,null,null,null,null,null,{"$f":"Vstupy!S272","v":"Var. 2"},null,null,null,null,null,null,null,null,null,null,{"$f":"Vstupy!AF272","v":0},null,null,null,null,null,null,null,null,null,null,null,null,null,null,null,{"$f":"Vstupy!AS272","v":0},null,null,null,null,null,null,null,null,null,null,null,null,null,null,null,{"$f":"Vstupy!BF272","v":0},null,null,null,null,null,null,null,{"$f":"Vstupy!BS272","v":0},null,null,null,null,null,null,null,{"$f":"Vstupy!CC272","v":0},null,null,null,null,null,null,null,null,null,{"$f":"ROW()","v":548}]
[{"$f":"Vstupy!A$22","v":0},0,0,null,null,null,null,null,null,null,null,null,null,null,null,null,null,null,null,null,null,null,null,null,null,null,null,null,null,null,null,null,null,null,null,null,null,null,null,null,null,null,null,null,null,null,null,null,null,null,null,null,null,null,null,null,null,null,null,null,null,null,null,null,null,null,null,null,null,null,null,null,null,null,null,null,null,null,null,null,null,{"$f":"ROW()","v":549}]
[{"$f":"Vstupy!A$22","v":0},1,0,null,null,null,null,null,null,null,null,"Obecné informace",null,null,null,null,null,null,null,null,null,null,null,null,null,null,null,null,null,null,null,null,null,null,null,null,null,null,null,null,null,null,null,null,null,null,null,null,null,null,null,null,null,null,null,null,null,null,null,null,null,null,null,null,null,null,null,null,null,null,null,null,null,null,null,null,null,null,null,null,null,{"$f":"ROW()","v":550}]
[{"$f":"Vstupy!A$22","v":0},1,0,null,null,null,null,null,null,null,null,"Investice je možnost, jak zhodnotit peníze, které právě nejsou potřeba použít na spotřebu. Investice pomáhá z uspořených peněz vytvářet další peníze. Avšak je důležité mít na paměti, že investice může přinést jak slušné ovoce, tak i nepříjemnou finanční ztrátu. \n\nV současné době existuje nespočet možností, kam umístit svou investici v podobě peněžních prostředků. Neexistuje žádný univerzální způsob investice, který zaručí vysoké výdělky. Každý typ investice je jinak rizikový, přináší různě vysoké výdělky v odlišně dlouhých časových horizontech. Záleží na každém investorovi zvlášť, která cesta investicí je ta pravá pro něj. \n\nExistují investice, které by se daly označit za nenáročné a to z toho důvodu, že investor nepotřebuje dostatek znalostí o finančním trhu. Stačí vložit peníze do některého z podílových fondů či dluhopisových fondů a vyčkávat, až se investice zhodnotí. V takovém případě je však zhodnocení pouze minimální a to v dlouhém časovém horizontu. \n\nMnohem zajímavější parketou jsou investice pro náročné investory, které přináší vyšší zhodnocení. Investice jsou sice rizikové, ale při vhodně zvoleném portfoliu lze riziko a obavy ze ztráty snížit. Takové investice, jejímiž představiteli jsou zejména akcie a cenné papíry, však nejsou vhodné pro každého investora. \n\nRizikovost investice může být minimální v podobě podílových či investičních fondů a může narůstat až po vysoce rizikové investice do cenných papírů v podobě akcií. Rizikovost lze jednoduše diverzifikovat rozdělením investice do různých druhů cenných papírů, čímž se zamezí příliš vysoké ztrátě při poklesu kurzu jednoho z cenných papírů. Při investování hrají důležitou roli emoce, protože i správná investice nemusí přinést požadovaný výnos, pokud investor nedokáže ohlídat své emoce. Narůstající psychický nátlak může zapříčinit neúspěch a ztrátu či příliš brzký prodej investice, proto je při investování důležité zachovat klidnou hlavu a umět ovládat emoce plynoucí z psychického tlaku okolí a momentální situace.\n\nObecným pravidlem je, že čím delší dobu investice investor uvažuje, tím spíše si může dovolit rizikovější, ale také výnosnější cenné papíry a díky nim lze dosáhnout vyšších výdělků. Pro investice krátkodobé je vhodnější zvolit nástroje peněžního trhu, které sice mají nízkou výnosnost, ale během krátké doby investice nepřinesou výraznou ztrátu.  Investice, které spočívají v dlouhodobé a pravidelném investování, jsou jednoduché pro každého, nezatěžují tolik peněženku a jejich majitel se může radovat z průběžného zisku, které tvoří další zisk. V některých případech je opakovaná investice dokonce výnosnější než jednorázová.",null,null,null,null,null,null,null,null,null,null,null,null,null,null,null,null,null,null,null,null,null,null,null,null,null,null,null,null,null,null,null,null,null,null,null,null,null,null,null,null,null,null,null,null,null,null,null,null,null,null,null,null,null,null,null,null,null,null,null,null,null,null,null,null,null,null,null,null,null,{"$f":"ROW()","v":551}]
[{"$f":"Vstupy!A$22","v":0},1,0,null,null,null,null,null,null,null,null,null,null,null,null,null,null,null,null,null,null,null,null,null,null,null,null,null,null,null,null,null,null,null,null,null,null,null,null,null,null,null,null,null,null,null,null,null,null,null,null,null,null,null,null,null,null,null,null,null,null,null,null,null,null,null,null,null,null,null,null,null,null,null,null,null,null,null,null,null,null,{"$f":"ROW()","v":552}]
[{"$f":"Vstupy!A$22","v":0},0,1,null,null,null,null,null,null,null,null,null,null,null,null,null,null,null,null,null,null,null,null,null,null,null,null,null,null,null,null,null,null,null,null,null,null,null,null,null,null,null,null,null,null,null,null,null,null,null,null,null,null,null,null,null,null,null,null,null,null,null,null,null,null,null,null,null,null,null,null,null,null,null,null,null,null,null,null,null,null,{"$f":"ROW()","v":553}]
[{"$f":"Vstupy!A$22","v":0},0,1,null,null,null,null,null,null,null,null,null,null,null,null,null,null,null,null,null,null,null,null,null,null,null,null,null,null,null,null,null,null,null,null,null,null,null,null,null,null,null,null,null,null,null,null,null,null,null,null,null,null,null,null,null,null,null,null,null,null,null,null,null,null,null,null,null,null,null,null,null,null,null,null,null,null,null,null,null,null,{"$f":"ROW()","v":554}]
[{"$f":"Vstupy!A$22","v":0},0,1,null,null,null,null,null,null,null,null,null,null,null,null,null,null,null,null,null,null,null,null,null,null,null,null,null,null,null,null,null,null,null,null,null,null,null,null,null,null,null,null,null,null,null,null,null,null,null,null,null,null,null,null,null,null,null,null,null,null,null,null,null,null,null,null,null,null,null,null,null,null,null,null,null,null,null,null,null,null,{"$f":"ROW()","v":555}]
[{"$f":"Vstupy!A$22","v":0},0,1,null,null,null,null,null,null,null,null,null,null,null,null,null,null,null,null,null,null,null,null,null,null,null,null,null,null,null,null,null,null,null,null,null,null,null,null,null,null,null,null,null,null,null,null,null,null,null,null,null,null,null,null,null,null,null,null,null,null,null,null,null,null,null,null,null,null,null,null,null,null,null,null,null,null,null,null,null,null,{"$f":"ROW()","v":556}]
[{"$f":"Vstupy!A$22","v":0},0,1,null,null,null,null,null,null,null,null,null,null,null,null,null,null,null,null,null,null,null,null,null,null,null,null,null,null,null,null,null,null,null,null,null,null,null,null,null,null,null,null,null,null,null,null,null,null,null,null,null,null,null,null,null,null,null,null,null,null,null,null,null,null,null,null,null,null,null,null,null,null,null,null,null,null,null,null,null,null,{"$f":"ROW()","v":557}]
[{"$f":"Vstupy!A$22","v":0},0,1,null,null,null,null,null,null,null,null,null,null,null,null,null,null,null,null,null,null,null,null,null,null,null,null,null,null,null,null,null,null,null,null,null,null,null,null,null,null,null,null,null,null,null,null,null,null,null,null,null,null,null,null,null,null,null,null,null,null,null,null,null,null,null,null,null,null,null,null,null,null,null,null,null,null,null,null,null,null,{"$f":"ROW()","v":558}]
[{"$f":"Vstupy!A$22","v":0},0,1,null,null,null,null,null,null,null,null,null,null,null,null,null,null,null,null,null,null,null,null,null,null,null,null,null,null,null,null,null,null,null,null,null,null,null,null,null,null,null,null,null,null,null,null,null,null,null,null,null,null,null,null,null,null,null,null,null,null,null,null,null,null,null,null,null,null,null,null,null,null,null,null,null,null,null,null,null,null,{"$f":"ROW()","v":559}]
[{"$f":"Vstupy!A$22","v":0},0,1,null,null,null,null,null,null,null,null,null,null,null,null,null,null,null,null,null,null,null,null,null,null,null,null,null,null,null,null,null,null,null,null,null,null,null,null,null,null,null,null,null,null,null,null,null,null,null,null,null,null,null,null,null,null,null,null,null,null,null,null,null,null,null,null,null,null,null,null,null,null,null,null,null,null,null,null,null,null,{"$f":"ROW()","v":560}]
[{"$f":"Vstupy!A$22","v":0},0,1,null,null,null,null,null,null,null,null,null,null,null,null,null,null,null,null,null,null,null,null,null,null,null,null,null,null,null,null,null,null,null,null,null,null,null,null,null,null,null,null,null,null,null,null,null,null,null,null,null,null,null,null,null,null,null,null,null,null,null,null,null,null,null,null,null,null,null,null,null,null,null,null,null,null,null,null,null,null,{"$f":"ROW()","v":561}]
[{"$f":"Vstupy!A$22","v":0},0,1,null,null,null,null,null,null,null,null,null,null,null,null,null,null,null,null,null,null,null,null,null,null,null,null,null,null,null,null,null,null,null,null,null,null,null,null,null,null,null,null,null,null,null,null,null,null,null,null,null,null,null,null,null,null,null,null,null,null,null,null,null,null,null,null,null,null,null,null,null,null,null,null,null,null,null,null,null,null,{"$f":"ROW()","v":562}]
[{"$f":"Vstupy!A$23","v":0},1,0,null,null,null,null,null,null,null,null,null,null,null,null,null,null,null,null,null,null,null,null,null,null,null,null,null,null,null,null,null,null,null,null,null,null,null,null,null,null,null,null,null,null,null,null,null,null,null,null,null,null,null,null,null,null,null,null,null,null,null,null,null,null,null,null,null,null,null,null,null,null,null,null,null,null,null,null,null,null,{"$f":"ROW()","v":563}]
[{"$f":"Vstupy!A$23","v":0},1,0,null,null,null,null,null,null,null,null,"Finanční plán OVB",null,null,null,null,null,null,null,null,null,null,null,null,null,null,null,null,null,null,null,null,null,null,null,null,null,null,null,null,null,null,null,null,null,null,null,null,null,null,null,null,null,null,null,null,null,null,null,null,null,null,null,null,null,null,null,null,null,null,null,null,null,null,null,null,null,null,null,null,null,{"$f":"ROW()","v":564}]
[{"$f":"Vstupy!A$23","v":0},1,0,null,null,null,null,null,null,null,null,{"$f":"Vstupy!AF$9 & \" \" & Vstupy!AI$10","v":" "},null,null,null,null,null,null,null,null,null,null,null,null,null,null,null,null,null,null,null,null,null,null,null,null,null,null,null,null,null,null,null,null,null,null,null,null,null,null,null,null,null,null,null,null,null,null,null,null,null,null,null,null,null,null,null,null,null,null,null,null,null,null,null,null,null,null,null,null,null,{"$f":"ROW()","v":565}]
[{"$f":"Vstupy!A$23","v":0},1,0,null,null,null,null,null,null,null,null,null,{"$f":"Vstupy!S273","v":"Úvěry jiné než na bydlení - jejich optimalizace"},null,null,null,null,null,null,null,null,null,null,null,null,null,null,null,null,null,null,null,null,null,null,null,null,null,null,null,null,null,null,null,null,null,null,null,null,null,null,null,null,null,null,null,null,null,null,null,null,null,null,null,null,null,null,null,null,null,null,null,null,null,null,null,null,null,null,null,null,{"$f":"ROW()","v":566}]
[{"$f":"Vstupy!A$23","v":0},1,0,null,null,null,null,null,null,null,null,"Požadavek klienta",null,null,null,null,null,null,null,null,null,null,null,null,null,null,null,null,null,null,null,null,null,null,null,null,null,null,null,null,null,null,null,null,null,null,null,null,null,null,null,null,null,null,null,null,null,null,null,null,null,null,null,null,null,null,null,null,null,null,null,null,null,null,null,null,null,null,null,null,null,{"$f":"ROW()","v":567}]
[{"$f":"Vstupy!A$23","v":0},1,0,null,null,null,null,null,null,null,null,{"$f":"IF(Vstupy!AF274=0,\"Klient požaduje návrh řešení bez specifických požadavků\",Vstupy!AF274)","v":"Klient požaduje návrh řešení bez specifických požadavků"},null,null,null,null,null,null,null,null,null,null,null,null,null,null,null,null,null,null,null,null,null,null,null,null,null,null,null,null,null,null,null,null,null,null,null,null,null,null,null,null,null,null,null,null,null,null,null,null,null,null,null,null,null,null,null,null,null,null,null,null,null,null,null,null,null,null,null,null,null,{"$f":"ROW()","v":568}]
[{"$f":"Vstupy!A$23","v":0},{"$f":"Vstupy!G275","v":0},0,null,null,null,null,null,null,null,null,"Návrh řešení",null,null,null,null,null,null,null,null,null,null,null,null,null,null,null,null,null,null,null,null,null,null,null,null,null,null,null,null,null,null,null,null,null,null,null,null,null,null,null,null,null,null,null,null,null,null,null,null,null,null,null,null,null,null,null,null,null,null,null,null,null,null,null,null,null,null,null,null,null,{"$f":"ROW()","v":569}]
[{"$f":"Vstupy!A$23","v":0},{"$f":"Vstupy!G275","v":0},0,null,null,null,null,null,null,null,null,{"$f":"Vstupy!AF275","v":0},null,null,null,null,null,null,null,null,null,null,null,null,null,null,null,null,null,null,null,null,null,null,null,null,null,null,null,null,null,null,null,null,null,null,null,null,null,null,null,null,null,null,null,null,null,null,null,null,null,null,null,null,null,null,null,null,null,null,null,null,null,null,null,null,null,null,null,null,null,{"$f":"ROW()","v":570}]
[{"$f":"Vstupy!A$23","v":0},0,1,null,null,null,null,null,null,null,null,null,null,null,null,null,null,null,null,null,null,null,null,null,null,"Informace","Cíl - přizpůsobení výše a frekvence splátek klientovým možnostem a případné snížení nákladů spojených s úvěry.",null,null,null,null,null,null,null,null,null,null,null,null,null,null,null,null,null,null,null,null,null,null,null,null,null,null,null,null,null,null,null,null,null,null,null,null,null,null,null,null,null,null,null,null,null,null,null,null,null,null,null,null,null,null,{"$f":"ROW()","v":571}]
[{"$f":"Vstupy!A$23","v":0},0,0,null,null,null,null,null,null,null,null,null,null,null,null,null,null,null,null,null,null,null,null,null,null,null,null,null,null,null,null,null,null,null,null,null,null,null,null,null,null,null,null,null,null,null,null,null,null,null,null,null,null,null,null,null,null,null,null,null,null,null,null,null,null,null,null,null,null,null,null,null,null,null,null,null,null,null,null,null,null,{"$f":"ROW()","v":572}]
[{"$f":"Vstupy!A$23","v":0},0,1,null,null,null,null,null,null,null,null,null,null,null,null,null,null,null,null,null,null,null,null,null,null,null,null,null,null,null,null,null,null,null,null,null,null,null,null,null,null,null,null,null,null,null,null,null,null,null,null,null,null,null,null,null,null,null,null,null,null,null,null,null,null,null,null,null,null,null,null,null,null,null,null,null,null,null,null,null,null,{"$f":"ROW()","v":573}]
[{"$f":"Vstupy!A$23","v":0},0,1,null,null,null,null,null,null,null,null,null,null,null,null,null,null,null,null,null,null,null,null,null,null,null,null,null,null,null,null,null,null,null,null,null,null,null,null,null,null,null,null,null,null,null,null,null,null,null,null,null,null,null,null,null,null,null,null,null,null,null,null,null,null,null,null,null,null,null,null,null,null,null,null,null,null,null,null,null,null,{"$f":"ROW()","v":574}]
[{"$f":"Vstupy!A$23","v":0},0,1,null,null,null,null,null,null,null,null,null,null,null,null,null,null,null,null,null,null,null,null,null,null,null,null,null,null,null,null,null,null,null,null,null,null,null,null,null,null,null,null,null,null,null,null,null,null,null,null,null,null,null,null,null,null,null,null,null,null,null,null,null,null,null,null,null,null,null,null,null,null,null,null,null,null,null,null,null,null,{"$f":"ROW()","v":575}]
[{"$f":"Vstupy!A$23","v":0},0,1,null,null,null,null,null,null,null,null,null,null,null,null,null,null,null,null,null,null,null,null,null,null,null,null,null,null,null,null,null,null,null,null,null,null,null,null,null,null,null,null,null,null,null,null,null,null,null,null,null,null,null,null,null,null,null,null,null,null,null,null,null,null,null,null,null,null,null,null,null,null,null,null,null,null,null,null,null,null,{"$f":"ROW()","v":576}]
[{"$f":"Vstupy!A$23","v":0},0,1,null,null,null,null,null,null,null,null,null,null,null,null,null,null,null,null,null,null,null,null,null,null,null,null,null,null,null,null,null,null,null,null,null,null,null,null,null,null,null,null,null,null,null,null,null,null,null,null,null,null,null,null,null,null,null,null,null,null,null,null,null,null,null,null,null,null,null,null,null,null,null,null,null,null,null,null,null,null,{"$f":"ROW()","v":577}]
[{"$f":"Vstupy!A$23","v":0},0,1,null,null,null,null,null,null,null,null,null,null,null,null,null,null,null,null,null,null,null,null,null,null,null,null,null,null,null,null,null,null,null,null,null,null,null,null,null,null,null,null,null,null,null,null,null,null,null,null,null,null,null,null,null,null,null,null,null,null,null,null,null,null,null,null,null,null,null,null,null,null,null,null,null,null,null,null,null,null,{"$f":"ROW()","v":578}]
[{"$f":"Vstupy!A$23","v":0},0,1,null,null,null,null,null,null,null,null,null,null,null,null,null,null,null,null,null,null,null,null,null,null,null,null,null,null,null,null,null,null,null,null,null,null,null,null,null,null,null,null,null,null,null,null,null,null,null,null,null,null,null,null,null,null,null,null,null,null,null,null,null,null,null,null,null,null,null,null,null,null,null,null,null,null,null,null,null,null,{"$f":"ROW()","v":579}]
[{"$f":"Vstupy!A$24","v":0},1,0,null,null,null,null,null,null,null,null,null,null,null,null,null,null,null,null,null,null,null,null,null,null,null,null,null,null,null,null,null,null,null,null,null,null,null,null,null,null,null,null,null,null,null,null,null,null,null,null,null,null,null,null,null,null,null,null,null,null,null,null,null,null,null,null,null,null,null,null,null,null,null,null,null,null,null,null,null,null,{"$f":"ROW()","v":580}]
[{"$f":"Vstupy!A$24","v":0},1,0,null,null,null,null,null,null,null,null,"Finanční plán OVB",null,null,null,null,null,null,null,null,null,null,null,null,null,null,null,null,null,null,null,null,null,null,null,null,null,null,null,null,null,null,null,null,null,null,null,null,null,null,null,null,null,null,null,null,null,null,null,null,null,null,null,null,null,null,null,null,null,null,null,null,null,null,null,null,null,null,null,null,null,{"$f":"ROW()","v":581}]
[{"$f":"Vstupy!A$24","v":0},1,0,null,null,null,null,null,null,null,null,{"$f":"Vstupy!AF$9 & \" \" & Vstupy!AI$10","v":" "},null,null,null,null,null,null,null,null,null,null,null,null,null,null,null,null,null,null,null,null,null,null,null,null,null,null,null,null,null,null,null,null,null,null,null,null,null,null,null,null,null,null,null,null,null,null,null,null,null,null,null,null,null,null,null,null,null,null,null,null,null,null,null,null,null,null,null,null,null,{"$f":"ROW()","v":582}]
[{"$f":"Vstupy!A$24","v":0},1,0,null,null,null,null,null,null,null,null,null,{"$f":"Vstupy!S288","v":"Jiné"},null,null,null,null,null,null,null,null,null,null,null,null,null,null,null,null,null,null,null,null,null,null,null,null,null,null,null,null,null,null,null,null,null,null,null,null,null,null,null,null,null,null,null,null,null,null,null,null,null,null,null,null,null,null,null,null,null,null,null,null,null,null,null,null,null,null,null,null,{"$f":"ROW()","v":583}]
[{"$f":"Vstupy!A$24","v":0},1,0,null,null,null,null,null,null,null,null,"Požadavek klienta",null,null,null,null,null,null,null,null,null,null,null,null,null,null,null,null,null,null,null,null,null,null,null,null,null,null,null,null,null,null,null,null,null,null,null,null,null,null,null,null,null,null,null,null,null,null,null,null,null,null,null,null,null,null,null,null,null,null,null,null,null,null,null,null,null,null,null,null,null,{"$f":"ROW()","v":584}]
[{"$f":"Vstupy!A$24","v":0},1,0,null,null,null,null,null,null,null,null,{"$f":"IF(Vstupy!AF289=0,\"Klient požaduje návrh řešení bez specifických požadavků\",Vstupy!AF289)","v":"Klient požaduje návrh řešení bez specifických požadavků"},null,null,null,null,null,null,null,null,null,null,null,null,null,null,null,null,null,null,null,null,null,null,null,null,null,null,null,null,null,null,null,null,null,null,null,null,null,null,null,null,null,null,null,null,null,null,null,null,null,null,null,null,null,null,null,null,null,null,null,null,null,null,null,null,null,null,null,null,null,{"$f":"ROW()","v":585}]
[{"$f":"Vstupy!A$24","v":0},{"$f":"Vstupy!G290","v":0},0,null,null,null,null,null,null,null,null,"Návrh řešení",null,null,null,null,null,null,null,null,null,null,null,null,null,null,null,null,null,null,null,null,null,null,null,null,null,null,null,null,null,null,null,null,null,null,null,null,null,null,null,null,null,null,null,null,null,null,null,null,null,null,null,null,null,null,null,null,null,null,null,null,null,null,null,null,null,null,null,null,null,{"$f":"ROW()","v":586}]
[{"$f":"Vstupy!A$24","v":0},{"$f":"Vstupy!G290","v":0},0,null,null,null,null,null,null,null,null,{"$f":"Vstupy!AF290","v":0},null,null,null,null,null,null,null,null,null,null,null,null,null,null,null,null,null,null,null,null,null,null,null,null,null,null,null,null,null,null,null,null,null,null,null,null,null,null,null,null,null,null,null,null,null,null,null,null,null,null,null,null,null,null,null,null,null,null,null,null,null,null,null,null,null,null,null,null,null,{"$f":"ROW()","v":587}]
[0,0,1,null,null,null,null,null,null,null,null,null,null,null,null,null,null,null,null,null,null,null,null,null,null,null,null,null,null,null,null,null,null,null,null,null,null,null,null,null,null,null,null,null,null,null,null,null,null,null,null,null,null,null,null,null,null,null,null,null,null,null,null,null,null,null,null,null,null,null,null,null,null,null,null,null,null,null,null,null,null,{"$f":"ROW()","v":588}]
[0,0,1,null,null,null,null,null,null,null,null,null,null,null,null,null,null,null,null,null,null,null,null,null,null,null,null,null,null,null,null,null,null,null,null,null,null,null,null,null,null,null,null,null,null,null,null,null,null,null,null,null,null,null,null,null,null,null,null,null,null,null,null,null,null,null,null,null,null,null,null,null,null,null,null,null,null,null,null,null,null,{"$f":"ROW()","v":589}]
[0,0,1,null,null,null,null,null,null,null,null,null,null,null,null,null,null,null,null,null,null,null,null,null,null,null,null,null,null,null,null,null,null,null,null,null,null,null,null,null,null,null,null,null,null,null,null,null,null,null,null,null,null,null,null,null,null,null,null,null,null,null,null,null,null,null,null,null,null,null,null,null,null,null,null,null,null,null,null,null,null,{"$f":"ROW()","v":590}]
[0,0,1,null,null,null,null,null,null,null,null,null,null,null,null,null,null,null,null,null,null,null,null,null,null,null,null,null,null,null,null,null,null,null,null,null,null,null,null,null,null,null,null,null,null,null,null,null,null,null,null,null,null,null,null,null,null,null,null,null,null,null,null,null,null,null,null,null,null,null,null,null,null,null,null,null,null,null,null,null,null,{"$f":"ROW()","v":591}]
[0,0,1,null,null,null,null,null,null,null,null,null,null,null,null,null,null,null,null,null,null,null,null,null,null,null,null,null,null,null,null,null,null,null,null,null,null,null,null,null,null,null,null,null,null,null,null,null,null,null,null,null,null,null,null,null,null,null,null,null,null,null,null,null,null,null,null,null,null,null,null,null,null,null,null,null,null,null,null,null,null,{"$f":"ROW()","v":592}]
[0,0,1,null,null,null,null,null,null,null,null,null,null,null,null,null,null,null,null,null,null,null,null,null,null,null,null,null,null,null,null,null,null,null,null,null,null,null,null,null,null,null,null,null,null,null,null,null,null,null,null,null,null,null,null,null,null,null,null,null,null,null,null,null,null,null,null,null,null,null,null,null,null,null,null,null,null,null,null,null,null,{"$f":"ROW()","v":593}]
[0,0,1,null,null,null,null,null,null,null,null,null,null,null,null,null,null,null,null,null,null,null,null,null,null,null,null,null,null,null,null,null,null,null,null,null,null,null,null,null,null,null,null,null,null,null,null,null,null,null,null,null,null,null,null,null,null,null,null,null,null,null,null,null,null,null,null,null,null,null,null,null,null,null,null,null,null,null,null,null,null,{"$f":"ROW()","v":594}]
[0,0,1,null,null,null,null,null,null,null,null,null,null,null,null,null,null,null,null,null,null,null,null,null,null,null,null,null,null,null,null,null,null,null,null,null,null,null,null,null,null,null,null,null,null,null,null,null,null,null,null,null,null,null,null,null,null,null,null,null,null,null,null,null,null,null,null,null,null,null,null,null,null,null,null,null,null,null,null,null,null,{"$f":"ROW()","v":595}]
[0,0,1,null,null,null,null,null,null,null,null,null,null,null,null,null,null,null,null,null,null,null,null,null,null,null,null,null,null,null,null,null,null,null,null,null,null,null,null,null,null,null,null,null,null,null,null,null,null,null,null,null,null,null,null,null,null,null,null,null,null,null,null,null,null,null,null,null,null,null,null,null,null,null,null,null,null,null,null,null,null,{"$f":"ROW()","v":596}]
[0,0,1,null,null,null,null,null,null,null,null,null,null,null,null,null,null,null,null,null,null,null,null,null,null,null,null,null,null,null,null,null,null,null,null,null,null,null,null,null,null,null,null,null,null,null,null,null,null,null,null,null,null,null,null,null,null,null,null,null,null,null,null,null,null,null,null,null,null,null,null,null,null,null,null,null,null,null,null,null,null,{"$f":"ROW()","v":597}]
[0,0,1,null,null,null,null,null,null,null,null,null,null,null,null,null,null,null,null,null,null,null,null,null,null,null,null,null,null,null,null,null,null,null,null,null,null,null,null,null,null,null,null,null,null,null,null,null,null,null,null,null,null,null,null,null,null,null,null,null,null,null,null,null,null,null,null,null,null,null,null,null,null,null,null,null,null,null,null,null,null,{"$f":"ROW()","v":598}]
[0,0,1,null,null,null,null,null,null,null,null,null,null,null,null,null,null,null,null,null,null,null,null,null,null,null,null,null,null,null,null,null,null,null,null,null,null,null,null,null,null,null,null,null,null,null,null,null,null,null,null,null,null,null,null,null,null,null,null,null,null,null,null,null,null,null,null,null,null,null,null,null,null,null,null,null,null,null,null,null,null,{"$f":"ROW()","v":599}]
[0,0,1,null,null,null,null,null,null,null,null,null,null,null,null,null,null,null,null,null,null,null,null,null,null,null,null,null,null,null,null,null,null,null,null,null,null,null,null,null,null,null,null,null,null,null,null,null,null,null,null,null,null,null,null,null,null,null,null,null,null,null,null,null,null,null,null,null,null,null,null,null,null,null,null,null,null,null,null,null,null,{"$f":"ROW()","v":600}]
[1,0,1,null,null,null,null,null,null,null,null,null,null,null,null,null,null,null,null,null,null,null,null,null,null,null,null,null,null,null,null,null,null,null,null,null,null,null,null,null,null,null,null,null,null,null,null,null,null,null,null,null,null,null,null,null,null,null,null,null,null,null,null,null,null,null,null,null,null,null,null,null,null,null,null,null,null,null,null,null,null,{"$f":"ROW()","v":601}]
[1,0,1,null,null,null,null,null,null,null,null,null,null,null,null,null,null,null,null,null,null,null,null,null,null,null,null,null,null,null,null,null,null,null,null,null,null,null,null,null,null,null,null,null,null,null,null,null,null,null,null,null,null,null,null,null,null,null,null,null,null,null,null,null,null,null,null,null,null,null,null,null,null,null,null,null,null,null,null,null,null,{"$f":"ROW()","v":602}]
[1,0,1,null,null,null,null,null,null,null,null,"PRÁVNÍ POUČENÍ",null,null,null,null,null,null,null,null,null,null,null,null,null,null,null,null,null,null,null,null,null,null,null,null,null,null,null,null,null,null,null,null,null,null,null,null,null,null,null,null,null,null,null,null,null,null,null,null,null,null,null,null,null,null,null,null,null,null,null,null,null,null,null,null,null,null,null,null,null,{"$f":"ROW()","v":603}]
[1,0,1,null,null,null,null,null,null,null,null,null,null,null,null,null,null,null,null,null,null,null,null,null,null,null,null,null,null,null,null,null,null,null,null,null,null,null,null,null,null,null,null,null,null,null,null,null,null,null,null,null,null,null,null,null,null,null,null,null,null,null,null,null,null,null,null,null,null,null,null,null,null,null,null,null,null,null,null,null,null,{"$f":"ROW()","v":604}]
[1,0,1,null,null,null,null,null,null,null,null,null,null,null,null,null,null,null,null,null,null,null,null,null,null,null,null,null,null,null,null,null,null,null,null,null,null,null,null,null,null,null,null,null,null,null,null,null,null,null,null,null,null,null,null,null,null,null,null,null,null,null,null,null,null,null,null,null,null,null,null,null,null,null,null,null,null,null,null,null,null,{"$f":"ROW()","v":605}]
[1,0,1,null,null,null,null,null,null,null,null,"OVB Allfinanz, a.s. je dle zák. č. 38/2004 Sb., zákona o pojišťovacích zprostředkovatelích a samostatných likvidátorech pojistných událostí oprávněna provozovat zprostředkovatelskou činnost na území České republiky jako pojišťovací agent. Společnost OVB Allfinanz, a.s. je Investičním zprostředkovatelem, který může vykonávat investiční službu přijímání a předávání pokynů týkajících se investičních nástrojů. ",null,null,null,null,null,null,null,null,null,null,null,null,null,null,null,null,null,null,null,null,null,null,null,null,null,null,null,null,null,null,null,null,null,null,null,null,null,null,null,null,null,null,null,null,null,null,null,null,null,null,null,null,null,null,null,null,null,null,null,null,null,null,null,null,null,null,null,null,null,{"$f":"ROW()","v":606}]
[1,0,1,null,null,null,null,null,null,null,null,"Dle §21/1 ZoPZ platí, že podřízený pojišťovací zprostředkovatel klientovi na jeho žádost sdělil způsob svého odměňování.",null,null,null,null,null,null,null,null,null,null,null,null,null,null,null,null,null,null,null,null,null,null,null,null,null,null,null,null,null,null,null,null,null,null,null,null,null,null,null,null,null,null,null,null,null,null,null,null,null,null,null,null,null,null,null,null,null,null,null,null,null,null,null,null,null,null,null,null,null,{"$f":"ROW()","v":607}]
[1,0,1,null,null,null,null,null,null,null,null,"V souladu s §21/6 ZoPZ klient svým podpisem níže potvrzuje, že byl informován, že podřízený pojišťovací zprostředkovatel vykonává zprostředkování pojištění pro více pojišťoven a na žádost klienta je podřízený pojišťovací zprostředkovatel povinen mu je sdělit.",null,null,null,null,null,null,null,null,null,null,null,null,null,null,null,null,null,null,null,null,null,null,null,null,null,null,null,null,null,null,null,null,null,null,null,null,null,null,null,null,null,null,null,null,null,null,null,null,null,null,null,null,null,null,null,null,null,null,null,null,null,null,null,null,null,null,null,null,null,{"$f":"ROW()","v":608}]
[1,0,1,null,null,null,null,null,null,null,null,"V rámci oblasti pojištění neprovádí analýzu dle § 21/7 ZoPZ, protože každý podřízený pojišťovací zprostředkovatel vybírá z aktuálního produktového portfolia, které je dostupné on-line na webových stránkách společnosti www.ovb.cz .",null,null,null,null,null,null,null,null,null,null,null,null,null,null,null,null,null,null,null,null,null,null,null,null,null,null,null,null,null,null,null,null,null,null,null,null,null,null,null,null,null,null,null,null,null,null,null,null,null,null,null,null,null,null,null,null,null,null,null,null,null,null,null,null,null,null,null,null,null,{"$f":"ROW()","v":609}]
[1,0,1,null,null,null,null,null,null,null,null,"Klient svým podpisem níže stvrzuje také, že podřízený pojišťovací zprostředkovatel jej informoval, že nesmí poskytovat neúplné, nepřesné a nejasné údaje, zamlčet údaje o charakteru a vlastnostech poskytovaných služeb.",null,null,null,null,null,null,null,null,null,null,null,null,null,null,null,null,null,null,null,null,null,null,null,null,null,null,null,null,null,null,null,null,null,null,null,null,null,null,null,null,null,null,null,null,null,null,null,null,null,null,null,null,null,null,null,null,null,null,null,null,null,null,null,null,null,null,null,null,null,{"$f":"ROW()","v":610}]
[1,0,1,null,null,null,null,null,null,null,null,"V souladu s charakterem právních předpisů byl klient informován také o skutečnosti, že má právo požadovat předložení osvědčení o zápisu do registru PPZ či o osvědčení o zápisu do seznamu vázaných zástupců a také byl informován, jak si tyto údaje může prostřednictvím webové stránky České národní banky ověřit. Klient obdržel také podrobný návod o tom, jak může v budoucnu podat stížnost či reklamaci týkající se zprostředkovaného produktu.",null,null,null,null,null,null,null,null,null,null,null,null,null,null,null,null,null,null,null,null,null,null,null,null,null,null,null,null,null,null,null,null,null,null,null,null,null,null,null,null,null,null,null,null,null,null,null,null,null,null,null,null,null,null,null,null,null,null,null,null,null,null,null,null,null,null,null,null,null,{"$f":"ROW()","v":611}]
[1,0,1,null,null,null,null,null,null,null,null,"V oblasti investic neprovádí vázaný zástupce investiční poradenství, pouze zprostředkovává příslušné produkty, které jsou v produktovém portfoliu OVB Allfinanz,a.s.",null,null,null,null,null,null,null,null,null,null,null,null,null,null,null,null,null,null,null,null,null,null,null,null,null,null,null,null,null,null,null,null,null,null,null,null,null,null,null,null,null,null,null,null,null,null,null,null,null,null,null,null,null,null,null,null,null,null,null,null,null,null,null,null,null,null,null,null,null,{"$f":"ROW()","v":612}]
[1,0,1,null,null,null,null,null,null,null,null,"Pro oblast spotřebních úvěrů jsou veškeré důležité informace obsaženy ve smluvní dokumentaci příslušné partnerské společnosti.  Podle §17/1 ZoSÚ tímto zprostředkovatel klienta informuje, že je oprávněn spolupracovat s vícero věřiteli, výčet konkrétních institucí, s nimiž spolupracuje je k dispozici vždy v aktuální podobně na www.ovb.cz.. Klient svým podpisem níže na tomto formuláři potvrzuje, že zprostředkovatel jej seznámil s právním vztahem, který má s vícero věřiteli.",null,null,null,null,null,null,null,null,null,null,null,null,null,null,null,null,null,null,null,null,null,null,null,null,null,null,null,null,null,null,null,null,null,null,null,null,null,null,null,null,null,null,null,null,null,null,null,null,null,null,null,null,null,null,null,null,null,null,null,null,null,null,null,null,null,null,null,null,null,{"$f":"ROW()","v":613}]
[1,0,1,null,null,null,null,null,null,null,null,"Pro oblast penzijního připojištění je klient informován, že veškeré důležité informace týkající se penzijního fondu a zprostředkovatele jsou uvedeny na Infolistu příslušného penzijního fondu, který klient podepisuje při zprostředkování penzijního připojištění se státním příspěvkem.",null,null,null,null,null,null,null,null,null,null,null,null,null,null,null,null,null,null,null,null,null,null,null,null,null,null,null,null,null,null,null,null,null,null,null,null,null,null,null,null,null,null,null,null,null,null,null,null,null,null,null,null,null,null,null,null,null,null,null,null,null,null,null,null,null,null,null,null,null,{"$f":"ROW()","v":614}]
[1,0,1,null,null,null,null,null,null,null,null,{"$f":"\"Já, níže podepsaná/-ý \" & Vstupy!AF9 & \" \" & Vstupy!AI10 & \", klient jemuž byl navržen ze strany spolupracovníka OVB Allfinanz, a.s.  Finanční plán a předložena nabídka produktů,  potvrzuji pravdivost výše uvedených skutečností a svým podpisem níže potvrzuji, že jsem se seznámil\" & \" se svými právy a povinnostmi, rozumím jim a na všechny mé případné dotazy mi bylo odpovězeno zcela dostatečným a\" & \" srozumitelným způsobem, dále svým podpisem potvrzuji, že jsem si plně vědom/-a svého finančního závazku, který svým případným podpisem smlouvy či návrhu výše uvedeného Plánu učiním. \"","v":"Já, níže podepsaná/-ý  , klient jemuž byl navržen ze strany spolupracovníka OVB Allfinanz, a.s.  Finanční plán a předložena nabídka produktů,  potvrzuji pravdivost výše uvedených skutečností a svým podpisem níže potvrzuji, že jsem se seznámil se svými právy a povinnostmi, rozumím jim a na všechny mé případné dotazy mi bylo odpovězeno zcela dostatečným a srozumitelným způsobem, dále svým podpisem potvrzuji, že jsem si plně vědom/-a svého finančního závazku, který svým případným podpisem smlouvy či návrhu výše uvedeného Plánu učiním. "},null,null,null,null,null,null,null,null,null,null,null,null,null,null,null,null,null,null,null,null,null,null,null,null,null,null,null,null,null,null,null,null,null,null,null,null,null,null,null,null,null,null,null,null,null,null,null,null,null,null,null,null,null,null,null,null,null,null,null,null,null,null,null,null,null,null,null,null,null,{"$f":"ROW()","v":615}]
[1,0,1,null,null,null,null,null,null,null,null,null,null,null,null,null,null,null,null,null,null,null,null,null,null,null,null,null,null,null,null,null,null,null,null,null,null,null,null,null,null,null,null,null,null,null,null,null,null,null,null,null,null,null,null,null,null,null,null,null,null,null,null,null,null,null,null,null,null,null,null,null,null,null,null,null,null,null,null,null,null,{"$f":"ROW()","v":616}]
[1,0,1,null,null,null,null,null,null,null,null,null,null,null,null,null,null,null,null,null,null,null,null,null,null,null,null,null,null,null,null,null,null,null,null,null,null,null,null,null,null,null,null,null,null,null,null,null,null,null,null,null,null,null,null,null,null,null,null,null,null,null,null,null,null,null,null,null,null,null,null,null,null,null,null,null,null,null,null,null,null,{"$f":"ROW()","v":617}]
[1,0,1,null,null,null,null,null,null,null,null,null,null,null,null,null,null,null,null,null,null,null,null,null,null,null,null,null,null,null,null,null,null,null,null,null,null,null,null,null,null,null,null,null,null,null,null,null,null,null,null,null,null,null,null,null,null,null,null,null,null,null,null,null,null,null,null,null,null,null,null,null,null,null,null,null,null,null,null,null,null,{"$f":"ROW()","v":618}]
[1,0,1,null,null,null,null,null,null,null,null,null,null,null,null,null,null,null,null,null,null,null,null,null,null,null,null,null,null,null,null,null,null,null,null,null,null,null,null,null,null,null,null,null,null,null,null,null,null,null,null,null,null,null,null,null,null,null,null,null,null,null,null,null,null,null,null,null,null,null,null,null,null,null,null,null,null,null,null,null,null,{"$f":"ROW()","v":619}]
[1,0,1,null,null,null,null,null,null,null,null,null,null,null,null,null,null,null,null,null,null,null,null,null,null,null,null,null,null,null,null,null,null,null,null,null,null,null,null,null,null,null,null,null,null,null,null,null,null,null,null,{"$f":" Vstupy!AF9 & \" \" & Vstupy!AI10","v":" "},null,null,null,null,null,null,null,null,null,null,null,null,null,null,null,null,null,null,null,null,null,null,null,null,null,null,null,null,null,{"$f":"ROW()","v":620}]
[1,0,1,null,null,null,null,null,null,null,null,null,null,null,null,null,null,null,null,null,null,null,null,null,null,null,null,null,null,null,null,null,null,null,null,null,null,null,null,null,null,null,null,null,null,null,null,null,null,null,null,null,null,null,null,null,null,null,null,null,null,null,null,null,null,null,null,null,null,null,null,null,null,null,null,null,null,null,null,null,null,{"$f":"ROW()","v":621}]
[1,0,1,null,null,null,null,null,null,null,null,null,null,null,null,null,null,null,null,null,null,null,null,null,null,null,null,null,null,null,null,null,null,null,null,null,null,null,null,null,null,null,null,null,null,null,null,null,null,null,null,null,null,null,null,null,null,null,null,null,null,null,null,null,null,null,null,null,null,null,null,null,null,null,null,null,null,null,null,null,null,{"$f":"ROW()","v":622}]
[1,0,1,null,null,null,null,null,null,null,null,null,null,null,null,null,null,null,null,null,null,null,null,null,null,null,null,null,null,null,null,null,null,null,null,null,null,null,null,null,null,null,null,null,null,null,null,null,null,null,null,null,null,null,null,null,null,null,null,null,null,null,null,null,null,null,null,null,null,null,null,null,null,null,null,null,null,null,null,null,null,{"$f":"ROW()","v":623}]
[1,0,1,null,null,null,null,null,null,null,null,null,null,null,null,null,null,null,null,null,null,null,null,null,null,null,null,null,null,null,null,null,null,null,null,null,null,null,null,null,null,null,null,null,null,null,null,null,null,null,null,null,null,null,null,null,null,null,null,null,null,null,null,null,null,null,null,null,null,null,null,null,null,null,null,null,null,null,null,null,null,{"$f":"ROW()","v":624}]
[1,0,1,null,null,null,null,null,null,null,null,null,null,null,null,null,null,null,null,null,null,null,null,null,null,null,null,null,null,null,null,null,null,null,null,null,null,null,null,null,null,null,null,null,null,null,null,null,null,null,null,null,null,null,null,null,null,null,null,null,null,null,null,null,null,null,null,null,null,null,null,null,null,null,null,null,null,null,null,null,null,{"$f":"ROW()","v":625}]
[1,0,1,null,null,null,null,null,null,null,null,null,null,null,null,null,null,null,null,null,null,null,null,null,null,null,null,null,null,null,null,null,null,null,null,null,null,null,null,null,null,null,null,null,null,null,null,null,null,null,null,null,null,null,null,null,null,null,null,null,null,null,null,null,null,null,null,null,null,null,null,null,null,null,null,null,null,null,null,null,null,{"$f":"ROW()","v":626}]
[1,0,1,null,null,null,null,null,null,null,null,null,null,null,null,null,null,null,null,null,null,null,null,null,null,null,null,null,null,null,null,null,null,null,null,null,null,null,null,null,null,null,null,null,null,null,null,null,null,null,null,null,null,null,null,null,null,null,null,null,null,null,null,null,null,null,null,null,null,null,null,null,null,null,null,null,null,null,null,null,null,{"$f":"ROW()","v":627}]
[1,0,1,null,null,null,null,null,null,null,null,null,null,null,null,null,null,null,null,null,null,null,null,null,null,null,null,null,null,null,null,null,null,null,null,null,null,null,null,null,null,null,null,null,null,null,null,null,null,null,null,null,null,null,null,null,null,null,null,null,null,null,null,null,null,null,null,null,null,null,null,null,null,null,null,null,null,null,null,null,null,{"$f":"ROW()","v":628}]
[1,0,1,null,null,null,null,null,null,null,null,null,null,null,null,null,null,null,null,null,null,null,null,null,null,null,null,null,null,null,null,null,null,null,null,null,null,null,null,null,null,null,null,null,null,null,null,null,null,null,null,null,null,null,null,null,null,null,null,null,null,null,null,null,null,null,null,null,null,null,null,null,null,null,null,null,null,null,null,null,null,{"$f":"ROW()","v":629}]
[1,0,1,null,null,null,null,null,null,null,null,null,null,null,null,null,null,null,null,null,null,null,null,null,null,null,null,null,null,null,null,null,null,null,null,null,null,null,null,null,null,null,null,null,null,null,null,null,null,null,null,null,null,null,null,null,null,null,null,null,null,null,null,null,null,null,null,null,null,null,null,null,null,null,null,null,null,null,null,null,null,{"$f":"ROW()","v":630}]
[1,0,1,null,null,null,null,null,null,null,null,null,null,null,null,null,null,null,null,null,null,null,null,null,null,null,null,null,null,null,null,null,null,null,null,null,null,null,null,null,null,null,null,null,null,null,null,null,null,null,null,null,null,null,null,null,null,null,null,null,null,null,null,null,null,null,null,null,null,null,null,null,null,null,null,null,null,null,null,null,null,{"$f":"ROW()","v":631}]
[1,0,1,null,null,null,null,null,null,null,null,null,null,null,null,null,null,null,null,null,null,null,null,null,null,null,null,null,null,null,null,null,null,null,null,null,null,null,null,null,null,null,null,null,null,null,null,null,null,null,null,null,null,null,null,null,null,null,null,null,null,null,null,null,null,null,null,null,null,null,null,null,null,null,null,null,null,null,null,null,null,{"$f":"ROW()","v":632}]
[1,0,1,null,null,null,null,null,null,null,null,null,null,null,null,null,null,null,null,null,null,null,null,null,null,null,null,null,null,null,null,null,null,null,null,null,null,null,null,null,null,null,null,null,null,null,null,null,null,null,null,null,null,null,null,null,null,null,null,null,null,null,null,null,null,null,null,null,null,null,null,null,null,null,null,null,null,null,null,null,null,{"$f":"ROW()","v":633}]
[1,0,1,null,null,null,null,null,null,null,null,null,null,null,null,null,null,null,null,null,null,null,null,null,null,null,null,null,null,null,null,null,null,null,null,null,null,null,null,null,null,null,null,null,null,null,null,null,null,null,null,null,null,null,null,null,null,null,null,null,null,null,null,null,null,null,null,null,null,null,null,null,null,null,null,null,null,null,null,null,null,{"$f":"ROW()","v":634}]
[1,0,1,null,null,null,null,null,null,null,null,null,null,null,null,null,null,null,null,null,null,null,null,null,null,null,null,null,null,null,null,null,null,null,null,null,null,null,null,null,null,null,null,null,null,null,null,null,null,null,null,null,null,null,null,null,null,null,null,null,null,null,null,null,null,null,null,null,null,null,null,null,null,null,null,null,null,null,null,null,null,{"$f":"ROW()","v":635}]
[1,0,1,null,null,null,null,null,null,null,null,null,null,null,null,null,null,null,null,null,null,null,null,null,null,null,null,null,null,null,null,null,null,null,null,null,null,null,null,null,null,null,null,null,null,null,null,null,null,null,null,null,null,null,null,null,null,null,null,null,null,null,null,null,null,null,null,null,null,null,null,null,null,null,null,null,null,null,null,null,null,{"$f":"ROW()","v":636}]
[1,0,1,null,null,null,null,null,null,null,null,null,null,null,null,null,null,null,null,null,null,null,null,null,null,null,null,null,null,null,null,null,null,null,null,null,null,null,null,null,null,null,null,null,null,null,null,null,null,null,null,null,null,null,null,null,null,null,null,null,null,null,null,null,null,null,null,null,null,null,null,null,null,null,null,null,null,null,null,null,null,{"$f":"ROW()","v":637}]
[1,0,1,null,null,null,null,null,null,null,null,null,null,null,null,null,null,null,null,null,null,null,null,null,null,null,null,null,null,null,null,null,null,null,null,null,null,null,null,null,null,null,null,null,null,null,null,null,null,null,null,null,null,null,null,null,null,null,null,null,null,null,null,null,null,null,null,null,null,null,null,null,null,null,null,null,null,null,null,null,null,{"$f":"ROW()","v":638}]
[1,0,1,null,null,null,null,null,null,null,null,null,null,null,null,null,null,null,null,null,null,null,null,null,null,null,null,null,null,null,null,null,null,null,null,null,null,null,null,null,null,null,null,null,null,null,null,null,null,null,null,null,null,null,null,null,null,null,null,null,null,null,null,null,null,null,null,null,null,null,null,null,null,null,null,null,null,null,null,null,null,{"$f":"ROW()","v":639}]
[1,0,1,null,null,null,null,null,null,null,null,null,null,null,null,null,null,null,null,null,null,null,null,null,null,null,null,null,null,null,null,null,null,null,null,null,null,null,null,null,null,null,null,null,null,null,null,null,null,null,null,null,null,null,null,null,null,null,null,null,null,null,null,null,null,null,null,null,null,null,null,null,null,null,null,null,null,null,null,null,null,{"$f":"ROW()","v":640}]
[1,0,1,null,null,null,null,null,null,null,null,null,null,null,null,null,null,null,null,null,null,null,null,null,null,null,null,null,null,null,null,null,null,null,null,null,null,null,null,null,null,null,null,null,null,null,null,null,null,null,null,null,null,null,null,null,null,null,null,null,null,null,null,null,null,null,null,null,null,null,null,null,null,null,null,null,null,null,null,null,null,{"$f":"ROW()","v":641}]
[1,0,1,null,null,null,null,null,null,null,null,null,null,null,null,null,null,null,null,null,null,null,null,null,null,null,null,null,null,null,null,null,null,null,null,null,null,null,null,null,null,null,null,null,null,null,null,null,null,null,null,null,null,null,null,null,null,null,null,null,null,null,null,null,null,null,null,null,null,null,null,null,null,null,null,null,null,null,null,null,null,{"$f":"ROW()","v":642}]
[1,0,1,null,null,null,null,null,null,null,null,null,null,null,null,null,null,null,null,null,null,null,null,null,null,null,null,null,null,null,null,null,null,null,null,null,null,null,null,null,null,null,null,null,null,null,null,null,null,null,null,null,null,null,null,null,null,null,null,null,null,null,null,null,null,null,null,null,null,null,null,null,null,null,null,null,null,null,null,null,null,{"$f":"ROW()","v":643}]
[1,0,1,null,null,null,null,null,null,null,null,null,null,null,null,null,null,null,null,null,null,null,null,null,null,null,null,null,null,null,null,null,null,null,null,null,null,null,null,null,null,null,null,null,null,null,null,null,null,null,null,null,null,null,null,null,null,null,null,null,null,null,null,null,null,null,null,null,null,null,null,null,null,null,null,null,null,null,null,null,null,{"$f":"ROW()","v":644}]
[1,0,1,null,null,null,null,null,null,null,null,null,null,null,null,null,null,null,null,null,null,null,null,null,null,null,null,null,null,null,null,null,null,null,null,null,null,null,null,null,null,null,null,null,null,null,null,null,null,null,null,null,null,null,null,null,null,null,null,null,null,null,null,null,null,null,null,null,null,null,null,null,null,null,null,null,null,null,null,null,null,{"$f":"ROW()","v":645}]
[1,0,1,null,null,null,null,null,null,null,null,null,null,null,null,null,null,null,null,null,null,null,null,null,null,null,null,null,null,null,null,null,null,null,null,null,null,null,null,null,null,null,null,null,null,null,null,null,null,null,null,null,null,null,null,null,null,null,null,null,null,null,null,null,null,null,null,null,null,null,null,null,null,null,null,null,null,null,null,null,null,{"$f":"ROW()","v":646}]
[1,0,1,null,null,null,null,null,null,null,null,null,null,null,null,null,null,null,null,null,null,null,null,null,null,null,null,null,null,null,null,null,null,null,null,null,null,null,null,null,null,null,null,null,null,null,null,null,null,null,null,null,null,null,null,null,null,null,null,null,null,null,null,null,null,null,null,null,null,null,null,null,null,null,null,null,null,null,null,null,null,{"$f":"ROW()","v":647}]
[1,0,1,null,null,null,null,null,null,null,null,null,null,null,null,null,null,null,null,null,null,null,null,null,null,null,null,null,null,null,null,null,null,null,null,null,null,null,null,null,null,null,null,null,null,null,null,null,null,null,null,null,null,null,null,null,null,null,null,null,null,null,null,null,null,null,null,null,null,null,null,null,null,null,null,null,null,null,null,null,null,{"$f":"ROW()","v":648}]
[1,0,1,null,null,null,null,null,null,null,null,null,null,null,null,null,null,null,null,null,null,null,null,null,null,null,null,null,null,null,null,null,null,null,null,null,null,null,null,null,null,null,null,null,null,null,null,null,null,null,null,null,null,null,null,null,null,null,null,null,null,null,null,null,null,null,null,null,null,null,null,null,null,null,null,null,null,null,null,null,null,{"$f":"ROW()","v":649}]
[1,0,1,null,null,null,null,null,null,null,null,null,null,null,null,null,null,null,null,null,null,null,null,null,null,null,null,null,null,null,null,null,null,null,null,null,null,null,null,null,null,null,null,null,null,null,null,null,null,null,null,null,null,null,null,null,null,null,null,null,null,null,null,null,null,null,null,null,null,null,null,null,null,null,null,null,null,null,null,null,null,{"$f":"ROW()","v":650}]
[1,0,1,null,null,null,null,null,null,null,null,null,null,null,null,null,null,null,null,null,null,null,null,null,null,null,null,null,null,null,null,null,null,null,null,null,null,null,null,null,null,null,null,null,null,null,null,null,null,null,null,null,null,null,null,null,null,null,null,null,null,null,null,null,null,null,null,null,null,null,null,null,null,null,null,null,null,null,null,null,null,{"$f":"ROW()","v":651}]
[null,null,null,null,null,null,null,null,null,null,null,null,null,null,null,null,null,null,null,null,null,null,null,null,null,null,null,null,null,null,null,null,null,null,null,null,null,null,null,null,null,null,null,null,null,null,null,null,null,null,null,null,null,null,null,null,null,null,null,null,null,null,null,null,null,null,null,null,null,null,null,null,null,null,null,null,null,null,null,null,null,{"$f":"ROW()","v":652}]
[null,null,null,null,null,null,null,null,null,null,null,null,null,null,null,null,null,null,null,null,null,null,null,null,null,null,null,null,null,null,null,null,null,null,null,null,null,null,null,null,null,null,null,null,null,null,null,null,null,null,null,null,null,null,null,null,null,null,null,null,null,null,null,null,null,null,null,null,null,null,null,null,null,null,null,null,null,null,null,null,null,{"$f":"ROW()","v":653}]
[]
[]
[]
[]
[]
[]
[]
[]
[]
[]
[]
[]
[]
[]
[]
[]
[]
[]
[]
[]
[]
[]
[]
[]
[]
[]
[]
[]
[]
[]
[]
[]
[]
[]
[]
[]
[]
[]
[]
[]
[]
[]
[]
[]
[]
[]
[]
[]
[]
[]
[]
[]
[]
[]
[]
[]
[]
[]
[]
[]
[]
[]
[]
[]
[]
[]
[]
[]
[]
[]
[]
[]
[]
[]
[]
[]
[]
[]
[]
[]
[]
[]
[]
[]
[]
[]
[]
[]
[]
[]
[]
[]
[]
[]
[]
[]
[]
[]
[]
[]
[]
[]
[]
[]
[]
[]
[]
[]
[]
[]
[]
[]
[]
[]
[]
[]
[]
[]
[]
[]
[]
[]
[]
[]
[]
[]
[]
[]
[]
[]
[]
[]
[]
[]
[]
[]
[]
[]
[]
[]
[]
[]
[]
[]
[]
[]
[]
[]
[]
[]
[]
[]
[]
[]
[]
[]
[]
[]
[]
[]
[]
[]
[]
[]
[]
[]
[]
[]
[]
[]
[]
[]
[]
[]
[]
[]
[]
[]
[]
[]
[]
[]
[]
[]
[]
[]
[]
[]
[]
[]
[]
[]
[]
[]
[]
[]
[]
[]
[]
[]
[]
[]
[]
[]
[]
[]
[]
[]
[]
[]
[]
[]
[]
[]
[]
[]
[]
[]
[]
[]
[]
[]
[]
[]
[]
[]
[]
[]
[]
[]
[]
[]
[]
[]
[]
[]
[]
[]
[]
[]
[]
[]
[]
[]
[]
[]
[]
[]
[]
[]
[]
[]
[]
[]
[]
[]
[]
[]
[]
[]
[]
[]
[]
[]
[]
[]
[]
[]
[]
[]
[]
[]
[]
[]
[]
[]
[]
[]
[]
[]
[]
[]
[]
[]
[]
[]
[]
[]
[]
[]
[]
[]
[]
[]
[]
[]
[]
[]
[]
[]
[]
[]
[]
[]
[]
[]
[]
[]
[]
[]
[]
[]
[]
[]
[]
[]
[]
[]
[]
[]
[]
[]
[]
[]
[]
[]
[]
[]
[]
[]
[]
[]
[]
[]
[]
[]
[]
[]
[]
[]
[]
[]
[]
[]
[]
[]
[null,null,null,null,null,null,null,null,null,null,null,null,null,null,null,null,null,null,null,null,null,null,null,null,null,null,null,null,null,null,null,null,null,null,null,null,null,null,null,null,null,null,null,null,null,null,null,null,null,null,null,null,null,null,null,null,null,null,null,null,null,null,null,null,null,null,null,null,null,null,null,null,null,null,null,null,null,null,null,null,null,null,null,null,null,null,null,null,null,null,null,null,null,null,null,null,null,null,null,null,null,null,null,1]

{"sheet":"Tisky","index":11,"n_rows":82,"n_cols":15,"rows_kept":82,"cut":false,"hidden":false,"merged":[]}
[]
[]
[]
[]
[]
[]
[]
[]
[]
[]
[]
[null,null,null,null,false,true,true,false,null,null,null,null,null,null,"Finanční plán"]
[]
[]
[]
[null,null,null,null,null,null,true,false,{"$f":"IF(OR(G16=TRUE,H16=TRUE),1,0)","v":1}]
[]
[]
[]
[null,null,null,null,null,null,false,false]
[]
[0,"číslo partnera","select","hotovo",null,null,true,false]
["Allianz penzijní fond",1,false,"a",null,null,null,0]
["Allianz pojišťovna",2,false,"a"]
["Amcico pojišťovna",3,false,"a"]
["Alico Funds",4,false,"a"]
["Aviva",5,false]
["AXA pojišťovna",6,false]
["Conseq IM",7,false,"a"]
["C-QUADRAT",8,false,"a"]
["Česká podnikatelská pojišťovna",9,false,"a"]
["Česká pojišťovna",10,false,"a"]
["Česká pojišťovna - penzijní fond",11,false,"a"]
["Česká pojišťovna ZDRAVÍ",12,false,"a"]
["Česká spořitelna",13,false,"a"]
["Českomoravská stavební spořitelna",14,false,"a"]
["ČP INVEST",15,false,"a"]
["ČSOB Pojišťovna",16,false,"a"]
["Deutscher Ring",17,false,"a"]
["Generali penzijní fond",18,false,"a"]
["Generali pojišťovna",19,false,"a"]
["HSBC Bank",20,false]
["Hypoteční banka",21,false,"a"]
["ING Bank",22,false,"a"]
["ING Penzijní fond",23,false,"a"]
["ING Životní pojišťovna",24,false,"a"]
["Komerční banka",25,false,"a"]
["Kooperativa pojišťovna",26,false,"a"]
["mBank",27,false,"a"]
["Pioneer Investments",28,false,"a"]
["Raiffeisen stavební spořitelna",29,false,"a"]
["Raiffeisenbank",30,false,"a"]
["SFM Group",31,false,"a"]
["UniCredit Bank",32,false,"a"]
["UNIQA ",33,false,"a"]
["Volksbank CZ",34,false,"a"]
["Wüstenrot hypoteční banka",35,false,"a"]
["Wüstenrot pojišťovna",36,false,"a"]
["Wüstenrot stavební spořitelna",37,false,"a"]
["Wüstenrot životní pojišťovna",38,false,"a"]
["Analytické centrum OVB",39,false]
["IAD Investments",40,false,"a"]
["GE Money Bank",41,false]
["LBBW Bank",42,false]
["Stavební spořitelna České spořitelny",43,false]
["Modrý pyramida stavební spořitelna",44,false]
["AXA penzijní fond",45,false]
["AEGON penzijní fond",46,false]
["Penzijní fond České spořitelny",47,false]
["Penzijní fond Komerční banky",48,false,"a"]
["Oberbank AG ",49,false]
["D.A.S.",50,false,"a"]
["Atlantik",51,false]
[null,null,false]
[null,null,false]
[null,null,false]
[null,null,false]
[null,null,false]
[null,null,false]
[null,null,false]
[null,null,false]
[null,null,false]

{"sheet":"PAL","index":12,"n_rows":1146,"n_cols":3,"rows_kept":1146,"cut":false,"hidden":false,"merged":[]}
[]
[]
[null,"Profil partnera"]
[]
["partner"]
[1,"Allianz penzijní fond, a.s."]
[1]
[1]
[1,"Vlastnická struktura"]
[1,"l","Allianz penzijní fond, a. s., byl založen 31.8.1997 valnými hromadami jeho právních předchůdců. Vznikl splynutím Allianz-HYPO penzijního fondu, a. s. a Živnobanka - penzijního fondu, a. s. s názvem Allianz - Živnobanka penzijní fond, a. s. Název penzijního fondu byl změněn na Allianz penzijní fond v návaznosti na odkup 45% akcií fondu Allianz pojišťovnou od Živnostenské banky v závěru roku 2000 , nové jméno bylo zapsáno 26. února 2001. "]
[1,"l","Stoprocentním akcionářem Allianz penzijního fondu je Allianz pojišťovna, a.s."]
[1,"l","Základní jmění činí 60 milionů Kč."]
[1]
[1]
[1,"Postavení na trhu, historie její působnost"]
[1,"l","Počet klientů k 31.12.2010 byl 164 176 osob"]
[1,"l","Prostředky účastníků ve správě k 31.12.2010 (vč. státních příspěvků a výnosů) ve výši 9,539 mld. K"]
[1,"l","Disponujeme kvalifikovanou sítí poradců po celé ČR. Kontakt s penzijním fondem je možný na všech pobočkách Allianz, což umožní kontakt klienta s fondem vždy v blízkosti jeho bydliště, příp. sídla "]
[1,"l","Kapitálová síla akcionáře jedné z největších světových pojišťoven je zárukou serióznosti a dlouhodobé existence penzijního fondu a tím sociálních a finančních jistot jeho účastníků"]
[1]
[1]
[1,"Členství v asociacích a sdruženích"]
[1,"l","Člen Asociace penzijních fondů ČR"]
[1]
[1]
[1,"Nabízené služby"]
[1,"l","Nejširší nabídka penzí "]
[1,"l","Pojištění závažných úrazů hrazené Allianz penzijním fondem "]
[1,"l","Pro věrné klienty žádné poplatky "]
[1,"l","Bezplatná služba „Daňový automat“"]
[1,"l","První výpis zasíláme již po čtyřech měsících od uzavření smlouvy"]
[1]
[1]
[1,"Ocenění"]
[1,"l","Anketa Zlatý měšec - nejlepší finanční instituce mezi Penzijními fondy"]
[1,"l","Soutěž Banka roku"]
[1,null,"Penzijní fond roku 2010"]
[1,null,"Penzijní fond roku 2009"]
[1,"l","Soutěž Zlatá koruna 2010 - 1.místo v kategorii penzijní připojištění"]
[1,"l","Soutěž Fincentrum Banka roku 2009 - 1.místo v kategorii Penzijní fond roku"]
[1]
[1]
[1,"Bližší informace naleznete na www.allianz.cz"]
[1,"Datum poslední aktualizace: 20.9.2011 "]
[2,"Allianz pojišťovna, a.s."]
[2]
[2]
[2,"Vlastnická struktura"]
[2,"l","Allianz pojišťovna je stoprocentní dceřinou společností Allianz New Europe Holding GmbH a součástí předního světového pojišťovacího koncernu Allianz SE."]
[2,"l","Allianz pojišťovna je jediným akcionářem Allianz penzijního fondu, který byl založen v roce 1994. Je také jediným společníkem Allianz kontakt, s.r.o. a Allianz Generální služby, s.r.o."]
[2,"l","Základní jmění činí 600 milionů Kč."]
[2]
[2]
[2,"Postavení na trhu, historie její působnost"]
[2,"l","Na český trh vstoupila v roce 1993 a během svého působení v České republice se vypracovala mezi tři největší české pojišťovny."]
[2,"l","Allianz je zastoupena prostřednictvím svých vlastních společností, poboček, joint venture a reprezentací ve více než 70 zemích světa a svoje služby poskytuje více než 75 milionům klientů."]
[2,"l","Na území České republiky má Allianz pojišťovna 11 regionálních ředitelství, která řídí více než 1900 pojišťovacích poradců. Mimo vlastní síť realizuje Allianz pojišťovna obchodní činnost také ve spolupráci s vybranými makléři a bankami. Své služby nabízí i prostřednictvím prodejců motorových vozidel, servisů, cestovních kanceláří a dalších partnerů."]
[2]
[2]
[2,"Členství v asociacích a sdruženích"]
[2,"l","Člen České asociace pojišťoven a České kanceláře pojistitelů"]
[2]
[2]
[2,"Nabízené služby"]
[2,"l","Začínala s nabídkou životního pojištění, pojištěním majetku občanů, od roku 1995 nabízí také havarijní pojištění. V roce 1999 se stala jednou ze 12 pojišťoven, které začaly nabízet povinné ručení. Dnes svou šíří produktů uspokojí jak privátní, tak firemní zákazníky. Nabízí životní pojištění, pojištění majetku a odpovědnosti občanů, majetkové pojištění pro podnikatele, pojištění profesní odpovědnosti, pojištění průmyslových rizik, komplexní autopojištění pro občany i společnosti, cestovní pojištění a penzijní připojištění."]
[2]
[2]
[2,"Ocenění"]
[2,"l","Anketa Zlatý měšec"]
[2,null,"1. místo v kategorii Pojišťovny (2010)"]
[2,null,"1. místo v kategorii Pojišťovny (2009)"]
[2,"l","Soutěž Cena Hospodářských novin"]
[2,null,"3. místo v kategorii Nejlepší pojišťovna (2010)"]
[2,null,"Ocenění Pojišťovací inovátor roku za produkt PRO život (2010)"]
[2]
[2,"Bližší informace naleznete na www.allianz.cz"]
[2,"Datum poslední aktualizace: 20.9.2011 "]
[3,"Amcico pojišťovna a.s."]
[3]
[3]
[3,"Vlastnická struktura"]
[3,"l","Amcico pojišťovna a.s. (MetLife Amcico) je stoprocentní dceřinou společností Alico a je součástí skupiny MetLife, Inc."]
[3,"l","MetLife, Inc. je přední poskytovatel životního a důchodového pojištění a zaměstnaneckých benefitů. Prostřednictvím svých poboček a dceřiných společností si MetLife udržuje přední pozice na trhu ve Spojených státech, Japonsku, Latinské Americe, Tichomoří, Evropě a na Středním Východě. Více informací najdete na stránce www.metlife.com."]
[3,"l","Základní jmění činí 106 milionů Kč."]
[3]
[3]
[3,"Postavení na trhu, historie její působnost"]
[3,"l","Na český trh vstoupila v roce 1992 jako první pojišťovna se zahraniční kapitálovou účastí (tehdy pod názvem PRVNÍ AMERICKO-ČESKÁ POJIŠŤOVNA, a.s.).  V roce 2010 byla zakoupena společností MetLife, Inc. "]
[3,"l","MetLife je přední globální poskytovatel životního pojištění a plánů zaměstnaneckých pojištění. 90 milionů zákazníků po celém světě spoléhají na naše záruky. Naši zákazníci věří, že společnost MetLife splní sliby, ke kterým se zavazuje prostřednictvím pojistné ochrany, doplňkových důchodových plánů a plánů zaměstnaneckých pojištění. Naše finanční síla a integrita nám umožňuje plnit sliby déle než 140 let."]
[3,"l","Na území České republiky má MetLife Amcico pojišťovna 20 vlastních agenturních kanceláří, které řídí více než 400 pojišťovacích zprostředkovatelů. Mimo vlastní síť realizuje MetLife Amcico pojišťovna obchodní činnost také ve spolupráci s vybranými makléři a bankami. "]
[3]
[3]
[3,"Členství v asociacích a sdruženích"]
[3,"l","Člen České asociace pojišťoven"]
[3]
[3]
[3,"Nabízené služby"]
[3,"l","MetLife Amcico nabízí širokou škálu kvalitních produktů životního, úrazového, investičního životního a skupinového pojištění, které se osvědčily v mnoha zemích světa a které jsou schopny uspokojit požadavky klientů všech věkových kategorií. MetLife Amcico je zdravá a stabilní pojišťovna. Pojistné smlouvy uzavřené pojišťovnou MetLife Amcico jsou jejími přímými závazky v České republice. "]
[3]
[3]
[3,"Ocenění"]
[3,"l","Nejlepší pojišťovna 2011 - Cena Hospodářských novin"]
[3,"l","3. místo v kategorii Pojišťovací inovátor "]
[3]
[3,"Bližší informace naleznete na www.metlife.cz"]
[3,"Datum poslední aktualizace: 20.9.2011 "]
[4,"Alico Funds Central Europe správ, spol., a.s."]
[4]
[4]
[4,"Vlastnická struktura"]
[4,"l","Společnost byla založena pojištovnou Amslico poisťovňa - Alico, a.s, která je zároveň jejim 100% vlastníkem a v Obchodním registru byla zapsaná dne 11.1.2001. Svoji činnost vykonáva na základě povolení na vznik a činnost správcovské společnosti od Úradu pre finančný trh."]
[4]
[4]
[4,"Postavení na trhu, historie její působnost"]
[4,"l","Na český trh vstoupila v roce 2001."]
[4,"l","Je zastoupena prostřednictvím poradců pojišťovny Metlife Amcico a spolupracuje  také i s vybranými makléři."]
[4]
[4]
[4,"Členství v asociacích a sdruženích"]
[4,"l","AKAT ČR, SASS (Slovenská asociace správcovských společností)"]
[4]
[4]
[4,"Nabízené služby"]
[4,"l","Prodej vlastních otevřených podílových fondů, aktivně řízených portfolií, zprostředkování prodeje zahraničních podílových fondů společnosti PineBridge Investments"]
[4]
[4]
[4,"Bližší informace naleznete na www.aaf.sk"]
[4,"Datum poslední aktualizace: 20.9.2011 "]
[7,"Conseq Investment Management, a.s."]
[7]
[7,"Vlastnická struktura"]
[7,"l","Conseq Investment Management je jediným akcionářem Conseq Investiční společnosti, a.s."]
[7,"l","Základní jmění Conseq Investment Management činí 20 milionů Kč."]
[7]
[7,"Historie, postavení na trhu"]
[7,"l","Kořeny společnosti sahají do roku 1994, kdy byla založena společnost Conseq Finance za účelem obchodování s cennými papíry. V roce 1996 Conseq Finance vstoupila na Burzu cenných papírů Praha, získala od ČNB devizovou licenci a stala se členem prestižní skupiny přímých účastníků aukcí státních dluhopisů. Pro rozvoj aktivit investičního managementu - obhospodařování portfolií - byla v listopadu 2000 založena Conseq Investment Management, a. s."]
[7,"l","Objem obhospodařovaného majetku: 16 miliard Kč"]
[7,"l","Počet klientů: 75.000"]
[7,"l","Conseq Investment Management je soukromá nezávislá společnost nepatřící do skupiny žádné banky ani pojišťovny, což přináší našim klientům a obchodním zástupcům některé zřejmé výhody. Při výběru investičních společností, jejichž fondy zařazujeme do našeho produktového portfolia, nejsme omezeni na společnosti v rámci jakéhokoli kapitálového propojení a můžeme se zaměřit pouze na kvalitu produktů a služeb, které nabízejí."]
[7]
[7,"Členství v asociacích a sdruženích"]
[7,"l","Asociace pro kapitálový trh (AKAT)"]
[7,"l","Spolupracujeme také s Asociací finančních zprostředkovatelů a finančních poradců ČR (AFIZ) a Unií společností finančního zprostředkování a poradenství (USF)."]
[7]
[7,"Nabízené služby"]
[7,"l","Obstarání nákupu podílových fondů - produkt Classic Invest. Základním produktem pro privátní investory v naší nabídce je obstarání nákupu a prodeje podílových listů. Kromě podílových listů námi obhospodařovaných fondů Conseq Invest PLC a Conseq IS nabízíme produkty našich partnerů, jimiž v současnosti jsou:  BNP Paribas Asset Management, C-Quadrat, Citibank, Credit Suisse, ČP Invest, Franklin Templeton Investments, HSBC, ING nebo Societe Generale."]
[7,"l","Služba obhospodařování portfolia je určena těm klientům, kteří nechtějí či nemají ambice sami si vybírat jednotlivé podílové fondy a řídit své portfolio."]
[7]
[7,"Ocenění"]
[7,"l","Anketa Zlatá koruna - 1. místo v kategorii Podílové Fondy (2011)"]
[7,"l","Anketa Investice roku 2010 - 1. místo v kategorii Konzervativní podílový fond (2011)"]
[7,"l","Anketa Czech TOP100 - 5. Místo pro Conseq Finance v kategorii 100 nejobdivovanějších - finance (2001)"]
[7]
[7,"Bližší informace naleznete na www.conseq.cz nebo na www.mojeinvestice.cz"]
[7,"Datum poslední aktualizace: 20.9.2011 "]
[8,"C-QUADRAT Kapitalanlage AG"]
[8]
[8]
[8,"Vlastnická struktura"]
[8,"l","C-QUADRAT, the fund company, je celoevropský, nezávislý kvantitativní správce aktiv.  \nSpolečnost byla založena v roce 1991, od roku 2003 disponuje vlastní kapitálovou investiční společností s bankovní licencí."]
[8,"l","Investiční společnost C-QUADRAT Kapitalanlage AG je 100% dceřinou společností \nC- QUADRAT Investment AG"]
[8,"l","Zakladatelé společnosti Mag.Thomas Rieß a Alexander Schütz jsou společně i nadále největšími akcionáři C-QUADRAT Investment AG"]
[8,"l","Výnos přinášející objem aktiv k 30.6.2011 dosáhl  4,9 miliardy euro (přibl. 119 mld.CZK)"]
[8]
[8,"Postavení na trhu, historie její působnost"]
[8,"l","1991 založení společnosti  Mag.Thomasem Rießem a Alexandrem Schützem"]
[8,"l","1996 C-QUADRAT zakládá první fond fondů v Rakousku "]
[8,"l","2003 C-QUADRAT získává povolení a zakládá vlastní kapitálovou investiční společnost, asset management se specializuje na kvantitativní správu"]
[8,"l","2006 C-QUADRAT Investment AG vstupuje na burzu, společnost kótuje na Frankfurtské burze cenných papírů v segmentu Prime Standard a od roku 2008 na Vídeňské burze"]
[8,"l","2009 C-QUADRAT vyhodnocen odborným časopisem „Geld-Magazin“ jako nejúspěšnější \nsprávce roku v Rakousku v kategorii fondy fondů "]
[8,"l","2010 C-QUADRAT označen německým odborným ekonomickým časopisem Capital za „skokana roku“ (nejúspěšnější společnost)"]
[8,"l","2011 C-QUADRAT&ARTS získávají od renomovaného německého ekonomického časopisu „€uro“ ocenění „Fondsboutique des Jahres 2011“ (investiční fondová společnost roku 2011) "]
[8]
[8,"Členství v asociacích a sdruženích"]
[8,"l","Člen „Einlagensicherung der Banken und Bankiers Gesellschaft m.b.H.“ \n(záruční fond bank na ochranu vkladů)"]
[8,"l","Člen „Sdružení rakouských investičních společností - VÖIG“"]
[8,"l","Člen „Wirtschaftskammer Wien\" (Vídeňská hospodářská komora)"]
[8]
[8,"Nabízené služby"]
[8,"l","C-QUADRAT získal jako asset manager jméno v celé Evropě díky svým expertním analýzám a kvalitě řízení investičních fondů "]
[8,"l","v České republice jsou vybrané fondy C-QUADRAT připuštěny k veřejné nabídce a dostupné rovněž prostřednictvím investičního životního pojištění některých pojišťoven"]
[8]
[8,"Ocenění"]
[8,"l","LIPPER Fund Awards 2011 Německo"]
[8,"l","LIPPER Fund Awards 2011 Rakousko"]
[8,"l","Rakouské ocenění Fondspreis 2011"]
[8,"l","Německé ocenění Fondspreis 2011"]
[8,"l","Fondsboutique des Jahres 2011 (investiční fondová společnost roku 2011)"]
[8]
[8,"Bližší informace naleznete na www.c-quadrat.com"]
[8,"Datum poslední aktualizace: 20.9.2011 "]
[9,"Česká podnikatelská pojišťovna, a.s. "]
[9,"Vienna Insurance Group"]
[9]
[9,"Vlastnická struktura"]
[9,"l","Česká podnikatelská pojišťovna je 100% dceřinou společností pojišťovny Kooperativa a součástí jedné z největších evropských pojišťovacích skupin Vienna Insurance Group."]
[9,"l","Seznam společností koncernu je k dispozici na stránkách www.vig.com"]
[9,"l","Základní kapitál společnosti činí 1 miliardu Kč."]
[9]
[9,"Postavení na trhu, historie její působnost"]
[9,"l","Česká podnikatelská pojišťovna byla založena v roce 1995. Významného tržního postavení dosáhla především v oblasti povinného ručení. Je třetím největším poskytovatelem tohoto typu pojištění v ČR."]
[9,"l","Od roku 2005 je ČPP součástí mezinárodního pojišťovacího koncernu Vienna Insurance Group se sídlem ve Vídni. Koncern, který působí ve 23 zemích střední a východní Evropy, získal od ratingové společnosti Standard&Poor´s hodnocení „A+“ se stabilním výhledem."]
[9,"l","ČPP působí prostřednictvím 10 oblastních ředitelství, 80 poboček a 300 kanceláří na celém území České republiky. Na obchodní činnosti pojišťovny se významnou měrou podílejí také renomovaní externí partneři. ČPP dále spolupracuje také s autosalony, servisy a cestovními kancelářemi."]
[9]
[9,"Členství v asociacích a sdruženích"]
[9,"l","Společnost je řádným členem České asociace pojišťoven a České kanceláře pojistitelů a dalších sdružení."]
[9]
[9,"Nabízené služby"]
[9,"l","ČPP je univerzální pojišťovnou, která dokáže zabezpečit potřeby svých klientů na vysoké úrovni. Na trhu pokrývá plné spektrum produktů životního, neživotního a podnikatelského pojištění. O kvalitě nabízených produktů vypovídají pravidelné úspěchy dosažené v prestižních soutěžích a anketách."]
[9,"l","Jako jediná pojišťovna na tuzemském trhu umožňuje klientům komplexní samoobsluhu správy smluv přes internetové pojišťovnictví MojeČPP."]
[9,"l","Česká podnikatelská pojišťovna poskytuje v rámci svých produktů rozsáhlé asistenční služby, a to nejen v segmentu pojištění vozidel, majetkového nebo cestovního pojištění, ale nabízí i zdravotní asistenci v rámci vybraných produktů životního pojištění."]
[9]
[9,"Ocenění"]
[9,"l","Zlatý měšec 2011"]
[9,null,"3.místo nejlepší finanční instituce Pojišťovny"]
[9,"l","Pojišťovna roku 2010 "]
[9,null,"2. místo autopojištění, 3. místo kategorie pojištění majetku občanů, 4. místo pojištění průmyslu a podnikatelů, 4.místo kategorie životní pojištění "]
[9]
[9]
[9,"Bližší informace naleznete na www.cpp.cz"]
[9,"Datum poslední aktualizace: 20.9.2011 "]
[10,"Česká pojišťovna a.s."]
[10]
[10]
[10,"Vlastnická struktura"]
[10,"l","Česká pojišťovna je součástí Generali PPF Holdingu B.V., který působí ve 14 zemích střední a východní Evropy. Generali PPF Holding spravuje prostřednictvím svých dceřiných společností aktiva ve výši 15 miliard euro a poskytuje v regionu služby více než 13 milionům klientů. "]
[10,"l","Do finanční skupiny České pojišťovny patří Penzijní fond ČP - největší poskytovatel penzijního připojištění v ČR, jedna z nejvýznamnějších investičních společností u nás ČP INVEST a ČP ZDRAVÍ, specializovaný poskytovatel soukromého zdravotního pojištění."]
[10,"l","Základní kapitál ČP činí 4 miliardy Kč."]
[10]
[10]
[10,"Postavení na trhu, historie její působnost"]
[10,"l","Česká pojišťovna je univerzální pojišťovnou s dlouholetou a bohatou tradicí. Od znovuzavedení konkurenčního prostředí v roce 1991 je největší pojišťovnou v ČR s tržním podílem 25,4 % ke konci roku 2010. "]
[10,"l","Česká pojišťovna spravuje téměř 9 milionů pojistných smluv. Přibližně 3900 zaměstnanců a 5600 obchodních zástupců poskytuje klientům každý den kvalitní servis na více než 4500 obchodních místech po celé ČR. Celkové předepsané pojistné podle metodiky ČAP za rok 2010 činilo 38,4 miliardy korun. "]
[10]
[10]
[10,"Členství v asociacích a sdruženích"]
[10,"l","Člen České asociace pojišťoven, České kanceláře pojistitelů, Asociace penzijních fondů (Penzijní fond ČP) a Českého jaderného pojišťovacího poolu."]
[10]
[10]
[10,"Nabízené služby"]
[10,"l","ČP je nejuniverzálnější pojišťovnou na českém trhu a snad ani neexistuje věc, kterou by nedokázala pojistit. Poskytuje jak individuální životní a neživotní pojištění (např. pojištění motoových vozidel, pojištění majetku a odpovědnosti, cestovní pojištění, pojištění domácích mazlíčků a další), tak i pojištění pro malé, střední a velké společnosti v oblasti průmyslových a podnikatelských rizik. Hypotéky zprostředkovává Česká pojišťovna přes Raiffeisenbank a Komerční banku. Hypoteční produkty partnerských bank doplňují klientské výhody a benefity související s pojištěním od České pojišťovny."]
[10]
[10]
[10,"Ocenění"]
[10,"l","Anketa Zlatá koruna"]
[10,null,"3. místo pro produkt Jistota v kategorii Pojištění pro podnikatele  (2011)"]
[10,"l","Soutěž Cena Hospodářských novin"]
[10,null,"1. místo v kategorii Nejlepší pojišťovna (2009)"]
[10,"l","Soutěž Banka roku"]
[10,null,"1. místo v kategorii Pojišťovna roku (2004, 2005, 2006 a 2007)"]
[10]
[10,"Bližší informace naleznete na www.ceskapojistovna.cz"]
[10,"Datum poslední aktualizace: 20.9.2011 "]
[11,"Penzijní fond České pojišťovny, a.s."]
[11]
[11]
[11,"Vlastnická struktura"]
[11,"l","Penzijní fond České pojišťovny je součástí Generali PPF Holdingu B.V., který působí ve 14 zemích střední a východní Evropy. "]
[11,"l","Základní jmění činí 214 milionů Kč."]
[11]
[11]
[11,"Postavení na trhu, historie její působnost"]
[11,"l","Penzijní fond České pojišťovny působí na trhu penzijního připojištění od roku 1994. Jeho zakladatelem a jediným akcionářem je Česká pojišťovna, která je spolu s ním součástí Generali PPF Holdingu B.V."]
[11,"l","Penzijní fond České pojišťovny se trvale profiluje jako nejsilnější fond v České republice. Aktuálně pečuje o 1,2 milionu klientů, jejichž úspory činí více než 52 miliard korun. Zároveň spolupracuje s 5 000 firmami, kterým se stará o penzijní připojištění zaměstnanců."]
[11]
[11]
[11,"Členství v asociacích a sdruženích"]
[11,"l","Člen Asociace penzijních fondů ČR"]
[11]
[11]
[11,"Nabízené služby"]
[11,"l","Základní komponentou nabídky produktů a služeb je penzijní připojištění se státním příspěvkem spolu se všemi zákonem definovanými druhy penzí - starobní, výsluhovou, invalidní a pozůstalostní."]
[11]
[11]
[11,"Ocenění"]
[11,"l","Soutěž Banka roku"]
[11,null,"1. místo v kategorii Penzijní fondy (2005, 2006, 2008)"]
[11,null,"2. místo v kategorii Penzijní fondy (2007, 2009, 2010)"]
[11,"l","Anketa CZECH TOP 100"]
[11,null,"1. místo v kategorii Penzijní fondy (každoročně od r. 2004)"]
[11,"l","Anketa Zlatý měšec"]
[11,null,"1. místo v kategorii Penzijní fondy (2004, 2005, 2006)"]
[11,null,"2. místo v kategorii Penzijní fondy (2009)"]
[11,null,"3. místo v kategorii Penzijní fondy (2011)"]
[11,"l","Soutěž Zlatá koruna"]
[11,null,"3. místo v kategorii Penzijní fondy (2006)"]
[11]
[11]
[11,"Bližší informace naleznete na www.pfcp.cz"]
[11,"Datum poslední aktualizace: 20.9.2011 "]
[12,"Česká pojišťovna ZDRAVÍ a.s."]
[12]
[12]
[12,"Vlastnická struktura"]
[12,"l","Česká pojišťovnaZDRAVÍ je stoprocentní dceřinou společností České pojišťovny a.s.  a součástí Generali PPF Holdingu."]
[12,"l","Základní jmění činí 100 milionů Kč."]
[12]
[12]
[12,"Postavení na trhu, historie její působnost"]
[12,"l","Česká pojišťovna ZDRAVÍ a.s. byla založena zakladatelskou smlouvou dne 22.12.1992 a svoji činnost zahájila dne 1.7.1993 jako dceřiná společnost České pojišťovny a.s. Praha a Vereinte Krankenversicherung AG Mnichov. V listopadu 1997  odkoupila Česká pojišťovna a.s. 50% podíl společnosti Vereinte Krankenversicherung AG Mnichov a od 27.11. 1997 se stala stoprocentním akcionářem České pojišťovny ZDRAVÍ a.s.  "]
[12,"l","Česká pojišťovna ZDRAVÍ a.s. jako specialista v oblasti soukromého zdravotního a nemocenského pojištění působí na pojistném trhu od roku 1993. Za uvedené období byl vybudován stabilní kmen zákazníků se zaměřením na jednotlivé cílové skupiny, na trh se podařilo uvést spektrum kvalitních pojistných produktů. Česká pojišťovna ZDRAVÍ a.s. si díky systematické a koncepční práci udržuje své dominantní postavení na pojistném trhu soukromého zdravotního a nemocenského pojištění a i pro další období předpokládá ekonomickou stabilitu s pevnou pozicí specialisty v uvedené oblasti pojištění. "]
[12,"l","Ve své nabídce se zaměřujeme na pojištění určená jak občanům, tak korporátní klientele. Z našich produktů si vyberou nejen zaměstnanci, ale také podnikatelé, rodiče s dětmi, lidé s úvěrem i ti, kteří prostě „jen“ platí běžné výdaje jako elektřinu či nájem. Své služby poskytujeme v České i Slovenské republice. "]
[12]
[12]
[12,"Členství v asociacích a sdruženích"]
[12,"l","Člen České asociace pojišťoven"]
[12]
[12]
[12,"Nabízené služby"]
[12,"l","Produkty ČPZ jsou zaměřeny na riziko nedostatku finančních prostředků, na zabezpečení běžného chodu  domácnosti, riziko nesplácení úvěrů či riziko výrazné a dlouhodobé ztráty životní úrovně. Význam našeho pojištění stoupá i s ohledem na omezování státního systému nemocenských dávek, snižování nemocenské a zavádění spoluúčasti pacientů při léčení. Naše produkty chrání  příjmy a schopnosti splácet závazky v době pracovní neschopnosti, hospitalizace, invalidity či nezaměstnanosti. "]
[12]
[12]
[12,"Ocenění"]
[12,"l","Česká pojišťovna ZDRAVÍ a.s. se umístila na třetím místě v anketě, kterou vyhlašuje Asociace českých pojišťovacích makléřů v kategorii „Pojišťovna roku 2007 - Specializovaný pojistitel“. Přední pozice zaujala i v dalších kategoriích soutěže. "]
[12]
[12]
[12,"Bližší informace naleznete na www.zdravi.cz a www.ladyplus.cz"]
[12,"Datum poslední aktualizace: 20.9.2011 "]
[13,"Česká spořitelna, a.s."]
[13]
[13,"Vlastnická struktura"]
[13,"l","Od roku 2000 je Česká spořitelna členem Erste Group, jednoho z předních poskytovatelů finančních služeb ve střední a východní Evropě se 17, 5 miliony klientů v osmi zemích"]
[13,"l","Podíl na hlasovacích právech: 99,52 % Erste Group, 0,48 % jiní;\nZákladní kapitálová struktura: 97,99 % Erste Group, 1,57 % samosprávy, 0,44 % jiní"]
[13]
[13,"Postavení na trhu, historie její působnost"]
[13,"l","Kořeny České spořitelny sahají až do roku 1825, kdy zahájila činnost Spořitelna česká, nejstarší právní předchůdce České spořitelny"]
[13,"l","Na tradici českého a později československého spořitelnictví navázala v roce 1992 Česká spořitelna jako akciová společnost."]
[13,"l","Finanční skupina České spořitelny je počtem více než 5,2 milionu klientů největší bankou na trhu. Česká spořitelna již vydala více než 3,2 mil. platebních karet, disponuje sítí 653 poboček a provozuje 1392 bankomatů a platbomatů"]
[13]
[13,"Členství v asociacích a sdruženích :"]
[13,"l","Česká bankovní asociace (ČBA)"]
[13,"l","Svaz bank a pojišťoven"]
[13,"l","Czech Institue of Board of Directors (CLoD)"]
[13,"l","Český institut interncíh auditorů"]
[13,"l","Britská obchodní komora"]
[13,"l","Americká obchodní komora"]
[13,"l","Francouzská obchodní komora"]
[13]
[13,"Nabízené služby"]
[13,"l","Česká spořitelna je moderní banka orientovaná na drobné klienty, malé a střední firmy a na města a obce. Nezastupitelnou roli hraje také ve financování velkých korporací a v poskytování služeb v oblasti finančních trhů. Finanční skupina České spořitelny je počtem více než 5,2 milionu klientů největší bankou na trhu. Česká spořitelna již vydala více než 3,2 mil. platebních karet, disponuje sítí 653 poboček a provozuje 1392 bankomatů a platbomatů. Na českém kapitálovém trhu patří Česká spořitelna mezi významné obchodníky s cennými papíry"]
[13,"l","Dceřinné společnosti České spořitelny: brokerjet, Penzijní fond ČS, Stavební spořitelna ČS, REICO investiční společnost a další"]
[13]
[13,"Ocenění"]
[13,"l","Banka roku 2010"]
[13,"l","Nejdůvěryhodnější banka roku 2010"]
[13,"l","Banka bez bariér 2010"]
[13,"l","Euromoney Private Banking 2011 "]
[13,"l","Corporate bank of the year for Central Europe (ACQ Global Awards 2011)"]
[13,"l","Banka roku 2010 v ČR (The Banker)"]
[13,"l","Společnost přátelská rodině"]
[13]
[13,"Bližší informace naleznete na www.csas.cz"]
[13,"Datum poslední aktualizace: 20.9.2011"]
[14,"Českomoravská stavební spořitelna, a. s."]
[14]
[14]
[14,"Vlastnická struktura"]
[14,"l","Akcionáři Českomoravské stavební spořitelny jsou: Československá obchodní banka, a.s. 55% akcí a Bausparkasse Schwäbisch Hall 45%"]
[14,"l","Základní jmění: 1,5 miliardy Kč"]
[14]
[14]
[14,"Postavení na trhu, historie její působnost"]
[14,"l","Českomoravská stavební spořitelna (ČMSS) je v České republice předním poskytovatelem finančních služeb. Disponuje přitom kompletní produktovou nabídkou pro zhodnocování úspor, financování bydlení, zajištění na stáří a základních bankovních produktů. Ve všech segmentech celkem zprostředkovala v roce 2010 uzavření téměř 545 tisíc smluv. ČMSS je i nadále v České republice největším poskytovatelem úvěrů na bydlení. Od vstupu na trh v roce 1993 poskytla do konce roku 2010 úvěry na bydlení v objemu vyšším než 243 miliard korun. Tržní podíl ČMSS ve spoření překročil hranici 50 procent a v úvěrech se k ní velmi přiblížil."]
[14,"l","Základním stavebním kamenem úspěchu ČMSS je atraktivní produktová nabídka, kvalitní klientský servis a výkonná a široce dostupná mobilní obchodní síť. Jejím pilířem a nejvýkonnější složkou je 2900 finančních poradů ČMSS."]
[14]
[14]
[14,"Členství v asociacích a sdruženích"]
[14,"l","Asociace českých stavebních spořitelen"]
[14,"l","Bankovní asociace"]
[14,"l","Evropské sdružení stavebních spořitelen"]
[14]
[14]
[14,"Nabízené služby"]
[14,"l","Stavební spoření, Smlouva zdarma, Stavební spoření pro děti, Bonusový vklad od Lišky, Úvěry ze stavebního spoření, Překlenovací úvěry, Přeúvěrování, Rizikové životní pojištění, Pojištění majetku a odpovědnosti, Hypotéka od Lišky, Spotřebitelský úvěr od Lišky, Penzijní připojíštění, Životní pojištění od Lišky, Podílové fondy, Era první konto, Era osobní účet, Online účet od Lišky, Červené konto od Lišky, Liška plus,"]
[14]
[14]
[14,"Ocenění"]
[14,"l","Zlatá koruna - Tarif Atraktiv 3,7% získal potřetí za sebou prvenství v prestižní soutěži Zlatá koruna v kategorii stavebního spoření ( 2008 - 20100)"]
[14,"l","Banka roku - ČMSS obsadila v letech 2007 - 2009 druhé místo v kategorii Stavební spořitelna roku"]
[14,"l","Louskáček - Nový interaktivní korporátní web ČMSS získal třetí místo v kategorii Websites/Microsites"]
[14]
[14]
[14,"Bližší informace naleznete na www.cmss.cz"]
[14,"Datum poslední aktualizace: 20.9.2011 "]
[15,"ČP INVEST investiční společnost, a.s."]
[15]
[15]
[15,"Vlastnická struktura"]
[15,"l","ČP INVEST investiční společnost, a. s. je spolu s mateřskou Českou pojišťovnou, a.s. součástí mezinárodního holdingu Generali PPF Holding B.V. V oblasti kolektivního investování působí od roku 1991 a za dobu svého působení se stala předním správcem podílových fondů v České republice."]
[15,"l","ČP INVEST je od roku 1996 zakládajícím a stálým členem AFAM ČR – nyní Asociace pro kapitálový trh České republiky (AKAT ČR, www.akatcr.cz). "]
[15,"l","V současné době našich služeb využívá přes 60 tisíc podílníků a spravovaný majetek činí přes 15,69 miliardy Kč."]
[15]
[15,"Postavení na trhu, historie její působnost"]
[15,"l","Společnost působí na trhu kolektivního investování od r. 1991 a za dobu svého působení se stala předním správcem podílových fondů v České republice. "]
[15,"l","1991 - vznik společnosti pod názvem KIS a. s. kapitálová investiční společnost České pojištovny\n1994 - zakládající člen Unie investičních zprostředkovatelů ČR (nyní AKAT ČR)\n2001 - transformace uzavřených podílových fondů na otevřené a změna obchodního názvu na ČP INVEST investiční společnost, a. s.\n2006 - zahájen prodej podílových fondů na vybraných obchodních místech České pojišťovny\n2007 - vstup na slovenský trhu (otevření pobočky společnosti v Bratislavě)\n2008 - společnost se stává součástí mezinárodní skupiny Generali PPF Holding B.V.\n2010 - zahájení distribuce EUR fondů Generali PPF Invest plc\n       - zahájení působení v oblasti fondů kvalifikovaných investorů\n       - správa Realitního uzavřeného investičního fondu"]
[15]
[15,"Členství v asociacích a sdruženích"]
[15,"l","ČP INVEST je od roku 1996 zakládajícím a stálým členem AFAM ČR – nyní Asociace pro kapitálový trh České republiky (AKAT ČR, www.akatcr.cz). "]
[15]
[15,"Nabízené služby"]
[15,"l","Základní nabídku investorům tvoří 12 podílových fondů vedených v CZK, které jsou projektovány pro široké spektrum klientů. ČP INVEST je zároveň celosvětově výhradním distributorem EUR fondů Generali PPF Invest. Novinkou od června 2011 je nový fond Generali PPF Komoditní fond také v korunách. Správa portfolií fondů ČP INVEST i Generali PPF Invest byla svěřena společnosti Generali PPF Asset Management, která disponuje velmi silným analytickým zázemím a je největším správcem investic v České republice."]
[15]
[15,"Ocenění"]
[15,"l","STŔÍBRNÁ KORUNA 2011"]
[15,null,"Zlatá minca 2010"]
[15,null,"Zlatý Fond - ocenění finančního portálu www.investicniweb.cz \"Fond měsíce\""]
[15,"l","STŘÍBRNÁ KORUNA 2010"]
[15]
[15,"Bližší informace naleznete na www.cpinvest.cz"]
[15,"Datum poslední aktualizace: 20.9.2011"]
[16,"ČSOB pojišťovna, a.s."]
[16]
[16]
[16,"Vlastnická struktura"]
[16,"l","Československá obchodní banka, a. s., Radlická 333/150 150 57 Praha 5 - 25 %"]
[16,"l","KBC Verzekeringen N.V., Professor Roger Van Overstraetenplein 2, B-3000 Lovaň, Belgické království - 75 %"]
[16,"l","Základní kapitál činí 1,536 mld. Kč;    vlastní kapitál 4,371 mld. Kč"]
[16]
[16,"Postavení na trhu, historie její působnost"]
[16,"l","Na český trh vstoupila v roce 1992 a během svého působení v České republice se vypracovala mezi největší české pojišťovny."]
[16,"l","ČSOB Pojišťovna, a. s., člen holdingu ČSOB (dále jen ČSOB Pojišťovna) je univerzální pojišťovnou, která pod svým současným názvem působí od 6. 1. 2003, kdy změnila po odkupu podniku univerzální pojišťovny ČSOB Pojišťovna a. s. svou obchodní firmu z IPB Pojišťovna, a. s. do současné podoby."]
[16,"l","Na českém trhu. ČSOB Pojišťovna se opírá o stabilní zázemí a osvědčené know-how svého hlavního akcionáře, jímž je belgická pojišťovna KBC Verzekeringen NV z nadnárodní skupiny KBC a společnosti Československá obchodní banka."]
[16,"l","ČSOB Pojišťovna i další rok obhájila vysoký rating A- se stabilním výhledem a potvrdila tak dlouhodobě silnou pozici na českém trhu. Stabilní výhled ratingu vychází mimo jiné z výborné úrovně kapitalizace a likvidity pojišťovny."]
[16]
[16,"Členství v asociacích a sdruženích"]
[16,"l","Člen České asociace pojišťoven a České kanceláře pojistitelů"]
[16,"l","Člen jaderného poolu, a Poolu pojištění záruky pro případ úpadku cestovní kanceláře."]
[16,"l","Je také přidruženým členem I.N.I. (International Network of Insurance – mezinárodní sítě pojištění), což jí umožňuje uzavírat prostřednictvím členských pojišťoven pojistné kontrakty po celém světě, a členem mezinárodní organizace I.A.T.A. (International Air Transport Association), která zastřešuje pojištění cestovních agentur – prodejců letenek pro případ neschopnosti platit závazky."]
[16]
[16,"Nabízené služby"]
[16,"l","Šíří produktů uspokojí jak privátní, tak firemní zákazníky. Nabízí životní pojištění, pojištění majetku a odpovědnosti občanů, majetkové pojištění pro malé a střední podnikatele, korporátní klientelu, včetně pojištění profesní odpovědnosti, pojištění průmyslových rizik, pojištění obnovitelných zdrojů, letecké pojištění, pojištění vnitrozemské plavby a námořní pojištění a pojištění přepravovaných věcí, zemědělské pojištění plodin a zvířat, komplexní autopojištění, cestovní pojištění a skupinové pojištění."]
[16]
[16,"Ocenění"]
[16,"l","Magazín World Finance zvolil ČSOB Pojišťovnu nejlepší pojišťovnou roku 2009 pro ČR."]
[16,"l","Mezinárodní síť pojišťoven INI ocenila ČSOB Pojišťovnu jako nejlepšího poskytovatele služeb v rámci sítě INI. "]
[16,"l","Soutěž Cena Hospodářských novin"]
[16,null,"1. místo v kategorii Nejlepší pojišťovna (2010)"]
[16]
[16,"Bližší informace naleznete na www.csob.cz"]
[16,"Datum poslední aktualizace: 20.9.2011"]
[17,"Deutscher Ring"]
[17]
[17]
[17,"Vlastnická struktura"]
[17,"l","Společnosti Deutscher Ring Lebensversicherungs-AG a Deutscher Ring Sachversicherungs-AG jsou součástí skupiny Bâloise se sídlem v Basileji ve Švýcarsku"]
[17,"l","Skupina Bâloise působí ve Švýcarsku (Basler), Německu (Basler/DR), Belgiii (Mercator), Luxembursku (Bâloise), Rakousku (Basler), Liechtenštensku, Chorvatsku a Srbsku (Bâloise)"]
[17,"l","Akcie Bâloise Holding AG jsou zapsány v hlavním segmentu SIX Swiss Exchange "]
[17,"l","Základní jmění Deutscher Ring Lebensversicherungs-AG číní 22 milionů EUR. Základní jmění Deutscher Ring Sachversicherungs-AG číní 50 milionů EUR."]
[17]
[17,"Postavení na trhu, historie její působnost"]
[17,"l","S cekovým počtem ca. 8.800 zaměstnanců společnost Bâloise v roce 2010 dosáhla obratu ca. 10 miliard EUR"]
[17,"l","1913 založení dnešní Deutscher Ring Lebensversicherungs-AG, 1923 založení dnešní Deutscher Ring Sachversicherungs-AG, 1929 spojení obou společností do společnosti Deutscher Ring, 1985 Společnost Basler Versicherungsgruppe získala většinový akciový podíl Deutscher Ring Lebensversicherungs-AG a všechny akcie Deutscher Ring Sachverischerungs-AG, 2006 založení pobočky Deutscher Ring Lebensversicherungs-AG v České republice"]
[17,"l","Přijaté pojistné v roce 2010 - Deutscher Ring Lebensversicherungs-AG: 615 mil. EUR, Deutscher Ring Sachversicherungs-AG: 134,7 mil. EUR"]
[17]
[17,"Členství v asociacích a sdruženích"]
[17,"l","V České republice člen České asociace pojišťoven"]
[17]
[17,"Nabízené služby"]
[17,"l","Deutscher Ring je v České republice specialista na životní a úrazové pojištění "]
[17]
[17]
[17,"Ocenění"]
[17,"l","V roce 2010 potvrdila nezávislá agentura ASSEKURATA známkou velmi dobrá vysokou kvalitu životního pojištění Deutscher Ring Lebensversicherungs-AG"]
[17,"l","V roce 2009 ocenila agentura Franke Bornberg ohodnocenim FFF - výborné vysokou kvalitu životního pojištění Deutscher Ring Lebensversicherungs-AG"]
[17]
[17]
[17,"Bližší informace naleznete na www.deutscherring.cz"]
[17,"Datum poslední aktualizace: 20.9.2011 "]
[18,"Generali penzijní fond a.s."]
[18]
[18]
[18,"Vlastnická struktura"]
[18,"l","Generali penzijní fond je součástí koncernu Generali PPF Holding"]
[18,"l","Jediným akcionářem společnosti Generali penzijní fond,a.s. je Pojišťovna Generali,a.s."]
[18,"l","Základní kapitál činí 50 milionů Kč."]
[18]
[18,"Postavení na trhu, historie její působnost"]
[18,"l","Generali penzijní fond a.s. byl založen v roce 1995."]
[18,"l","Při prodeji penzijního připojištění se státním příspěvkem spolupracuje penzijní fond především s pojišťovnou Generali. Účastníkům jsou k dispozici obchodní místa pojišťovny Generali na území celé České republiky."]
[18,"l","Penzijní připojištění se státním příspěvkem je doplňkový příjem pro občany nad rámec základního důchodového pojištění. Je státem podporováno formou státního příspěvku a daňových úlev. Penzijní fond navíc vložené peníze nadstandardně zhodnocuje. Do systému mohou účastníci zapojit i své zaměstnavatele formou zaměstnavatelského příspěvku. Penzijní fond podléhá státnímu dozoru Ministersva financí a České národní banky a má důkladně vymezeny možnosti investování. Díky výše uvedeným charakteristikám je penzijní připojištění považováno za jeden z nejvýhodnějších a nejvýnosnějších produktů na finančním trhu."]
[18]
[18,"Členství v asociacích a sdruženích"]
[18,"l","Člen Asociace penzijních fondů České republiky"]
[18]
[18,"Nabízené služby"]
[18,"l","Stabilní zhodnocení vkladů klientů - patříme mezi nejúspěšnější fondy z hlediska dlouhodobého zhodnocení (5,5 % p.a. je průměrné roční zhodnocení za 16 let působení na českém trhu). "]
[18,"l","Online přístup k účtu přes internet, díky kterému si klienti lehce zkontrolují svůj aktuální zůstatek a připsané platby ( www.generalipf.cz)"]
[18,"l","Nabízíme bezplatnou službu \"Optimální daně\"- služba automaticky umožní každý rok odpočet z daní tím, že zaúčtuje maximální částku pro daňový odpočet pro rok aktuální  i roky následující. "]
[18,"l","Klientům poskytujeme rychlý a bezchybný servis. Disponujeme rozsáhlou sítí poboček Generali."]
[18,"l","Slevy při uzavření úrazového, cestovního nebo nemocenského pojištění u pojišťovny Generali"]
[18]
[18,"Ocenění"]
[18,"l","IX. ročník soutěže Zlatá koruna - 3.místo v kategorii Penzijní připojištění"]
[18,"l","V anketě Zlatý Měšec 2010 - Nejlepší finanční instituce - 3. místo v kategorii Penzijní fondy "]
[18]
[18]
[18,"Bližší informace naleznete na www.generalipf.cz"]
[18,"Datum poslední aktualizace: 20.9.2011 "]
[19,"Generali Pojišťovna a.s."]
[19]
[19]
[19,"Vlastnická struktura"]
[19,"l","Pojišťovna Generali je součástí koncernu Generali PPF Holding a patří do přední světové pojišťovací skupiny Generali Group"]
[19,"l","Pojišťovna Generali je jediným akcionářem společnosti Generali penzijní fond a.s., který byl založen v roce 1995. Je také jediným společníkem ve společnostech Generali Development s.r.o., Generali Servis s.r.o., Generali Car Care s.r.o.. Od roku 2009 provozuje a spravuje Nadaci pojišťovny Generali"]
[19,"l","Základní kapitál činí 500 milionů Kč."]
[19]
[19,"Postavení na trhu, historie její působnost"]
[19,"l","Pobočka Assicurazioni Generali byla v Praze založena již v roce 1832. V roce 1920 zde působí pojišťovna Moldavia Generali a v roce 1939 se tato společnost sloučila s další pojišťovnou Sekuritas. Generali u nás úspěšně působila až do roku 1945, kdy došlo dekretem prezidenta republiky ke znárodnění soukromých pojišťoven."]
[19,"l","V roce 1993 se Generali vrátila zpět do České republiky jako jedna z nejsilnějších a nejspolehlivějších pojišťoven. Jako akciová společnost působí Generali od ledna 1995, kdy došlo ke změně právního statutu. Organizační složka mezinárodního pojišťovacího koncernu Erste Allgemeine Versicherungs-AG se transformovala do Generali Pojišťovna a.s. "]
[19,"l","Významným milníkem v novodobé historii společnosti bylo převzetí pojišťovny Zürich k 1. lednu 2003, které znamenalo především posílení pozice v oblasti pojištění motorových vozidel i dalších odvětví neživotního pojištění."]
[19,"l","V lednu 2008 zahájil činnost Generali PPF Holding, který působí v zemích střední a východní Evropy a jehož součástí je v České republice Generali Pojišťovna a.s. a Česká pojišťovna a.s. "]
[19,"l","Pojišťovna Generali je čtvrtou největší pojišťovnou v oblasti neživotního pojištění a třetí největší v oblasti korporátního, průmyslového a podnikatelského pojištění"]
[19,"l","Generali Group patří aktuálně mezi 20 největších společností světa a 10 největších společností Evropy. Patří mezi nějvětší pojišťovny na světe a je největším evropským životním pojistitelem.Ve více než 60 zemích celého světa se stará o sedmdesát milionů klientů."]
[19]
[19,"Členství v asociacích a sdruženích"]
[19,"l","Člen České asociace pojišťoven a České kanceláře pojistitelů"]
[19]
[19,"Nabízené služby"]
[19,"l","Komplexní pojištění na míru klientu se 180 letou tradicí. Individuální přístup, kvalitní pojistné produkty připravené na základě analýzy potřeb klientů a špičkový servis jsou pro pojišťovnu Generali samozřejmostí. Svým portfoliem produktů uspokojí jak privátní, tak firemní zákazníky. Poskytuje životní i neživotní pojištění a penzijní připojištění."]
[19]
[19,"Ocenění"]
[19,"l","Soutěž Cena Hospodářských novin"]
[19,null,"3. místo v kategorii Nejlepší pojišťovna - klientské hodnocení (2010)"]
[19]
[19,"Bližší informace naleznete na www.generali.cz"]
[19,"Datum poslední aktualizace: 20.9.2011 "]
[21,"Hypoteční banka a.s."]
[21]
[21]
[21,"Vlastnická struktura"]
[21,"l","Hypoteční banka je stoprocentní dceřinou společností ČSOB a.s., jejímž jediným akcionářem je od roku 1999 KBC Bank NV"]
[21]
[21,"Postavení na trhu, historie její působnost"]
[21,"l","Hypoteční banka je největším poskytovatelem hypotečních úvěrů na českém trhu, je zároveň šestou největší bankou v ČR"]
[21,"l","Specializuje se na hypoteční úvěry pro fyzické osoby, v její současné bilanci jsou úvěry za 150 mld. korun"]
[21,"l","Působí ve všech krajích ČR prostřednictvím 27 poboček"]
[21,"l","Kromě sítě svých poboček nabízí své služby prostřednictvím strategických partnerů ve skupině – ČSOB, Poštovní spořitelny a Českomoravské stavební spořitelny"]
[21,"l","Spolupracuje s externími obchodními partnery i fyzickými osobami"]
[21]
[21,"Členství v asociacích a sdruženích"]
[21,"l","Hypoteční banka je členem České bankovní asociace"]
[21,"l","Jako první v České republice se Hypoteční banka přihlásila k tzv. Code of Conduct, formuláři Evropské komise, díky němuž si klient může porovnat podmínky hypoték v Evropě"]
[21,"l","V mezibankovním prostředí přistoupila Hypoteční banka v roce 2005 ke Kodexu chování mezi bankami a klienty"]
[21]
[21,"Nabízené služby"]
[21,"l","Hypoteční úvěry fyzickým osobám, určené k pořízení vlastního bydlení a to prostřednictvím externí sítě obchodních zástupců nebo online způsobem"]
[21,"l","Poradenství v oblasti hypotečního úvěrování"]
[21,"l","Oceňování nemovitostí kupovaných prostřednictvím hypotečního úvěru "]
[21,"l","Emise veřejně obchodovatelných hypotečních zástavních listů "]
[21]
[21,"Ocenění"]
[21,"l","Hypoteční banka se pravidelně umísťuje také v oborových soutěžích a získává řadu ocenění za novinky, které na hypoteční trh postupně uvedla"]
[21,"l","V soutěži Banka roku, pořádanou společností Fincentrum, exceluje už od roku 2002 a postupně tu získávala řadu cen v roce 2005, 2007, 2009 a 2010 cenu nejvyšší - Hypotéku roku"]
[21,"l","V soutěži Zlatá koruna přebírá zlatou korunu v letech 2007 a 2008, stříbrnou a bronzovou korunu v roce 2009, "]
[21,"l","V soutěži Web TOP 100 získává v kategorii Finance nejvyšší ocenění za webové stránky banky a to celkem čtyřikrát - v letech 2007, 2008 - 2010 "]
[21,"l","Hypoteční banka se pravidelně zúčastňuje dalších soutěží jako Zlatý středník, Nejlepší produkty, Internet  Effectiveness  Awards , Česká cena za PR apod., kde sbírá další cenné trofeje"]
[21]
[21]
[21,"Bližší informace naleznete na www.hypotecnibanka.cz"]
[21,"Datum poslední aktualizace: 20.9.2011 "]
[22,"ING Bank N.V."]
[22]
[22]
[22,"Vlastnická struktura"]
[22,"l","ING Bank N.V. působí v České republice prostřednictvím oragnizační složky"]
[22,"l","ING Group, jejíž součástí ING Bank N.V. je, vznikla v roce 1991 propojením bankovní skupiny NMB Postbank Groep a největší holandské pojišťovny Nationale-Nederlanden. Společné ambice a příbuzné kořeny obou institucí daly vzniknout společnosti pod názvem Internationale Nederlanden Group. Brzy se však ve finančních kruzích rozšířilo označení ING. Společnost na to reagovala změnou statutárního názvu na ING Groep N.V"]
[22]
[22]
[22,"Postavení na trhu, historie její působnost"]
[22,"l","Finanční skupina ING vstoupila na český trh v roce 1992. Od počátku svého působení patří mezi leadery ve všech oblastech, v nichž v České republice působí - konkrétně v bankovnictví, pojišťovnictví, správě aktiv, podílových fondech a oblasti penzijního připojištění."]
[22,"l","ING Group N.V. je kótována na burze v Amsterdamu. Je vlastníkem všech akcií ING Bank N.V. a ING Verzekering N.V. Všechny činnosti v oblasti bankovnictví, pojišťovnictví a správy aktiv jsou včleněny do těchto dvou společností. Tato struktura je podmíněna nizozemským právním řádem, který vyžaduje oddělení bankovních a pojišťovacích aktivit."]
[22]
[22]
[22,"Členství v asociacích a sdruženích"]
[22,"l","Organizační složka ING Bank N.V. je členem České bankovní asociace."]
[22]
[22]
[22,"Nabízené služby"]
[22,"l","ING Bank poskytuje špičkový servis jak individuálním, tak i korporátním klientům. Privátní klientele ING Bank nabízí podílové fondy a spořicí účet ING Konto, který dosahuje výjimečného zhodnocení."]
[22]
[22]
[22,"Ocenění"]
[22,"l","Soutěž Zlatá koruna"]
[22,null,"2. místo ING Konto v kategorii Účty (2011)"]
[22,null,"1. místo ING Konto v kategorii Účty (2010)"]
[22,null,"2. místo ING Konto v kategorii Účty (2009)"]
[22]
[22]
[22,"Bližší informace naleznete na www.ingbank.cz"]
[22,"Datum poslední aktualizace: 20.9.2011 "]
[23,"ING Penzijní fond, a.s."]
[23]
[23]
[23,"Vlastnická struktura"]
[23,"l","ING Životní pojišťovna N.V., pobočka pro Českou republiku, ING pojišťovna, a.s., a ING Penzijní fond, a.s., jsou součástí globální finanční skupiny ING (jako souhrnný název pro tto tři entity používáme ounačení ING Pojišťovna). Tato instituce holandského původu nabízí stabilní a kvalitní služby v oblasti pojišťovnictví, bankovnictví, investic a správy aktiv.\n"]
[23,"l","ING Pojišťovna má jediného akcionáře ING Continental Europe Holdings B.V. se sídlem Amstelveenseweg 500, 1081 KL, Amsterdam, Nizozemsko."]
[23,"l","Výše základního kapitálu činí 650 milionů Kč."]
[23]
[23]
[23,"Postavení na trhu, historie a působnost"]
[23,"l","Na český trh vstoupila ING Životní pojišťovna jako první zahraniční instituce v roce 1992 a během svého působení v České republice se vypracovala mezi lídry trhu především pro svůj profesionální, loajální a zejména proklientský přístup."]
[23,"l","ING Pojišťovna nabízí své služby více než 85 milionům klientů ve 40 zemích světa a zaměstnává více než 105 000 lidí. "]
[23]
[23]
[23,"Členství v asociacích a sdruženích"]
[23,"l","Člen České asociace pojišťoven a České kanceláře pojistitelů"]
[23]
[23]
[23,"Nabízené služby"]
[23,"l","ING nabízí široké portfolio produktů životního pojištění. Investiční, kapitálové a dočasné životní pojištění, s širokou nabídkou připojištění. Od roku 1998 poskytujeme rovněž soukromé zdravotní pojištění. Pojistné produkty ING jsou konstruovány tak, aby mohla být konkrétní pojistná smlouva přizpůsobena potřebám klienta nejen v okamžiku uzavření, ale také v průběhu trvání pojištění. \nZ konkrétních produktů např. pojištění ING Smart, ING Garance Plus, Investor plus atd.\n "]
[23]
[23]
[23,"Bližší informace naleznete na www.ing.cz"]
[23,"Datum poslední aktualizace: 20.9.2011 "]
[24,"ING Životní pojišťovna"]
[24]
[24]
[24,"Vlastnická struktura"]
[24,"l","ING Životní pojišťovna N.V., pobočka pro Českou republiku, ING pojišťovna, a.s., a ING Penzijní fond, a.s., jsou součástí globální finanční skupiny ING (jako souhrnný název pro tto tři entity používáme ounačení ING Pojišťovna). Tato instituce holandského původu nabízí stabilní a kvalitní služby v oblasti pojišťovnictví, bankovnictví, investic a správy aktiv.\n"]
[24,"l","ING Pojišťovna má jediného akcionáře ING Continental Europe Holdings B.V. se sídlem Amstelveenseweg 500, 1081 KL, Amsterdam, Nizozemsko."]
[24,"l","Výše základního kapitálu činí 650 milionů Kč."]
[24]
[24]
[24,"Postavení na trhu, historie a působnost"]
[24,"l","Na český trh vstoupila ING Životní pojišťovna jako první zahraniční instituce v roce 1992 a během svého působení v České republice se vypracovala mezi lídry trhu především pro svůj profesionální, loajální a zejména proklientský přístup."]
[24,"l","ING Pojišťovna nabízí své služby více než 85 milionům klientů ve 40 zemích světa a zaměstnává více než 105 000 lidí. "]
[24]
[24]
[24,"Členství v asociacích a sdruženích"]
[24,"l","Člen České asociace pojišťoven a České kanceláře pojistitelů"]
[24]
[24]
[24,"Nabízené služby"]
[24,"l","ING nabízí široké portfolio produktů životního pojištění. Investiční, kapitálové a dočasné životní pojištění, s širokou nabídkou připojištění. Od roku 1998 poskytujeme rovněž soukromé zdravotní pojištění. Pojistné produkty ING jsou konstruovány tak, aby mohla být konkrétní pojistná smlouva přizpůsobena potřebám klienta nejen v okamžiku uzavření, ale také v průběhu trvání pojištění. \nZ konkrétních produktů např. pojištění ING Smart, ING Garance Plus, Investor plus atd.\n "]
[24]
[24]
[24,"Bližší informace naleznete na www.ing.cz"]
[24,"Datum poslední aktualizace: 20.9.2011 "]
[25,"Komerční banka, a.s."]
[25]
[25]
[25,"Vlastnická struktura"]
[25,"l","Komerční banka, a.s. je součástí mezinárodní skupiny Société Générale."]
[25,"l","Základní kapitál činí 19 005 milionů Kč."]
[25,"l","Do skupiny KB patří mimo jiné také Modrá pyramida stavební spořitelna, a.s., Penzijní fond Komerční banky, a.s. aj."]
[25]
[25]
[25,"Postavení na trhu, historie její působnost"]
[25,"l","Skupina KB obsluhuje 2,5 milionů klientů. Samotná KB měla 1 583 000 klientů, z toho 1 316 000 byli občané. Dalších 267 000 zákazníků bylo z řad podnikatelů, firem a korporací (včetně obcí a sdružení). Počet účastníků penzijního připojištění v Penzijním fondu KB dosáhl více než 500 000.  Modrá pyramida obsluhovala 679 000 zákazníků a služeb společnosti ESSOX využívalo 301 000 aktivních klientů."]
[25,"l","Klienti Komerční banky mají k dispozici 395 bankovních poboček, 680 bankomatů a plnohodnotné přímé bankovnictví podporované dvěma telefonními centry. Zákazníci Modré pyramidy obsluhuje 238 obchodních míst a 1 234 poradců. Spotřebitelské financování od společnosti ESSOX bylo dostupné v síti 3 000 obchodníků. "]
[25]
[25]
[25,"Členství v asociacích a sdruženích"]
[25,"l","Člen České bankovní asociace, Asociace pro kapitálový trh, Mezinárodní obchodní komora v České republice, Hospodářská komora, Svaz bank a pojišťoven a další  "]
[25]
[25]
[25,"Nabízené služby"]
[25,"l","KB je univerzální bankou se širokou nabídkou služeb v oblasti retailového, podnikového a investičního bankovnictví. Společnosti Skupiny Komerční banky nabízejí další specializované služby, mezi které patří penzijní připojištění, stavební spoření, faktoring,  spotřebitelské úvěry a pojištění, dostupné prostřednictvím sítě poboček KB, přímého bankovnictví a vlastní distribuční sítě."]
[25]
[25]
[25,"Ocenění"]
[25,"l","Fincentrum Banka roku 2010"]
[25,null,"1. místo v kategorii Stavební spořitelna roku (Modrá pyramida)"]
[25,null,"2. místo v kategoriích Banka roku (KB), Nejdůvěryhodnější banka (KB)"]
[25,"l","Nejlepší banka Hospodářských novin 2011"]
[25,null,"1. místo v kategorii Bankovní inovátor (produkt Lady karta)"]
[25,null,"2. místo v kategoriích Nejlepší banka (KB) a Klientsky nejpřívětivější banka (KB) "]
[25]
[25]
[25,"Bližší informace naleznete na www.kb.cz"]
[25,"Datum poslední aktualizace: 20.9.2011 "]
[26,"Kooperativa pojišťovna, a.s., Vienna Insurance Group"]
[26]
[26]
[26,"Vlastnická struktura"]
[26,"l","Kooperativa je součástí koncernu Vienna Insurance Group (VIG)"]
[26,"l","Hlavní akcionář Kooperativy je Vienna Insurance Group AG Wiener Versicherung Gruppe."]
[26,"l","Základní jmění 3 mld. Kč"]
[26]
[26]
[26,"Postavení na trhu, historie její působnost"]
[26,"l","Kooperativa pojišťovna, a.s., Vienna Insurance Group je druhou největší pojišťovnou na tuzemském trhu. Byla založena v roce 1991 jako první komerční pojišťovna na území bývalého Československa."]
[26,"l","Její podíl na celkovém předepsaném pojistném v ČR je 22%."]
[26,"l","Kooperativa spravuje přes čtyři miliony pojistných smluv a má přes dva miliony klientů."]
[26]
[26]
[26,"Členství v asociacích a sdruženích"]
[26,"l","ČAP"]
[26,"l","ČKP"]
[26,"l","Svaz průmyslu a dopravy"]
[26,"l","Byznys pro společnost"]
[26]
[26]
[26,"Nabízené služby"]
[26,"l","Je univerzální pojišťovnou, která nabízí plný sortiment služeb a všechny standardní druhy pojištění jak pro občany, tak pro klienty z řad firem od drobných podnikatelů až po velké korporace. "]
[26]
[26]
[26,"Ocenění"]
[26,"l","1. místo v kategorii Pojišťovna roku 2008, 2009, 2010"]
[26,"l","Zlatá Koruna 2011 - 1. místo v kategorii neživotní pojištění - Povinné ručení NA100PRO - také ocenění Novinka roku"]
[26,"l","Zlatá Koruna 2011 - 1. místo v pojištění podnikatelů - Trend"]
[26,"l","Zlatá Koruna 2011 - 2. místo v životním pojištění - Univerzální životní pojišění Perspektiva"]
[26,"l","Zlatá Koruna 2011 - 3. místo v pojištění podnikatelů - Start Plus"]
[26,"l","AČPM - 1. místo v anketě Pojišťovna roku"]
[26,"l","Czech TOP 100 - 100 nejoblíbenějších firem - 1. místo v kategorii Pojišťovny"]
[26]
[26]
[26,"Bližší informace naleznete na www.koop.cz"]
[26,"Datum poslední aktualizace: 20.9.2011 "]
[27,"mBank"]
[27,"BRE Bank S.A., pobočka zahraniční banky v ČR"]
[27]
[27,"Vlastnická struktura"]
[27,"l","mBank je retailovou divizí elektronického bankovnictví jedné z největších polských finančních institucí – BRE Bank SA. Ta se specializuje na poskytování bankovních služeb velkým podnikatelským subjektům a mezinárodním korporacím, ale též na segment malých a středních podniků. BRE Bank SA je členem skupiny Commerzbank, která je druhou největší bankou v Německu. Je zároveň jednou z vedoucích finančních institucí v Evropě, přičemž v polské BRE Bank vlastní více než 70% podíl."]
[27]
[27,"Postavení na trhu, historie její působnost"]
[27,"l","mBank vstoupila na český trh v listopadu 2007. Během svého působení na českém trhu získala více než 370 000 klientů "]
[27,"l","Strategií mBank je nabízet srozumitelné produkty založené na pohodlné obsluze přes internet."]
[27,"l","mBank je internetovou bankou a tedy nemá klasické pobočky. Našimi obchodními místy jsou finanční centra a kiosky. Jedná se o místa, kde se jak stávající tak potenciální klienti mohou dozvědět informace o produktech a poradit se s našimi bankéři. "]
[27]
[27,"Členství v asociacích a sdruženích"]
[27,"l","Člen České bankovni asociace"]
[27]
[27,"Nabízené služby"]
[27,"l","Nabídka produktů a služeb zahrnuje osobní a spořící účty, platební karty, hypoteční úvěry, spotřebitelské půjčky,kreditní karty a povolené přečerpání (kontokorent). "]
[27,"l","mBank nabízí kvalitní a levné služby s minimální administrativu spojenou se založením účtu či žádostí o půjčku"]
[27]
[27,"Ocenění"]
[27,"l","Zlatá koruna 2011"]
[27,null,"Cena veřejnosti"]
[27,null,"2. mKONTO - osobní účet / mBank - BRE Bank SA, organizační složka podniku"]
[27,null,"Cena podnikatelů"]
[27,null,"1. mBUSINESS KONTO / mBank - BRE Bank SA, organizační složka podniku"]
[27,null,"Elektronické bankovnictví"]
[27,null,"3. Internetové bankovnictví mBank / mBank - BRE Bank SA, organizační složka podniku"]
[27,null,"Podnikatelské účty"]
[27,null,"3. mBUSINESS KONTO / mBank - BRE Bank SA, organizační složka podniku"]
[27,"l","Zlatý měšec 2011"]
[27,null,"3. místo v kategorii Banky a družstevní záložny "]
[27]
[27,"Bližší informace naleznete na www.mBank.cz"]
[27,"Datum poslední aktualizace: 20.9.2011 "]
[28,"Pioneer Investments"]
[28]
[28]
[28,"Vlastnická struktura"]
[28,"l","Pioneer Investments je součástí přední bankovní skupiny UniCredit."]
[28,"l","Skupinu Pioneer Investments v ČR představují společnosti Pioneer investiční společnost, a.s. a Pioneer Asset Management, a.s."]
[28,"l","Jediným akcionářem obou společností je Pioneer Global Asset Management, S.p.A."]
[28,"l","Celkový objem aktiv pod správou skupiny Pioneer Investments v ČR činí 687 milionů EUR (k 24.6.2011) a celosvětově přesahuje sumu 181,5 miliard EUR (květen 2011)."]
[28]
[28,"Postavení na trhu, historie její působnost"]
[28,"l","Skupina Pioneer Investments působí v oblasti řízení podílových fondů již více než 80 let, konkrétně od roku 1928, kdy byl založen třetí nejstarší fond v USA - Pioneer Fund."]
[28,"l","Skupina Pioneer Investments má zastoupení na všech důležitých světových trzích - v Bostonu, Miláně, Buenos Aires, Dublinu, Hongkongu, Madridu, Miami, Mnichově, Paříži, Praze, Sofii a Varšavě. Hlavním sídlem skupiny je italské Miláno. "]
[28,"l","Pioneer Investments je přítomna ve 31 zemích a pro její klienty, mezi něž patří instituce, podniky, zprostředkovatelé a soukromí investoři z celého světa, pracuje více než 2 100 specialistů."]
[28,"l","V České republice působí Pioneer Investments od roku 1995 a od roku 2000 je členem bankovní skupiny UniCredit. V současné době se řadí mezi pět největších správců domácích podílových fondů na českém trhu. "]
[28]
[28,"Členství v asociacích a sdruženích"]
[28,"l","Člen Asociace pro kapitálový trh České republiky"]
[28]
[28,"Nabízené služby"]
[28,"l","Pioneer Investments celosvětově poskytuje široké spektrum investičních řešení, včetně podílových fondů, alternativních investic a strukturovaných produktů."]
[28,"l","V České republice poskytuje služby individuálním i institucionálním klientům a nadacím. Produktovou nabídku tvoří Česká rodina fondů Pioneer, dvě zahraniční rodiny lucemburských fondů Pioneer, dva fondy pro nadace a produkty pro pravidelné investování - program RYTMUS a produkt životního cyklu Rentier Invest. Klientům nabízí možnost investovat jak v české měně (vybrané fondy i s měnovým zajištěním do CZK), tak i v euru nebo dolaru."]
[28,"l","Privátním i institucionálním klientům Pioneer Asset Management, a.s. rovněž nabízí službu obhospodařování individuálních portfolií."]
[28]
[28,"Ocenění"]
[28,"l","Soutěž Zlatá koruna (2011) "]
[28,null,"3. místo v kategorii Podílové fondy - Rentier Invest - Inteligentní portfolio pro život"]
[28]
[28]
[28,"Bližší informace naleznete na www.pioneer.cz"]
[28,"Datum poslední aktualizace: 20.9.2011"]
[29,"Raiffeisen stavební spořitelna a.s."]
[29]
[29,"Vlastnická struktura"]
[29,"l","Raiffeisen stavební spořitelna a.s. je součástí silné finanční skupiny Raiffeisen, která zaujímá významné postavení jak na českém, tak na evropském finančním trhu."]
[29,"l","Akcionáři Raiffeisen stavební spořitelny a.s. jsou rakouská Raiffeisen Bausparkassen Holding GmbH s 90% podílem akcií a Raiffeisenbank a.s. s 10% podílem akcií."]
[29,"l","Základní jmění společnosti činí 650 milionů Kč "]
[29,"l","Dceřinou společností Raiffeisen stavební spořitelny je společnost RFP (Raiffeisen finanční poradenství), která se zabývá finančním poradenstvím především v oblasti pojišťovnictví a penzijního připojištění."]
[29]
[29,"Postavení na trhu, historie její působnost"]
[29,"l","Raiffeisen stavební spořitelna vstoupila na český trh v roce 1993, tehdy ještě jako AR stavební spořitelna a.s."]
[29,"l","V roce 1999 změnila své obchodní jméno na Raiffeisen stavební spořitelna a tím se zařadila nejen do finanční skupiny Raiffeisen v České republice, ale i do největší soukromé finanční skupiny působící na rakouském trhu. Koncem roku 2008 dokončila fúzi s Hypo stavební spořitelnou."]
[29,"l","Raiffeisen stavební spořitelna je specializovanou finanční institucí s celostátní působností a mezi stavebními spořitelnami zaujímá významné místo s tržním podílem 16%. Na území České republiky provozuje širokou síť obchodních zastoupení s více než 250 poradenskými místy."]
[29]
[29,"Členství v asociacích a sdruženích"]
[29,"l","Člen České bankovní asociace (ČBA)"]
[29,"l","Člen České asociace stavebních spořitelen (AČSS)"]
[29,"l","Člen Evropského sdružení stavebních spořitelen "]
[29]
[29,"Nabízené služby"]
[29,"l","Raiffeisen stavební spořitelna poskytuje svým klientům finanční služby a poradenství zejména v oblastech výhodného spoření, poskytování úvěrů a financování bydlení. Především Stavební spoření, Úvěry ze stavebního spoření a Překlenovací úvěry."]
[29]
[29,"Ocenění"]
[29,"l","Anketa Zlatá koruna"]
[29,null,"3. místo v kategorii Stavební spoření (2011) s produktem Nízká hyposplátka"]
[29,null,"3. místo v kategorii Cena veřejnosti (2011) "]
[29,null,"3. místo v kategorii Cena odborné poroty (2010) s produktem Nízká hyposplátka"]
[29,null,"3. místo v kategorii Cena veřejnosti (2010) s produktem úvěr Helios"]
[29,"l","MasterCard - Banka roku "]
[29,null,"2. místo v kategorii Nejlepší stavební spořitelna roku (2005)"]
[29,"l","Zlatý měšec"]
[29,null,"4. místo v kategorii Banky a družstevní záložny (2011). Nejlepší ze stavebních spořitelen"]
[29]
[29,"Bližší informace naleznete na www.rsts.cz"]
[29,"Datum poslední aktualizace: 20.9.2011"]
[30,"Raiffeisenbank, a.s."]
[30]
[30]
[30,"Vlastnická struktura"]
[30,"l","Majoritním akcionářem je s 51 procenty rakouská finanční instituce Raiffeisen Bank International AG (RBI). která vznikla v říjnu 2010 spojení Raiffeisen International a části RZB. Dalšími akcionáři banky jsou Raiffeisenlandesbank Niederösterreich – Wien AG s 24 procenty a RB Prag-Beteiligungs GmbH, která drží 25 procent. RBI zajišťuje služby firemním a investičním klientům v Rakousku a dále obsluhuje klienty v řadě zemí střední a východní Evropy. Majoritním vlastníkem Raiffeisen Bank International je RZB."]
[30,"l","Výše základního kapitálu: 6.564.000,- Kč, splacen v plné výši."]
[30]
[30]
[30,"Postavení na trhu, historie její působnost"]
[30,"l","Raiffeisenbank a.s. (RBCZ) poskytuje od roku 1993 v České republice široké spektrum bankovních služeb soukromé i podnikové klientele."]
[30,"l","V roce 2006 zahájila spojování s eBankou, integrační proces obě banky dokončily v létě roku 2008."]
[30,"l","Raiffeisenbank obsluhuje klienty v síti více než 100 poboček a klientských center, poskytuje rovněž služby specializovaných hypotečních center, osobních a firemních poradců."]
[30,"l","Emblémem a tradiční ochrannou známkou skupiny Raiffeisen je zvláštní architektonický prvek: dvě zkřížené koňské hlavy (tzv. Giebelkreuz). Giebelkreuz, který již po staletí zdobí štíty mnoha budov v Evropě, je symbolem ochrany rodin shromážděných pod společnou střechou před zlem a životním ohrožením."]
[30]
[30]
[30,"Členství v asociacích a sdruženích"]
[30,"l","Česká bankovní asociace, Asociace pro kapitálový trh, Asociace pro rozvoj nemovitostí, Poradna při finanční tísni, Sdružení pro bankovní karty aj."]
[30]
[30]
[30,"Nabízené služby"]
[30,"l","Raiffeisenbank a.s. od samého počátku aktivně nabízí služby soukromé i podnikové klientele s důrazem na zohlednění specifických potřeb klientů v různých regionech. Vedle svých ryze obchodních aktivit se banka angažuje v souladu se 140letou tradicí jména Raiffeisen rovněž v řadě veřejně prospěšných aktivit, zahrnujících např. oblast kultury, vzdělávání či charitativní projekty."]
[30]
[30]
[30,"Ocenění"]
[30,"l","V nejprestižnější domácí anketě MasterCard Banka roku získala Raiffeisenbank potřetí z poslední čtyř let titul \"Nejdynamičtější banka roku\", nejlepším účtem roku bylo vyhlášeno eKonto. Po loňském vítězství v hlavní kategorii Banka roku získala v roce 2009 Raiffeisenbank v této kategorii 3. místo.  V soutěži Zlatá koruna banka získala první místa v kategorii přímé bankovnictví, hypotéka a podnikatelský účet."]
[30]
[30]
[30,"Bližší informace naleznete na www.rb.cz"]
[30,"Datum poslední aktualizace: 20.9.2011 "]
[31,"SFM Group, o.c.p., a.s."]
[31]
[31]
[31,"Vlastnická struktura"]
[31,"l","Obchodník s cennými papíry, společnost SFM Group, o.c.p., a.s. je 100% dceřinou společností společnosti SFM Group International S.A. se sídlem v Lucembursku "]
[31,"l","Základní jmění činí 1,5 milionu EUR."]
[31]
[31]
[31,"Postavení na trhu, historie její působnost"]
[31,"l","Od založení společnosti SFM Group v roce 1997 nabízíme investiční produkty šité na míru a vyplňujeme mezeru na trhu propojením komplexních procesů v oblasti návrhu, vývoje, distribuce a marketingu. Investiční řešení poskytujeme prostřednictvím mezinárodní sítě speciálně vybraných partnerů, podpořené servisními službami v prvotřídní kvalitě, které přesně odpovídají potřebám investora."]
[31,"l","SFM Group má v současné době pobočky v osmi zemích světa (střední a východní Evropa, Dubai, Singapur) a nabízí širokou škálu svých investičních produktů a služeb ve více než 40 zemích po celém světě."]
[31,"l","Objem majetku pod správou v produktech podporovaných SFM Group dosáhl v roce 2010 přibližně 430 milionů USD. Počet klientů z řad drobných i institucionálních klientů již překročil 100 tisíc. "]
[31]
[31]
[31,"Členství v asociacích a sdruženích"]
[31,"l","Prostřednictvím rodiny fondů WIOF je členem Asociace pro kapitálový trh České republiky"]
[31]
[31]
[31,"Nabízené služby"]
[31,"l","Naším cílem je poskytovat produkty světové kvality pro všechny naše klienty a partnery prostřednictvím široké škály investičních nástrojů schopných uspokojit potřeby každého investora. Sortiment našich investičních řešení zahrnuje celou řadu investičních nástrojů, včetně podílových fondů, fondu fondů, nemovitostních fondů, etických fondů, zajištěných nástrojů, pravidelně investičních produktů a specializovaných investičních nástrojů. Základními produktovými řadami jsou rodiny otevřených podílových fondů WIOF, WSP, WPP registrované v Lucembursku a produkt pravidelného investování LifeFlex."]
[31]
[31]
[31,"Ocenění"]
[31,"l","Rating Morningstar"]
[31,null,"WIOF Russian and CIS Performance Fund - *** (2011)"]
[31,null,"WIOF South-East Asia Performance Fund - **** (2011)"]
[31,"l","Rating Standard & Poor’s"]
[31,null,"WIOF China Performance Fund - AA (2011)"]
[31]
[31]
[31,"Bližší informace naleznete na www.sfmworldfunds.com nebo www.lifeflex.cz"]
[31,"Datum poslední aktualizace: 20.9.2011 "]
[32,"UniCredit Bank, a.s."]
[32]
[32,"Vlastnická struktura"]
[32,"l","V roce 2005 se UniCredit spojila s německou skupinou HVB. Ta sama vznikla v roce 1998 sloučením dvou bavorských bank, Bayerische Vereinsbank a Bayerische Hypotheken-und Wechsel-Bank, což z HVB udělalo banku významnou v celoevropském měřítku. Integrace UniCreditu se skupinou HVB je pro skupinu motorem dalšího růstu: zvláště vzhledem k fúzi (r. 2000) HVB s rakouskou Bank Austria Creditanstalt, která byla silně zastoupena v mnoha regionech postkomunistické „nové“ Evropy. Skupina UniCredit tak může dál posílit své evropské zaměření."]
[32,"l","Jsme silná a výkonná evropská banka s dominantním postavením ve střední a východní Evropě. Díky tomu usnadňujeme našim klientům mezinárodní obchod a kontakty s jejich partnery. Stále nás motivuje vysoká kvalita služeb ve všem, s čím u nás naši klienti přichází do kontaktu, a garantujeme jim vysoký standard služeb v rámci celé UniCredit Bank."]
[32,"l","Výše základního kapitálu zapsaného v obchodním rejstříku: 7 324 716 000,- Kč"]
[32]
[32,"Postavení na trhu, historie její působnost"]
[32,"l","UniCredit Bank Czech Republic a.s. zahájila svoji činnost na českém trhu 5. listopadu 2007. Vznikla integrací dvou dosud samostatně působících úspěšných bankovních domů HVB Bank a Živnostenské banky."]
[32,"l","UniCredit Bank Czech Republic a.s. je silnou a rychle se rozvíjející bankou, která nabízí širokou škálu kvalitních produktů pro firemní zákazníky i privátní klientelu. Je jednou z nejsilnějších bank na trhu v oblasti projektového, strukturovaného a syndikovaného financování Corporate Finance. Mimořádně silnou pozici si banka rovněž vybudovala v oblasti akvizičního financování a také se řadí na první příčku ve financování komerčních nemovitostí."]
[32,"l","Na území České republiky má Unicredit bank, a.s., 89 poboček."]
[32]
[32,"Členství v asociacích a sdruženích"]
[32,"l","Člen České bankovní asociace "]
[32]
[32,"Nabízené služby"]
[32,"l","přijímání vkladů od veřejnosti, poskytování úvěrů, investování do cenných papírů na vlastní účet, platební styk a zúčtování, vydávání a správa platebních prostředků, poskytování záruk, otvírání akreditivů, obstarávání inkasa, poskytování investičních služeb"]
[32]
[32,"Ocenění"]
[32,"l","Nejlepší banka 2011 cena Hospodářských novin, 2. místo - Nejlepší banka 2010 cena Hospodářských novin, Převratná hypotéka: Hypotéka roku / Zlatá koruna 2011, Převratná hypotéka: 2. místo - Novinka roku / Zlatá koruna 2010, Převratná hypotéka: Hypotéka roku / Zlatá koruna 2010, Hypoteční úvěr FLEXI: 3. místo Hypotéka roku / Zlatá koruna 2011"]
[32]
[32,"Bližší informace naleznete na www.unicreditbank.cz"]
[32,"Datum poslední aktualizace: 20.9.2011 "]
[33,"UNIQA pojišťovna, a.s."]
[33]
[33]
[33,"Vlastnická struktura"]
[33,"l","UNIQA pojišťovna je stoprocentní dceřinou společností UNIQA International AG a součástí významného evropského pojišťovacího koncernu UNIQA Group."]
[33,"l","UNIQA pojišťovna patří do skupiny Raiffeisen společně s Raiffeisenbank, Raiffeisen stavební spořitelnou, Raiffeisen leasing, Raiffeisen leasing Real Estate"]
[33,"l","Základní jmění činí 500 milionů Kč."]
[33]
[33,"Postavení na trhu, historie její působnost"]
[33,"l","Působnost na českém trhu zahájila v roce 1993 pod tehdejším jménem Česko-rakouská pojišťovna, a.s. V červnu 2001 mění svůj název na UNIQA pojišťovna a.s. a po celou dobu své existence patří mezi 10 nejsilnějších hráčů na českém trhu."]
[33,"l","S UNIQA Group se prostřednictvím více než 40 dceřinných pojišťoven potkáte ve 21 zemích Evropy, kde naše služby využívá více než 7,5 milionů klientů."]
[33,"l","V rámci ČR služby UNIQA pojišťovny nabízí více než 1000 prodejních poradců na 165 obchodních místech. Významný prodejní kanál představuje i spolupráce s makléřskými společnostmi, kde mezi nejvýznamější obchodní partnery patří OVB Allfinanz, a.s. a naše vzájemná spolupráce se datuje od roku 1995. Vybrané produkty nabízíme také prostřednictvím bank, prodejců nových i ojetých vozidel a cestovních kanceláří.  "]
[33]
[33,"Členství v asociacích a sdruženích"]
[33,"l","Člen České asociace pojišťoven a České kanceláře pojistitelů"]
[33]
[33,"Nabízené služby"]
[33,"l","UNIQA jako univerzální pojišťovna svým produktovým portfoliem pokrývá potřeby jak privátní, tak firemní klientely. Pro nástrahy všedního dne je možné sjednat životní pojištění, pojištění majetku, odpovědnost z občanského života i pojištění právní ochrany. Při cestách do zahraničí klienta ochrání cestovní pojištění a pro řidiče nabízíme komplexní pojištění dopravních prostředků. Pevné základy v podnikání u nás najdou jednotliví živnostníci i velké firmy v rámci majetkového pojištění podnikatelů, pojištění profesní odpovědnosti nebo pojištění průmyslových rizik. Ve spolupráci s vybranými partnery proti úpadku pojistíme cestovní kanceláře a personální agentury. Pro občany cizí státní příslušnosti je připraveno komplexní pojištění cizinců."]
[33]
[33,"Ocenění"]
[33,"l","Soutěž Zlatá koruna"]
[33,null,"3. místo v kategorii Životní pojištění (2011)"]
[33,"l","Anketa Zlatý měšec "]
[33,null,"2. místo v kategorii Pojišťovny (2011)"]
[33,"l","Soutěž Banka roku"]
[33,null,"1. místo v kategorii Životní pojištění (2010)"]
[33]
[33,"Bližší informace naleznete na www.uniqa.cz"]
[33,"Datum poslední aktualizace: 20.9.2011 "]
[34,"Volksbank CZ, a.s."]
[34]
[34]
[34,"Vlastnická struktura"]
[34,"l","Volksbank CZ je součástí mezinárodní skupiny Volksbank International, která má zastoupení v 9 zemích střední a východní Evropy."]
[34,"l","Volksbank International AG (VBI) – sídlící ve Vídni, Rakousko – je většinovým podílem v držení Volksbank AG (51 %), zbývající podíly, každý ve výši 24,50 %, drží německá DZ BANK / WGZ-Bank a francouzská Banque Fédérale des Banques Populaires. VBI řídí úspěšnou a expandující síť více než 600 poboček v devíti zemích střední a východní Evropy (CEE): na Slovensku, v České republice, Maďarsku, Slovinsku, Chorvatsku, Bosně a Hercegovině, Srbsku, Rumunsku a na Ukrajině."]
[34,"l","Volksbank CZ disponuje základním kapitálem ve výši 2 005,4 milionů korun."]
[34]
[34]
[34,"Postavení na trhu, historie její působnost"]
[34,"l","Po dobu působení v České republice si Volksbank získala pevnou pozici v segmentu středních a menších bankovních domů. "]
[34,"l","Na bankovním trhu působí Volksbank od roku 1993, od 1. ledna 1997 jako samostatná akciová společnost Volksbank CZ, a.s."]
[34]
[34]
[34,"Členství v asociacích a sdruženích"]
[34,"l","Česká bankovní asociace"]
[34]
[34]
[34,"Nabízené služby"]
[34,"l","Volksbank CZ je obchodní banka se širokým spektrem finančních produktů a služeb."]
[34,"l","Volksbank CZ poskytuje služby: občanům, živnostníkům, svobodným povoláním, malým a středně velkým podnikatelům, bytovým družstvům, subjektům veřejného a neziskového sektoru, developerským společnostem, zemědělskému sektoru, mezinárodní klientele (zejm. italské, francouzské a španělské)."]
[34]
[34]
[34,"Ocenění"]
[34,"l","Běžný spořicí účet od Volksbank CZ - ocenění časopisu TEST"]
[34]
[34]
[34,"Bližší informace naleznete na www.volksbank.cz"]
[34,"Datum poslední aktualizace: 20.9.2011 "]
[35,"Wüstenrot hypoteční banka a.s."]
[35]
[35]
[35,"Vlastnická struktura"]
[35,"l","Wüstenrot - hypoteční banka a.s. je dceřinou společností německého finančního koncernu Wüstenrot&Württembergische AG "]
[35,"l","V České republice je Wüstenrot hypoteční banka a.s. součástí finanční skupiny Wüstenrot, sdružení, které spolu s ní tvoří další tři společnosti - Wüstenrot - stavební spořitelna, a.s., Wüstenrot, životní pojišťovna, a.s. a Wüstenrot pojišťovna a.s."]
[35,"l","Základní kapitál činí 770 mil. Kč."]
[35]
[35,"Postavení na trhu, historie její působnost"]
[35,"l","Wüstenrot hypoteční banka byla založena v roce 2002 jako třetí ze společností Wüstenrot působících v České republice. Banka stabilně vykazuje naprůměrné přírůstky nových hypotečních obchodů, čímž se jí daří  významně zvyšovat podíl na trhu."]
[35,"l","Mateřská společnost banky - německý W&W je prostřednictvím vlastních dceřiných společností, poboček a kapitálových účastí zastoupen v mnoha zemích. Mezi  nejvýznamnější dceřiné společnosti patří stavební spořitelny, které jsou kromě Česka také v Lucembursku, na Slovensku, v Maďarsku a v Chorvatsku."]
[35,"l","V České republice využívá Wüstenrot hypoteční banka rozsáhlou obchodní síť Wüstenrotu, jejíž základ tvoří 8 regionálních a na 60 oblastních center, a disponuje širokou sítí vlastních poradců, obchodní činnost realizuje také formou spolupráce s vybranými obchodními partnery a makléřskými společnostmi. "]
[35]
[35,"Členství v asociacích a sdruženích"]
[35,"l","Člen Bankovní asociace"]
[35]
[35,"Nabízené služby"]
[35,"l","Zpočátku se banka specializovala na poskytování úvěrů občanům na účely bydlení. Ve spolupráci se stavební spořitelnou a životní pojišťovnou Wüstenrot jako jedna z prvních zavedla kombinace hypoték se stavebním spořením a životním pojištěním. Své portfolio brzy rozšířila o další účelové i neúčelové hypotéky, takže dnes fyzickým osobám nabízí rozsáhlou paletu hypoték s širokými možnostmi fixací úrokových sazeb. Banka se zaměřuje také na úvěry na rekonstrukce bytových domů pro právnické osoby - bytová družstva a společenství vlastníků. Zavedením depozitních produktů - spořicích účtů a termínovaných vkladů, ovládaných pomocí internetového bankovnictví, učinila banka koncem roku 2010 významný krok k dalšímu rozvoji. Ve spolupráci s ostatními společnostmi Wüstenrot nabízí klientovi i další důležité finanční služby pod jednou střechou."]
[35]
[35,"Ocenění"]
[35,"l","Soutěž o nejlepší finanční produkt Zlatá koruna"]
[35,null,"3. místo v kategorii Podnikatelské úvěry - úvěr TopRevit"]
[35]
[35,"Bližší informace naleznete na www.wustenrot.cz"]
[35,"Datum poslední aktualizace: 20.9.2011"]
[36,"Wüstenrot pojišťovna a.s."]
[36]
[36]
[36,"Vlastnická struktura"]
[36,"l","Wüstenrot pojišťovna a.s. je dceřinou společností německého finančního koncernu Wüstenrot&Württembergische AG (74 %) a rakouské pojišťovny Wüstenrot Versicherungs-AG (26%)"]
[36,"l","V České republice je Wüstenrot pojišťovna a.s. součástí finanční skupiny Wüstenrot, sdružení, které spolu s ní tvoří další tři společnosti - Wüstenrot - stavební spořitelna, a.s., Wüstenrot hypoteční banka a.s. a Wüstenrot, životní pojišťovna, a.s."]
[36,"l","Základní kapitál činí 492 mil. Kč."]
[36]
[36,"Postavení na trhu, historie její působnost"]
[36,"l","Wüstenrot pojišťovna  a.s. zahájila svou činnost v roce 2008 jako čtvrtá ze společností Wüstenrot působících v České republice."]
[36,"l","Mateřské společnosti pojišťovny - německý W&W a rakouský Wüstenrot jsou prostřednictvím vlastních dceřiných společností, poboček a kapitálových účastí zastoupeny v mnoha zemích. Mezi jejich nejvýznamnější dceřiné společnosti patří stavební spořitelny, které jsou kromě Česka také v Lucembursku, na Slovensku, v Maďarsku a v Chorvatsku."]
[36,"l","V České republice využívá Wüstenrot pojišťovna a.s. rozsáhlou obchodní síť Wüstenrotu, jejíž základ tvoří 8 regionálních a na 60 oblastních center, a disponuje širokou sítí vlastních poradců, obchodní činnost realizuje také formou spolupráce s vybranými obchodními partnery a makléřskými společnostmi. "]
[36]
[36,"Členství v asociacích a sdruženích"]
[36,"l","Člen České asociace pojišťoven a České kanceláře pojistitelů"]
[36]
[36,"Nabízené služby"]
[36,"l","Pojišťovna Wüstenrot se zaměřuje především na soukromé osoby, osoby samostatně výdělečně činné a malé a střední podnikatele. V poslední době významně rozšířila také nabídku pojištění pro bytová družstva, společenství vlastníků bytových jednotek a obce. Základ jejího portfolia tak tvoří pojištění majetku a odpovědnosti za škodu, která poskytují kvalitní pojistnou ochranu v oblasti bydlení a podnikání, pojištění motorových vozidel i samostatná pojištění úrazu a nemoci a cestovní pojištění. Díky úzké spolupráci s ostatními společnostmi Wüstenrot může klientovi nabídnout i další důležité  finanční služby - úvěry na financování bydlení, depozitní produkty a produkty životního pojištění pro finanční zajištění rodiny i jednotlivce, a to vše pod jednou střechou. "]
[36]
[36,"Ocenění"]
[36,"l","3. místo v kategorii Pojišťovny v anketě Zlatý měšec - Nejlepší finanční instituce (2010)"]
[36]
[36]
[36,"Bližší informace naleznete na www.wustenrot.cz"]
[36,"Datum poslední aktualizace: 20.9.2011"]
[37,"Wüstenrot - stavební spořitelna a.s."]
[37]
[37]
[37,"Vlastnická struktura"]
[37,"l","Wüstenrot - stavební spořitelna a.s. je dceřinou společností německého finančního koncernu Wüstenrot&Württembergische AG ( 55,92 % ) a rakouského Wüstenrotu (43,50 %)"]
[37,"l","V České republice je Wüstenrot - stavební spořitelna a.s. součástí finanční skupiny Wüstenrot, sdružení, které spolu s ní tvoří další tři společnosti - Wüstenrot hypoteční banka, a.s., Wüstenrot, životní pojišťovna, a.s. a Wüstenrot pojišťovna a.s."]
[37,"l","Základní jmění činí 1 070 364 160 Kč."]
[37]
[37,"Postavení na trhu, historie její působnost"]
[37,"l","Na český trh vstoupila v roce 1993 a během svého působení v České republice získala důvěru statisíců klientů."]
[37,"l","Německý a rakouský Wüstenrot jsou prostřednictvím vlastních dceřiných společností, poboček a kapitálových účastí zastoupeny v mnoha zemích. Mezi jejich nejvýznamnější dceřiné společnosti patří stavební spořitelny, které jsou kromě Česka  také v Lucembursku, na Slovensku, v Maďarsku a v Chorvatsku."]
[37,"l","V České republice má Wüstenrot - stavební spořitelna a.s. rozsáhlou obchodní síť, jejíž základ tvoří 8 regionálních a na 60 oblastních center, a disponuje širokou sítí vlastních poradců, obchodní činnost realizuje také formou spolupráce s vybranými obchodními partnery, makléřskými společnostmi a bankami."]
[37]
[37,"Členství v asociacích a sdruženích"]
[37,"l","Člen Asociace českých stavebních spořitelen a Bankovní asociace"]
[37]
[37,"Nabízené služby"]
[37,"l","Podle zákona o stavebním spoření je předmětem její činnosti stavební spoření, tj. přijímání vkladů a poskytování úvěrů na bytové potřeby. Kromě financování bydlení fyzických osob spořitelna úspěšně poskytuje úvěry právnickým osobám - bytovým družstvům a společenství vlastníků na rekonstrukce bytových domů. Díky spolupráci  v rámci skupiny Wüstenrot nabízí klientům další důležité finanční služby jak na financování bydlení, tak na zabezpečení rodiny, jednotlivce a majetku pod jednou střechou."]
[37]
[37,"Ocenění"]
[37,"l","Soutěž o nejlepší finanční produkt Zlatá koruna"]
[37,null,"1. místo v kategorii Stavební spoření  - úvěrový program  REVIT plus (2007)"]
[37,null,"3. místo v kategorii Stavební spoření  - překlenovací úvěr DRUŽSTEVNÍ BYT (2007)"]
[37,null,"3. místo v kategorii Stavební spoření  - překlenovací úvěr DRUŽSTEVNÍ BYT (2009)"]
[37,null,"2. místo v kategorii Stavební spoření - spoření KAMARÁD+ (2010)"]
[37,null,"3. místo v kategorii Novinka roku -  spoření KAMARÁD+ (2010)"]
[37,null,"1. místo v kategorii Stavební spoření -  spoření KAMARÁD+ (2011)"]
[37]
[37,"l","Soutěž Fincentrum Banka roku"]
[37,null,"3. místo v kategorii Stavební spořitelna roku  (2009)"]
[37]
[37,"Bližší informace naleznete na www.wustenrot.cz"]
[37,"Datum poslední aktualizace: 20.9.2011"]
[38,"Wüstenrot, životní pojišťovna, a.s."]
[38]
[38]
[38,"Vlastnická struktura"]
[38,"l","Wüstenrot, životní pojišťovna, a.s. je dceřinou společností německého finančního koncernu Wüstenrot&Württmbergische AG (74 %) a rakouské pojišťovny Wüstenrot Versicherungs-AG (26%)"]
[38,"l","V České republice je Wüstenrot, životní pojišťovna a.s. součástí finanční skupiny Wüstenrot, sdružení, které spolu s ní tvoří další tři společnosti - Wüstenrot - stavební spořitelna, a.s., Wüstenrot hypoteční banka a.s. a Wüstenrot pojišťovna a.s."]
[38,"l","Základní kapitál činí 100 mil. Kč."]
[38]
[38]
[38,"Postavení na trhu, historie její působnost"]
[38,"l","Wüstenrot, životní pojišťovna, a.s. zahájila svou činnost v roce 1999 jako druhá ze společností Wüstenrot působících v České republice."]
[38,"l","Mateřské společnosti pojišťovny - německý W&W a rakouský Wüstenrot jsou prostřednictvím vlastních dceřiných společností, poboček a kapitálových účastí zastoupeny v mnoha zemích. Mezi jejich nejvýznamnější dceřiné společnosti patří stavební spořitelny, které jsou kromě Česka také v Lucembursku, na Slovensku, v Maďarsku a v Chorvatsku."]
[38,"l","V České republice využívá Wüstenrot, životní pojišťovna, a.s. rozsáhlou obchodní síť Wüstenrotu, jejíž základ tvoří 8 regionálních a na 60 oblastních center, a disponuje širokou sítí vlastních poradců, obchodní činnost realizuje také formou spolupráce s vybranými obchodními partnery a makléřskými společnostmi. "]
[38]
[38]
[38,"Členství v asociacích a sdruženích"]
[38,"l","Člen České asociace pojišťoven"]
[38]
[38]
[38,"Nabízené služby"]
[38,"l","Portfolio pojišťovny tvoří produkty rizikového, kapitálového a investičního životního pojištění,  jejichž předností je vysoká variabilita poskytované pojistné ochrany. Všechna životní pojištění jsou založena na stavebnicovém systému. Základní pojištění tak lze podle potřeb klienta rozšířit o celou řadu připojištění, která klientovi zajišťují komplexní ochranu v případě úrazu a nemoci, invalidního důchodu či vážných onemocnění. Díky možnosti kdykoliv v průběhu pojištění libovolně měnit rozsah připojištění jsou pojistné produkty také velmi flexibilní. Díky úzké spolupráci s ostatními společnostmi Wüstenrot může klientovi nabídnout i další  finanční služby důležité pro financování bydlení, zabezpečení rodiny i jednotlivce a majetku pod jednou střechou."]
[38]
[38]
[38,"Bližší informace naleznete na www.wustenrot.cz"]
[38,"Datum poslední aktualizace: 20.9.2011"]
[40,"IAD Investments, správ. spol., a. s."]
[40]
[40]
[40,"Vlastnická struktura"]
[40,"l","IAD Investments je 100% dceřijnou společností Pro Partners Holding, a.s."]
[40,"l","Základní jmění společnosti je 2 058 400 EUR"]
[40,"l","Celková aktiva pod správou 72,78  mil. € (stav k 30. 6. 2011)."]
[40]
[40]
[40,"Postavení na trhu, historie její působnost"]
[40,"l","Společnosť byla založená v roce 1991 uvedením svého prvního podílového fondu 1. PF Slnko, který spravuje dodnes."]
[40,"l","Je nejstarší a největší slovenská nezávislá licencovaná finanční instituce, která svým klientům nabízí služby v oblasti kolektivního investování efektivní správy peněžních prostředků v středoevropském regionu. "]
[40,"l","Na  český trh vstoupila v roku 2009, kdy obdržela licenci ČNB. Rozšířila místní trh o nabídku speciálních fondů nemovitostí o Prvý realitný fond, š.p.f.. V současnosti společnost distribuuje tři podílové fondy v České republice."]
[40,"l","Spolupracuje s význačnými českými a slovenskými společnostmi finančního poradenství a mezinárodně uznávanými pojišťovnami."]
[40,"l","Do fondů společnosti investují klienti ze Slovenska, Čech a Slovinska, rovněž tak z Chorvatska, Bosny, Srbska, Rumunska a Bulharska."]
[40]
[40,"Členství v asociacích a sdruženích"]
[40,"l","Je členem Asociace pro kapitálový trh ČR a na Slovensku Slovenskej asociácie správcovských spoločností."]
[40]
[40]
[40,"Nabízené služby"]
[40,"l","V současnosti společnost spravuje šesť podílových fondů a jeden speciální podílový fond nemovitostí. Dále společnost nabízí programy pravidelného investování a individuální správu aktiv."]
[40,"l","V Českej republice distribuuje: \nPrvý realitný fond, š.p.f.,- speciální podílový fond nemovitostí, který ekonomickou krizi minulých let nejen překonal, ale dokonce významně vydělával. \nKD Prosperita, o.p.f., IAD - CEE smíšený podílový fond\nKD RUSSIA, o.p.f., IAD - akciový podílový fond"]
[40,"l","Prostřednictvím produktu IAD - ON LINE společnost umožňuje svým klientům ovládat své investice online, sledovať jejich aktuální zhodnocení, všechny pohyby a obchody."]
[40,"l","Společnost vyvíjí produkty tak, aby zůstaly zajímavé svou investiční strategií, vystihly nálady na finančních trzích a zohledňovali dlouhodobou stabilitu."]
[40]
[40]
[40,"Bližší informace naleznete na www.iadinvest.com nebo na bezplatní lince 800 127 000"]
[40,"Datum poslední aktualizace: 20.9.2011 "]
[48,"Penzijní fond Komerční banky, a.s."]
[48]
[48]
[48,"Vlastnická struktura"]
[48,"l","PF KB je 100% dceřinou společností Komerční banky, a.s., a patří do jedné z předních evropských finančních skupin Société Générale."]
[48,"l","Základní kapitál činí 200 milionů Kč."]
[48]
[48]
[48,"Postavení na trhu, historie její působnost"]
[48,"l","PF KB, působí na českém trhu od roku 1994.  Patří k největším a nejvýznamnějším penzijním fondům na trhu v České republice. V současné době je třetím největším fondem na trhu podle počtu účastníků a čvrtým v objemu spravovaného majetku."]
[48,"l","PF KB poskytuje své služby pro půl milionu klientů a spravuje majetek převyšující 30 mld. Kč. Objem majetku stále roste o 1 až 2 mld. Kč ročně."]
[48,"l","PF KB efektivně hospodaří se svěřenými prostředky svých klientů, přičemž se soustřeďuje na dlouhodobě stabilní zhodnocování peněz účastníků a řízení vlastních nákladů. Podmínka nezáporného zisku vede fond ke konzervativní investiční strategii. PF KB poskytuje profesionální úroveň služeb jak pro účastníky a zaměstnavatele, tak pro partnery z řad zprostředkovatelských společností."]
[48,"l","PF KB působí po celé ČR prostřednictvím široké sítě externích zprostředkovatelů, poboček mateřské KB nebo Modré pyramidy stavební spořitelny (MPSS)."]
[48]
[48]
[48,"Členství v asociacích a sdruženích"]
[48,"l","Člen Asociace penzijních fondů ČR"]
[48]
[48]
[48,"Nabízené služby"]
[48,"l","Produktem PF KB je penzijní připojištění se státním příspěvkem podle zákona č. 42/1994 Sb., o penzijním připojištění se státním příspěvkem. "]
[48]
[48]
[48,"Ocenění"]
[48,"l","Prestižní časopis World Finance  na základě rozhodnutí mezinárodní odborné poroty  vyhodnotil PF KB jako „Penzijní fond roku 2011 v České republice“. Porota ocenila především stabilitu fondu, konzervativní investiční strategii, finanční sílu fondu, dlouhodobé zaměření fondu na zvyšování spokojenosti účastníků a výborné výsledky v roce 2010. "]
[48]
[48,"Bližší informace naleznete na www.pfkb.cz"]
[48,"Datum poslední aktualizace: 20.9.2011 "]
[50,"D.A.S. pojišťovna právní ochrany, a.s."]
[50]
[50]
[50,"Vlastnická struktura"]
[50,"l","D.A.S. pojišťovna právní ochrany je součástí německého koncernu ERGO Versicherungsgruppe, jedné z kapitálově nejsilnějších pojišťovacích skupin na světě.  "]
[50,"l","D.A.S. pojišťovna právní ochrany, a.s. je jediná specializovaná pojišťovna svého druhu v České republice, která svým klientům nabízí výjimečný produkt  - pojištění právní ochrany."]
[50]
[50]
[50,"Postavení na trhu, historie její působnost"]
[50,"l","Na český trh vstoupila v roce 1995 a během svého působení v České republice se vypracovala mezi největší specialisty nabízející právní ochranu."]
[50,"l","V tuzemsku zabezpečuje právní pomoc klientům tým pracovníků s právním vzděláním a několik desítek spolupracujících advokátních kanceláří v celé ČR."]
[50,"l","D.A.S. je zastoupena  ve více než 16 zemích světa a svoje služby poskytuje více než 100 milionům klientů."]
[50]
[50]
[50,"Členství v asociacích a sdruženích"]
[50,"l","Člen České asociace pojišťoven"]
[50]
[50]
[50,"Nabízené služby"]
[50,"l","D.A.S. zajišťuje svým klientům kompletní právní servis (např. právní porady, úhradu nákladů advokáta, soudních poplatků, znaleckých posudků atd.), pojištění právní ochrany představuje pojistný produkt, jehož cílem je uchránit klienty před náklady způsobenými právním sporem, především soudním řízením."]
[50,"l","D.A.S. je pojišťovnou právní ochrany a jako taková poskytuje svým klientům především možnost, aby svá práva a právní zájmy hájili bez ohledu na možná finanční rizika. D.A.S. pomáhá pojištěným radou i skutkem v prosazování jejich právních zájmů vůči ekonomicky značně silnějším subjektům a přebírá všechny soudní výlohy."]
[50,"l","Právní ochrana vozidla, právní ochrana řidiče, právní ochrana rodiny, právní ochrana v případě úrazu, právní ochrana v pracovněprávním vztahu, právní ochrana nemovitosti, právní ochrana podnikatele, právní ochrana pro myslivce, právní ochrana sportovce, právní ochrana pro vzdělávací a výchovná zařízení (\"školy\")"]
[50]
[50]
[50,"Ocenění"]
[50,"l","Zlatá koruna"]
[50,null,"2. místo v kategorii Pojištění pro podnikatele (2011)"]
[50,null,"3. místo v kategorii Pojištění pro podnikatele (2010)"]
[50,null,"2. místo v kategorii Pojištění pro podnikatele (2009)"]
[50]
[50]
[50,"Bližší informace naleznete na www.das.cz"]
[50,"Datum poslední aktualizace: 20.9.2011"]

{"sheet":"ProtZjPot","index":13,"n_rows":87,"n_cols":47,"rows_kept":87,"cut":false,"hidden":false,"merged":[[7,15,7,28],[7,31,7,43],[7,46,7,58]]}
[]
[]
[]
[]
[]
[]
[]
[null,null,null,null,null,null,null,null,null,null,null,null,null,null,null,"Záznam  z jednání",null,null,null,null,null,null,null,null,null,null,null,null,null,null,null,"Příloha k záznamu z jednání",null,null,null,null,null,null,null,null,null,null,null,null,null,null,"Formulář pro zprostředkování"]
[]
[]
[]
[]
[]
[]
[]
[]
[]
[]
[]
[]
[]
[]
[]
[]
[]
[]
[]
[]
[]
[]
[]
[]
[]
[]
[]
[]
[]
[]
[]
[]
[]
[]
[]
[]
[]
[]
[]
[]
[]
[]
[]
[]
[]
[]
[]
[]
[]
[]
[]
[]
[]
[]
[]
[]
[]
[]
[]
[]
[]
[]
[]
[]
[]
[]
[]
[]
[]
[]
[]
[]
[]
[]
[]
[]
[]
[]
[null,null,null,null,null,null,null,null,null,null,null,null,null,null,null,null,null,null,"LZE POUZE GENEROVAT PDF"]

{"sheet":"Pouceni","index":14,"n_rows":46,"n_cols":92,"rows_kept":46,"cut":false,"hidden":false,"merged":[[36,31,36,100],[37,31,37,100],[43,91,43,100],[34,31,34,100],[35,31,35,100],[16,69,16,78],[28,31,28,100],[29,31,29,100],[30,31,30,100],[31,31,31,100],[22,31,22,100],[23,31,23,100],[24,31,24,100],[25,31,25,100],[26,31,26,100],[27,31,27,100],[21,31,21,100]]}
[]
[]
[]
[]
[]
[]
[null,null,null,null,1]
[null,null,null,null,8]
[]
[]
[]
[null,null,null,null,null,null,null,null,null,null,null,null,null,null,null,null,null,null,null,null,null,null,null,null,null,null,null,null,null,null,null,"PRÁVNÍ POUČENÍ"]
[null,null,null,null,2]
[null,null,null,null,null,null,null,null,null,null,null,null,null,null,null,null,null,null,null,null,null,null,null,null,null,null,null,null,null,null,null,"OVB Allfinanz, a.s., Baarova 1026/2, 140 00 Praha 4 , IČ: 48040410, zapsaná v OR vedeném MS v Praze, oddíl B, vložka č. 9697"]
[]
[null,null,null,null,null,null,null,null,null,null,null,null,null,null,null,null,null,null,null,null,null,null,null,null,null,null,null,null,null,null,null,"Klient"]
[null,null,null,null,null,null,null,null,null,null,null,null,null,null,null,null,null,null,null,null,null,null,null,null,null,null,null,null,null,null,null,"Jméno a příjmení:",null,null,null,null,null,null,null,null,{"$f":"Vstupy!AF9 & \" \" &Vstupy!AI10","v":" "},null,null,null,null,null,null,null,null,null,null,null,null,null,null,null,null,null,null,null,null,null,null,null,null,null,null,"RČ:",null,{"$f":"Vstupy!AF15","v":0}]
[null,null,null,null,null,null,null,null,null,null,null,null,null,null,null,null,null,null,null,null,null,null,null,null,null,null,null,null,null,null,null,"Bydliště:",null,null,null,null,null,null,null,null,{"$f":"Vstupy!AI25 & \", \" & Vstupy!AV25 & \" \" & Vstupy!BB25","v":",  "}]
[]
[]
[]
[null,null,null,null,null,null,null,null,null,null,null,null,null,null,null,null,null,null,null,null,null,null,null,null,null,null,null,null,null,null,null,"Právní poučení"]
[null,null,null,null,null,null,null,null,null,null,null,null,null,null,null,null,null,null,null,null,null,null,null,null,null,null,null,null,null,null,null,"OVB Allfinanz, a.s. je dle zák. č. 38/2004 Sb., zákona o pojišťovacích zprostředkovatelích a samostatných likvidátorech pojistných událostí oprávněna provozovat zprostředkovatelskou činnost na území České republiky jako pojišťovací agent. Společnost OVB Allfinanz, a.s. je Investičním zprostředkovatelem, který může vykonávat investiční službu přijímání a předávání pokynů týkajících se investičních nástrojů. "]
[null,null,null,null,null,null,null,null,null,null,null,null,null,null,null,null,null,null,null,null,null,null,null,null,null,null,null,null,null,null,null,"Dle §21/1 ZoPZ platí, že podřízený pojišťovací zprostředkovatel klientovi na jeho žádost sdělil způsob svého odměňování."]
[null,null,null,null,null,null,null,null,null,null,null,null,null,null,null,null,null,null,null,null,null,null,null,null,null,null,null,null,null,null,null,"V souladu s §21/6 ZoPZ klient svým podpisem níže potvrzuje, že byl informován, že podřízený pojišťovací zprostředkovatel vykonává zprostředkování pojištění pro více pojišťoven a na žádost klienta je podřízený pojišťovací zprostředkovatel povinen mu je sdělit."]
[null,null,null,null,null,null,null,null,null,null,null,null,null,null,null,null,null,null,null,null,null,null,null,null,null,null,null,null,null,null,null,"V rámci oblasti pojištění neprovádí analýzu dle § 21/7 ZoPZ, protože každý podřízený pojišťovací zprostředkovatel vybírá z aktuálního produktového portfolia, které je dostupné on-line na webových stránkách společnosti www.ovb.cz ."]
[null,null,null,null,null,null,null,null,null,null,null,null,null,null,null,null,null,null,null,null,null,null,null,null,null,null,null,null,null,null,null,"Klient svým podpisem níže stvrzuje také, že podřízený pojišťovací zprostředkovatel jej informoval, že nesmí poskytovat neúplné, nepřesné a nejasné údaje, zamlčet údaje o charakteru a vlastnostech poskytovaných služeb."]
[null,null,null,null,null,null,null,null,null,null,null,null,null,null,null,null,null,null,null,null,null,null,null,null,null,null,null,null,null,null,null,"V souladu s charakterem právních předpisů byl klient informován také o skutečnosti, že má právo požadovat předložení osvědčení o zápisu do registru PPZ či o osvědčení o zápisu do seznamu vázaných zástupců a také byl informován, jak si tyto údaje může prostřednictvím webové stránky České národní banky ověřit. Klient obdržel také podrobný návod o tom, jak může v budoucnu podat stížnost či reklamaci týkající se zprostředkovaného produktu."]
[null,null,null,null,null,null,null,null,null,null,null,null,null,null,null,null,null,null,null,null,null,null,null,null,null,null,null,null,null,null,null,"V oblasti investic neprovádí vázaný zástupce investiční poradenství, pouze zprostředkovává příslušné produkty, které jsou v produktovém portfoliu OVB Allfinanz,a.s."]
[null,null,null,null,null,null,null,null,null,null,null,null,null,null,null,null,null,null,null,null,null,null,null,null,null,null,null,null,null,null,null,"Pro oblast spotřebních úvěrů jsou veškeré důležité informace obsaženy ve smluvní dokumentaci příslušné partnerské společnosti.  Podle §17/1 ZoSÚ tímto zprostředkovatel klienta informuje, že je oprávněn spolupracovat s vícero věřiteli, výčet konkrétních institucí, s nimiž spolupracuje je k dispozici vždy v aktuální podobně na www.ovb.cz.. Klient svým podpisem níže na tomto formuláři potvrzuje, že zprostředkovatel jej seznámil s právním vztahem, který má s vícero věřiteli."]
[null,null,null,null,null,null,null,null,null,null,null,null,null,null,null,null,null,null,null,null,null,null,null,null,null,null,null,null,null,null,null,"Pro oblast penzijního připojištění je klient informován, že veškeré důležité informace týkající se penzijního fondu a zprostředkovatele jsou uvedeny na Infolistu příslušného penzijního fondu, který klient podepisuje při zprostředkování penzijního připojištění se státním příspěvkem."]
[]
[]
[]
[]
[]
[]
[]
[]
[]
[]
[null,null,null,null,null,null,null,null,null,null,null,null,null,null,null,null,null,null,null,null,null,null,null,null,null,null,null,null,null,null,null,"Podpis klienta / partnera",null,null,null,null,null,null,null,null,null,null,null,null,null,null,null,null,null,null,null,null,null,null,null,null,null,null,null,null,null,null,null,null,null,null,null,null,"V",null,null,null,null,null,null,null,null,null,null,null,null,null,null,null,null,null,"Dne"]
[]
[null,null,null,null,null,null,null,null,null,null,null,null,null,null,null,null,null,null,null,null,null,null,null,null,null,null,null,null,null,null,null,"Jméno, příjmení vázaného zástupce:",null,null,null,null,null,null,null,null,null,null,null,null,null,null,null,{"$f":"Oblasti!N9","v":0},null,null,null,null,null,null,null,null,null,null,null,null,null,null,null,null,null,null,null,null,null,null,null,null,null,null,null,null,null,null,null,null,null,null,null,null,null,"Osobní číslo:",null,null,null,null,null,{"$f":"Oblasti!N10","v":0}]
[]
[null,null,null,null,null,null,null,null,null,null,null,null,null,null,null,null,null,null,null,null,null,null,null,null,null,null,null,null,null,null,null,"Podpis vázaného zástupce:",null,null,null,null,null,null,null,null,null,null,null,null,null,null,null,null,null,null,null,null,null,null,null,null,null,null,null,null,null,null,null,null,null,null,null,null,"V",null,null,null,null,null,null,null,null,null,null,null,null,null,null,null,null,null,"Dne"]

{"sheet":"Vypocty0","index":15,"n_rows":118,"n_cols":43,"rows_kept":118,"cut":false,"hidden":false,"merged":[[25,42,25,44],[48,42,48,44],[25,33,25,35],[25,37,25,39],[48,29,48,31],[48,33,48,35],[48,37,48,39],[37,37,37,39],[38,29,38,31],[38,33,38,35],[38,37,38,39],[39,29,39,31],[39,33,39,35],[39,37,39,39],[40,37,40,39],[41,29,41,31],[5,0,5,7],[6,0,6,7],[51,0,51,7],[31,32,31,35],[32,0,32,7],[32,24,32,26],[33,0,33,7],[48,5,48,6],[50,0,50,7],[31,0,31,7],[31,24,31,26],[36,19,36,21],[36,25,36,27],[37,29,37,31],[37,33,37,35],[40,29,40,31],[6,24,6,26],[6,32,6,35],[7,0,7,7],[7,24,7,26],[30,0,30,7],[23,29,23,31],[23,33,23,35],[19,29,19,31],[19,33,19,35],[15,29,15,31],[15,33,15,35],[8,0,8,7],[23,5,23,6],[25,0,25,7],[26,0,26,7],[25,29,25,31],[23,37,23,39],[24,29,24,31],[24,33,24,35],[24,37,24,39],[21,29,21,31],[21,33,21,35],[21,37,21,39],[22,29,22,31],[22,33,22,35],[22,37,22,39],[19,37,19,39],[20,29,20,31],[20,33,20,35],[20,37,20,39],[17,29,17,31],[17,33,17,35],[17,37,17,39],[18,29,18,31],[18,33,18,35],[18,37,18,39],[15,37,15,39],[16,29,16,31],[16,33,16,35],[16,37,16,39],[13,19,13,21],[13,25,13,27],[14,29,14,31],[14,33,14,35],[14,37,14,39],[40,33,40,35],[43,33,43,35],[43,37,43,39],[44,29,44,31],[44,33,44,35],[44,37,44,39],[43,29,43,31],[41,33,41,35],[41,37,41,39],[42,29,42,31],[42,33,42,35],[42,37,42,39],[47,29,47,31],[47,33,47,35],[47,37,47,39],[45,29,45,31],[45,33,45,35],[45,37,45,39],[46,29,46,31],[46,33,46,35],[46,37,46,39]]}
[]
[]
[null,null,null,null,null,null,null,null,null,null,null,null,"osoba 1"]
[]
[null,null,null,null,null,null,null,null,null,null,null,null,"Nemocenská r. 2011"]
["Výpočet výše nemocenského - sociálka"]
["podle zákona č. 187/2006 Sb.",null,null,null,null,null,null,null,null,null,null,null,"Průměrný hrubý měsíční příjem",null,null,null,null,null,null,null,null,null,null,null,{"$f":"Vstupy!AF12","v":0},null,null,null,null,null,null,null,"zdroj: MPSV"]
["při vzniku dočasné pracovní neschopnosti (karantény) v roce 2012",null,null,null,null,null,null,null,null,null,null,null,"Výše nemocenské na 1 kalendářní den",null,null,null,null,null,null,null,null,null,null,null,{"$f":"I25","v":0}]
["vložte údaje do zelených políček"]
["Počet  kalendářních dnů pracovní neschopnosti1)",null,null,null,null,null,{"$f":"MIN(MAX(0,ROUND(H10,0)),380-14)","v":30},30]
["Vyměřovací základ",null,null,null,"denní  = D   nebo měsíční = M  ","m",null,{"$f":"Y7","v":0}]
["Denní vyměřovací základ pro nemocenské (DVZ ) neredukovaný",null,null,null,null,null,null,{"$f":"ROUND(IF(F11=\"D\",H11,H11*12/365),2)","v":0},null,null,null,null,"Podpora v nezaměstnanosti r. 2011"]
["orientačně odpovídá průměrnému měsíčnímu příjmu cca",null,null,null,null,null,null,{"$f":"H12*365/12","v":0}]
[null,null,null,null,null,null,null,null,null,null,null,null,"Průměrný čistý příjem",null,null,null,null,null,null,{"$f":"Vstupy!AF13","v":0},null,null,null,null,null,"výplata",null,null,null,"do 50 let",null,null,null,"50 - 55 let",null,null,null,"nad 55 let"]
["Počet kalendářních dnů pro náhradu mzdy  ",null,null,null,null,null,null,{"$f":"MIN($G$5,21)","v":21},null,null,null,null,null,null,null,null,null,null,null,null,null,null,null,null,null,null,null,"1. měsíc",null,{"$f":"MIN(13761,0.65*$T$14)","v":0},null,null,null,{"$f":"MIN(13761,0.65*$T$14)","v":0},null,null,null,{"$f":"MIN(13761,0.65*$T$14)","v":0}]
[null,null,null,null,null,null,null,null,null,null,null,null,null,null,null,null,null,null,null,null,null,null,null,null,null,null,null,"2. měsíc",null,{"$f":"MIN(13761,0.65*$T$14)","v":0},null,null,null,{"$f":"MIN(13761,0.65*$T$14)","v":0},null,null,null,{"$f":"MIN(13761,0.65*$T$14)","v":0}]
["Počet kalendářních dnů nemocenského od 22. dne PN",null,null,null,null,null,null,{"$f":"MAX(G10-21,0)","v":9},null,null,null,null,null,null,null,null,null,null,null,null,null,null,null,null,null,null,null,"3. měsíc",null,{"$f":"MIN(13761,0.5*$T$14)","v":0},null,null,null,{"$f":"MIN(13761,0.5*$T$14)","v":0},null,null,null,{"$f":"MIN(13761,0.5*$T$14)","v":0}]
["Redukce DVZ",null,null,null,null,null,null,null,null,null,null,null,null,null,null,null,null,null,null,null,null,null,null,null,null,null,null,"4. měsíc",null,{"$f":"MIN(13761,0.5*$T$14)","v":0},null,null,null,{"$f":"MIN(13761,0.5*$T$14)","v":0},null,null,null,{"$f":"MIN(13761,0.5*$T$14)","v":0}]
[null,null,"do",838,"redukce na",0.9,"tj. na",{"$f":"ROUND(F19*MIN(H12,D19),2)","v":0},null,null,null,null,null,null,null,null,null,null,null,null,null,null,null,null,null,null,null,"5. měsíc",null,{"$f":"MIN(13761,0.45*$T$14)","v":0},null,null,null,{"$f":"MIN(13761,0.45*$T$14)","v":0},null,null,null,{"$f":"MIN(13761,0.45*$T$14)","v":0}]
["nad",{"$f":"+D19","v":838},"do",1257,"redukce na",0.6,"tj. na",{"$f":"ROUND(F20*IF(H12>B20,MIN(H12,B21)-B20,0),2)","v":0},null,null,null,null,null,null,null,null,null,null,null,null,null,null,null,null,null,null,null,"6. měsíc",null,null,null,null,null,{"$f":"MIN(13761,0.45*$T$14)","v":0},null,null,null,0]
["nad",{"$f":"+D20","v":1257},"do ",2514,"redukce na",0.3,"tj. na",{"$f":"ROUND(F21*IF(H12>B21,MIN(H12,B22)-B21,0),2)","v":0},null,null,null,null,null,null,null,null,null,null,null,null,null,null,null,null,null,null,null,"7. měsíc",null,null,null,null,null,{"$f":"MIN(13761,0.45*$T$14)","v":0},null,null,null,0]
["nad",{"$f":"+D21","v":2514},"nezohledňuje se",null,null,null,null,null,null,null,null,null,null,null,null,null,null,null,null,null,null,null,null,null,null,null,null,"8. měsíc",null,null,null,null,null,{"$f":"MIN(13761,0.45*$T$14)","v":0},null,null,null,0]
[null,null,null,null,null,"Redukovaný DVZ",null,{"$f":"ROUNDUP(+H19+H20+H21,0)","v":0},null,null,null,null,null,null,null,null,null,null,null,null,null,null,null,null,null,null,null,"9. měsíc",null,null,null,null,null,null,null,null,null,0]
["Nemocenské od 22. dne",null,null,0.6,{"$f":"\"z  \"&TEXT($H$18,\"# ###\")","v":"z  "},{"$f":"\"tj. \"&CEILING($H$18*$D$19,1)&\" x \"&H17&G25","v":"tj. 0 x 9 dnů ="},null,{"$f":"CEILING(H23*D24,1)*H17","v":0},null,null,null,null,null,null,null,null,null,null,null,null,null,null,null,null,null,null,null,"10. měsíc",null,null,null,null,null,null,null,null,null,0]
[null,"NEMOCENSKÉ celkem",null,null,null,null,{"$f":"IF(H17=1,\" den =\",IF(AND(H17<5,H17>0),\" dny =\",\" dnů =\"))","v":" dnů ="},{"$f":"H24","v":0},{"$f":"H25/H17","v":0},null,null,null,null,null,null,null,null,null,null,null,null,null,null,null,null,null,null,"11. měsíc",null,null,null,null,null,null,null,null,null,0]
["1) počet kalendářních dnů od 1. dne pracovní neschopnosti.",null,null,null,null,null,null,null,null,null,null,null,null,null,null,null,null,null,null,null,null,null,null,null,null,null,null,null,null,{"$f":"SUM(AD15:AF25)/COUNTIF(AD15:AF25,\">0\")","v":{"$error":"#DIV/0!"}},null,null,null,{"$f":"SUM(AH15:AJ25)/COUNTIF(AH15:AJ25,\">0\")","v":{"$error":"#DIV/0!"}},null,null,null,{"$f":"SUM(AL15:AN25)/COUNTIF(AL15:AN25,\">0\")","v":{"$error":"#DIV/0!"}},null,null,null,null,{"$f":"SUM(AD26:AP26)/3","v":{"$error":"#DIV/0!"}}]
["DVZ je průměr započitatelných příjmů připadajících na jeden kalendářní den v tzv. rozhodném období, což je  doba zpravidla 12 kalendářních měsíců před měsícem, v němž vznikla dočasná pracovní neschopnost či jiná sociální událost."]
[]
[null,null,null,null,null,null,null,null,null,null,null,null,"osoba 2"]
[null,null,null,null,null,null,null,null,null,null,null,null,"Nemocenská r. 2011"]
["Výpočet výše nemocenského - sociálka"]
["podle zákona č. 187/2006 Sb.",null,null,null,null,null,null,null,null,null,null,null,"Průměrný hrubý měsíční příjem",null,null,null,null,null,null,null,null,null,null,null,{"$f":"Vstupy!AQ12","v":0},null,null,null,null,null,null,null,"zdroj: MPSV"]
["při vzniku dočasné pracovní neschopnosti (karantény) v roce 2012",null,null,null,null,null,null,null,null,null,null,null,"Výše nemocenské na 1 kalendářní den",null,null,null,null,null,null,null,null,null,null,null,{"$f":"I50","v":0}]
["vložte údaje do zelených políček"]
["Počet  kalendářních dnů pracovní neschopnosti1)",null,null,null,null,null,{"$f":"MIN(MAX(0,ROUND(H35,0)),380-14)","v":30},30,null,null,null,null,"Podpora v nezaměstnanosti r. 2011"]
["Vyměřovací základ",null,null,null,"denní  = D   nebo měsíční = M  ","m",null,{"$f":"Y32","v":0}]
["Denní vyměřovací základ pro nemocenské (DVZ ) neredukovaný",null,null,null,null,null,null,{"$f":"ROUND(IF(F36=\"D\",H36,H36*12/365),2)","v":0},null,null,null,null,"Průměrný čistý příjem",null,null,null,null,null,null,{"$f":"Vstupy!AQ13","v":0},null,null,null,null,null,"výplata",null,null,null,"do 50 let",null,null,null,"50 - 55 let",null,null,null,"nad 55 let"]
["orientačně odpovídá průměrnému měsíčnímu příjmu cca",null,null,null,null,null,null,{"$f":"H37*365/12","v":0},null,null,null,null,null,null,null,null,null,null,null,null,null,null,null,null,null,null,null,"1. měsíc",null,{"$f":"MIN(13761,0.65*$T$37)","v":0},null,null,null,{"$f":"MIN(13761,0.65*$T$37)","v":0},null,null,null,{"$f":"MIN(13761,0.65*$T$37)","v":0}]
[null,null,null,null,null,null,null,null,null,null,null,null,null,null,null,null,null,null,null,null,null,null,null,null,null,null,null,"2. měsíc",null,{"$f":"MIN(13761,0.65*$T$37)","v":0},null,null,null,{"$f":"MIN(13761,0.65*$T$37)","v":0},null,null,null,{"$f":"MIN(13761,0.65*$T$37)","v":0}]
["Počet kalendářních dnů pro náhradu mzdy  ",null,null,null,null,null,null,{"$f":"MIN($G$5,21)","v":21},null,null,null,null,null,null,null,null,null,null,null,null,null,null,null,null,null,null,null,"3. měsíc",null,{"$f":"MIN(13761,0.5*$T$37)","v":0},null,null,null,{"$f":"MIN(13761,0.5*$T$37)","v":0},null,null,null,{"$f":"MIN(13761,0.5*$T$37)","v":0}]
[null,null,null,null,null,null,null,null,null,null,null,null,null,null,null,null,null,null,null,null,null,null,null,null,null,null,null,"4. měsíc",null,{"$f":"MIN(13761,0.5*$T$37)","v":0},null,null,null,{"$f":"MIN(13761,0.5*$T$37)","v":0},null,null,null,{"$f":"MIN(13761,0.5*$T$37)","v":0}]
["Počet kalendářních dnů nemocenského od 22. dne PN",null,null,null,null,null,null,{"$f":"MAX(G35-21,0)","v":9},null,null,null,null,null,null,null,null,null,null,null,null,null,null,null,null,null,null,null,"5. měsíc",null,{"$f":"MIN(13761,0.45*$T$37)","v":0},null,null,null,{"$f":"MIN(13761,0.45*$T$37)","v":0},null,null,null,{"$f":"MIN(13761,0.45*$T$37)","v":0}]
["Redukce DVZ",null,null,null,null,null,null,null,null,null,null,null,null,null,null,null,null,null,null,null,null,null,null,null,null,null,null,"6. měsíc",null,null,null,null,null,{"$f":"MIN(13761,0.45*$T$37)","v":0},null,null,null,0]
[null,null,"do",838,"redukce na",0.9,"tj. na",{"$f":"ROUND(F44*MIN(H37,D44),2)","v":0},null,null,null,null,null,null,null,null,null,null,null,null,null,null,null,null,null,null,null,"7. měsíc",null,null,null,null,null,{"$f":"MIN(13761,0.45*$T$37)","v":0},null,null,null,0]
["nad",{"$f":"+D44","v":838},"do",1257,"redukce na",0.6,"tj. na",{"$f":"ROUND(F45*IF(H37>B45,MIN(H37,B46)-B45,0),2)","v":0},null,null,null,null,null,null,null,null,null,null,null,null,null,null,null,null,null,null,null,"8. měsíc",null,null,null,null,null,{"$f":"MIN(13761,0.45*$T$37)","v":0},null,null,null,0]
["nad",{"$f":"+D45","v":1257},"do ",2514,"redukce na",0.3,"tj. na",{"$f":"ROUND(F46*IF(H37>B46,MIN(H37,B47)-B46,0),2)","v":0},null,null,null,null,null,null,null,null,null,null,null,null,null,null,null,null,null,null,null,"9. měsíc",null,null,null,null,null,null,null,null,null,0]
["nad",{"$f":"+D46","v":2514},"nezohledňuje se",null,null,null,null,null,null,null,null,null,null,null,null,null,null,null,null,null,null,null,null,null,null,null,null,"10. měsíc",null,null,null,null,null,null,null,null,null,0]
[null,null,null,null,null,"Redukovaný DVZ",null,{"$f":"ROUNDUP(+H44+H45+H46,0)","v":0},null,null,null,null,null,null,null,null,null,null,null,null,null,null,null,null,null,null,null,"11. měsíc",null,null,null,null,null,null,null,null,null,0]
["Nemocenské od 22. dne",null,null,0.6,{"$f":"\"z  \"&TEXT($H$18,\"# ###\")","v":"z  "},{"$f":"\"tj. \"&CEILING($H$18*$D$19,1)&\" x \"&H42&G50","v":"tj. 0 x 9 dnů ="},null,{"$f":"CEILING(H48*D49,1)*H42","v":0},null,null,null,null,null,null,null,null,null,null,null,null,null,null,null,null,null,null,null,null,null,{"$f":"SUM(AD38:AF48)/COUNTIF(AD38:AF48,\">0\")","v":{"$error":"#DIV/0!"}},null,null,null,{"$f":"SUM(AH38:AJ48)/COUNTIF(AH38:AJ48,\">0\")","v":{"$error":"#DIV/0!"}},null,null,null,{"$f":"SUM(AL38:AN48)/COUNTIF(AL38:AN48,\">0\")","v":{"$error":"#DIV/0!"}},null,null,null,null,{"$f":"SUM(AD49:AP49)/3","v":{"$error":"#DIV/0!"}}]
[null,"NEMOCENSKÉ celkem",null,null,null,null,{"$f":"IF(H42=1,\" den =\",IF(AND(H42<5,H42>0),\" dny =\",\" dnů =\"))","v":" dnů ="},{"$f":"H49","v":0},{"$f":"H50/H42","v":0}]
["1) počet kalendářních dnů od 1. dne pracovní neschopnosti."]
["DVZ je průměr započitatelných příjmů připadajících na jeden kalendářní den v tzv. rozhodném období, což je  doba zpravidla 12 kalendářních měsíců před měsícem, v němž vznikla dočasná pracovní neschopnost či jiná sociální událost."]
[]
[]
[]
[]
["narození",{"$f":"Vypocty1!AK10","v":"1980-05-10"},{"$f":"IF(YEAR(B57)>1977,1978,YEAR(B57))","v":1978}]
["žena",{"$f":"Vypocty1!AK11","v":"ne"}]
["děti",{"$f":"Vypocty1!AK12","v":0}]
[]
[null,null,{"$f":"IF(B58=\"ne\",D70,IF(B59=0,G70,IF(B59=1,J70,IF(B59=2,M70,IF(B59>4,S70,P70)))))","v":32}]
[null,null,{"$f":"IF(B58=\"ne\",D71,IF(B59=0,G71,IF(B59=1,J71,IF(B59=2,M71,IF(B59>4,S71,P71)))))","v":67}]
[null,null,{"$f":"IF(B58=\"ne\",D72,IF(B59=0,G72,IF(B59=1,J72,IF(B59=2,M72,IF(B59>4,S72,P72)))))","v":"2047-11-10"}]
[]
[]
[]
[]
[]
[null,"muž",null,null,"žena",null,null,"žena",null,null,"žena",null,null,"žena",null,null,"žena"]
[null,"rok","měsíc",{"$f":"YEAR(D72)-YEAR(NOW())","v":32},"rok","měsíc",{"$f":"YEAR(G72)-YEAR(NOW())","v":32},"rok","měsíc",{"$f":"YEAR(J72)-YEAR(NOW())","v":32},"rok","měsíc",{"$f":"YEAR(M72)-YEAR(NOW())","v":32},"rok","měsíc",{"$f":"YEAR(P72)-YEAR(NOW())","v":32},"rok","měsíc",{"$f":"YEAR(S72)-YEAR(NOW())","v":32}]
[null,null,null,{"$f":"YEAR(D72)-YEAR($B57)","v":67},0,0,{"$f":"YEAR(G72)-YEAR($B57)","v":67},1,1,{"$f":"YEAR(J72)-YEAR($B57)","v":67},2,2,{"$f":"YEAR(M72)-YEAR($B57)","v":67},3,4,{"$f":"YEAR(P72)-YEAR($B57)","v":67},5,5,{"$f":"YEAR(S72)-YEAR($B57)","v":67}]
[null,null,{"$f":"VLOOKUP($C57,$A73:$S115,4,FALSE)","v":810},{"$f":"EDATE($B57,C72)","v":"2047-11-10"},null,{"$f":"VLOOKUP($C57,$A73:$S115,7,FALSE)","v":810},{"$f":"EDATE($B57,F72)","v":"2047-11-10"},null,{"$f":"VLOOKUP($C57,$A73:$S115,10,FALSE)","v":810},{"$f":"EDATE($B57,I72)","v":"2047-11-10"},null,{"$f":"VLOOKUP($C57,$A73:$S115,13,FALSE)","v":810},{"$f":"EDATE($B57,L72)","v":"2047-11-10"},null,{"$f":"VLOOKUP($C57,$A73:$S115,16,FALSE)","v":810},{"$f":"EDATE($B57,O72)","v":"2047-11-10"},null,{"$f":"VLOOKUP($C57,$A73:$S115,19,FALSE)","v":810},{"$f":"EDATE($B57,R72)","v":"2047-11-10"}]
[1936,60,2,{"$f":"12*B73+C73","v":722},57,0,{"$f":"12*E73+F73","v":684},56,0,{"$f":"12*H73+I73","v":672},55,0,{"$f":"12*K73+L73","v":660},54,0,{"$f":"12*N73+O73","v":648},53,0,{"$f":"12*Q73+R73","v":636}]
[1937,60,4,{"$f":"12*B74+C74","v":724},57,0,{"$f":"12*E74+F74","v":684},56,0,{"$f":"12*H74+I74","v":672},55,0,{"$f":"12*K74+L74","v":660},54,0,{"$f":"12*N74+O74","v":648},53,0,{"$f":"12*Q74+R74","v":636}]
[1938,60,6,726,57,0,684,56,0,672,55,0,660,54,0,648,53,0,636]
[1939,60,8,728,57,4,688,56,0,672,55,0,660,54,0,648,53,0,636]
[1940,60,10,730,57,8,692,56,4,676,55,0,660,54,0,648,53,0,636]
[1941,61,0,732,58,0,696,56,8,680,55,4,664,54,0,648,53,0,636]
[1942,61,2,734,58,4,700,57,0,684,55,8,668,54,4,652,53,0,636]
[1943,61,4,736,58,8,704,57,4,688,56,0,672,54,8,656,53,4,640]
[1944,61,6,738,59,0,708,57,8,692,56,4,676,55,0,660,53,8,644]
[1945,61,8,740,59,4,712,58,0,696,56,8,680,55,4,664,54,0,648]
[1946,61,10,742,59,8,716,58,4,700,57,0,684,55,8,668,54,4,652]
[1947,62,0,744,60,0,720,58,8,704,57,4,688,56,0,672,54,8,656]
[1948,62,2,746,60,4,724,59,0,708,57,8,692,56,4,676,55,0,660]
[1949,62,4,748,60,8,728,59,4,712,58,0,696,56,8,680,55,4,664]
[1950,62,6,750,61,0,732,59,8,716,58,4,700,57,0,684,55,8,668]
[1951,62,8,752,61,4,736,60,0,720,58,8,704,57,4,688,56,0,672]
[1952,62,10,754,61,8,740,60,4,724,59,0,708,57,8,692,56,4,676]
[1953,63,0,756,62,0,744,60,8,728,59,4,712,58,0,696,56,8,680]
[1954,63,2,758,62,4,748,61,0,732,59,8,716,58,4,700,57,0,684]
[1955,63,4,760,62,8,752,61,4,736,60,0,720,58,8,704,57,4,688]
[1956,63,6,762,63,2,758,61,8,740,60,4,724,59,0,708,57,8,692]
[1957,63,8,764,63,8,764,62,2,746,60,8,728,59,4,712,58,0,696]
[1958,63,10,766,63,10,766,62,8,752,61,2,734,59,8,716,58,4,700]
[1959,64,0,768,64,0,768,63,2,758,61,8,740,60,2,722,58,8,704]
[1960,64,2,770,64,2,770,63,8,764,62,2,746,60,8,728,59,2,710]
[1961,64,4,772,64,4,772,64,2,770,62,8,752,61,2,734,59,8,716]
[1962,64,6,774,64,6,774,64,6,774,63,2,758,61,8,740,60,2,722]
[1963,64,8,776,64,8,776,64,8,776,63,8,764,62,2,746,60,8,728]
[1964,64,10,778,64,10,778,64,10,778,64,2,770,62,8,752,61,2,734]
[1965,65,0,780,65,0,780,65,0,780,64,8,776,63,2,758,61,8,740]
[1966,65,2,782,65,2,782,65,2,782,65,2,782,63,8,764,62,2,746]
[1967,65,4,784,65,4,784,65,4,784,65,4,784,64,2,770,62,8,752]
[1968,65,6,786,65,6,786,65,6,786,65,6,786,64,8,776,63,2,758]
[1969,65,8,788,65,8,788,65,8,788,65,8,788,65,2,782,63,8,764]
[1970,65,10,790,65,10,790,65,10,790,65,10,790,65,8,788,64,2,770]
[1971,66,0,792,66,0,792,66,0,792,66,0,792,66,0,792,64,8,776]
[1972,66,2,794,66,2,794,66,2,794,66,2,794,66,2,794,65,2,782]
[1973,66,4,796,66,4,796,66,4,796,66,4,796,66,4,796,65,8,788]
[1974,66,6,798,66,6,798,66,6,798,66,6,798,66,6,798,66,2,794]
[1975,66,8,800,66,8,800,66,8,800,66,8,800,66,8,800,66,8,800]
[1976,66,10,802,66,10,802,66,10,802,66,10,802,66,10,802,66,10,802]
[1977,67,0,804,67,0,804,67,0,804,67,0,804,67,0,804,67,0,804]
[1978,67,{"$f":"2*C118","v":6},{"$f":"12*B115+C115","v":810},67,{"$f":"2*F118","v":6},810,67,{"$f":"2*I118","v":6},810,67,{"$f":"2*L118","v":6},{"$f":"12*K115+L115","v":810},67,{"$f":"2*O118","v":6},810,67,{"$f":"2*R118","v":6},810]
[null,null,{"$f":"YEAR(B57)","v":1980},null,null,{"$f":"YEAR(B57)","v":1980},null,null,{"$f":"YEAR(B57)","v":1980},null,null,{"$f":"YEAR(B57)","v":1980},null,null,{"$f":"YEAR(B57)","v":1980},null,null,{"$f":"YEAR(B57)","v":1980}]
[null,null,1977,null,null,1977,null,null,1977,null,null,1977,null,null,1977,null,null,1977]
[null,null,{"$f":"C116-C117","v":3},null,null,{"$f":"F116-F117","v":3},null,null,{"$f":"I116-I117","v":3},null,null,{"$f":"L116-L117","v":3},null,null,{"$f":"O116-O117","v":3},null,null,{"$f":"R116-R117","v":3}]

{"sheet":"Vypocty1","index":16,"n_rows":142,"n_cols":77,"rows_kept":142,"cut":false,"hidden":false,"merged":[[126,0,126,8],[129,0,129,5],[138,0,138,1],[118,0,118,7],[119,0,119,7],[123,0,123,8],[124,0,124,8],[125,0,125,8],[98,0,98,7],[99,0,99,7],[100,0,100,7],[101,0,101,7],[116,5,116,6],[97,65,97,67],[98,65,98,67],[97,36,97,38],[61,54,61,56],[62,54,62,56],[59,54,59,56],[60,54,60,56],[59,50,59,52],[60,50,60,52],[55,46,55,48],[56,46,56,48],[55,50,55,52],[27,29,27,31],[27,34,27,36],[26,32,26,35],[124,47,124,50],[51,36,51,38],[57,50,57,52],[58,50,58,52],[53,36,53,38],[98,52,98,53],[54,50,54,52],[99,52,99,53],[97,76,97,79],[122,47,122,50],[51,42,51,44],[57,46,57,48],[58,46,58,48],[59,46,59,48],[52,46,52,48],[53,46,53,48],[54,46,54,48],[60,46,60,48],[61,46,61,48],[56,50,56,52],[51,60,51,79],[56,54,56,56],[57,54,57,56],[58,54,58,56],[8,52,8,55],[74,47,74,50],[11,36,11,39],[12,36,12,39],[22,55,22,57],[55,54,55,56],[27,55,27,57],[25,55,25,57],[52,54,52,56],[53,54,53,56],[54,54,54,56],[62,46,62,48],[52,50,52,52],[53,50,53,52],[61,50,61,52],[62,50,62,52],[10,36,10,39],[9,36,9,39],[26,55,26,57],[26,29,26,31],[23,29,23,31],[24,32,24,35],[25,32,25,35],[25,29,25,31],[24,29,24,31],[23,32,23,36],[12,46,12,47],[12,54,12,57],[23,60,25,80],[22,29,22,31],[22,32,22,35],[23,55,23,57],[24,55,24,57]]}
[]
[]
[]
[]
[]
[]
[]
[null,null,null,null,null,null,null,null,null,null,null,null,null,null,null,null,null,null,null,null,null,null,null,null,null,null,null,null,null,"Důchod - věková kalkulačka"]
[null,null,null,null,null,null,null,null,null,null,null,null,null,null,null,null,null,null,null,null,null,null,null,null,null,null,null,null,null,"Starobní důchod za splnění podmínky standardní doby pojištění",null,null,null,null,null,null,null,null,null,null,null,null,null,null,null,null,null,null,null,null,null,null,"zdroj: MPSV"]
[null,null,null,null,null,null,null,null,null,null,null,null,null,null,null,null,null,null,null,null,null,null,null,null,null,null,null,null,null,"Datum narození",null,null,null,null,null,null,"1980-05-10"]
[null,null,null,null,null,null,null,null,null,null,null,null,null,null,null,null,null,null,null,null,null,null,null,null,null,null,null,null,null,"Jste žena?",null,null,null,null,null,null,"ne"]
[null,null,null,null,null,null,null,null,null,null,null,null,null,null,null,null,null,null,null,null,null,null,null,null,null,null,null,null,null,"Počet dětí",null,null,null,null,null,null,0]
[null,null,null,null,null,null,null,null,null,null,null,null,null,null,null,null,null,null,null,null,null,null,null,null,null,null,null,null,null,"Počet roků do důchodu",null,null,null,null,null,null,{"$f":"Vypocty0!C61","v":32},null,null,null,null,null,null,null,null,"důchodový věk",{"$f":"Vypocty0!C62& \" let\"","v":"67 let"},null,null,null,null,null,null,"vznik nároku",{"$f":"Vypocty0!C63","v":"2047-11-10"}]
[]
[]
[]
[null,null,null,null,null,null,null,null,null,null,null,null,null,null,null,null,null,null,null,null,null,null,null,null,null,null,null,null,null,"Důchod - výpočet výše důchodu"]
[null,null,null,null,null,null,null,null,null,null,null,null,null,null,null,null,null,null,null,null,null,null,null,null,null,null,null,null,null,"Kalkulačku pro výpočet přesné výše důchodu je ke stažení na",null,null,null,null,null,null,null,null,null,null,null,null,null,null,null,null,null,"stránkách MPSV.",null,null,null,null,null,"Tento výpočet je ovšem relevantní pouze pro osoby těsně před odchodem do důchodu. "]
[null,null,null,null,null,null,null,null,null,null,null,null,null,null,null,null,null,null,null,null,null,null,null,null,null,null,null,null,null,"U zbytku populace můžeme výši důchodu pouze odhadovat na základě výše a tendence náhradového poměru (poměr průměrného důchodu a průměrné hrubé mzdy)."]
[null,null,null,null,null,null,null,null,null,null,null,null,null,null,null,null,null,null,null,null,null,null,null,null,null,null,null,null,null,"V současné době (r. 2010) je náhradový poměr cca 40 %. Předpokládaný vývoj je takový, že by měl během dvaceti až třiceti let klesnout k hranici 30 %."]
[null,null,null,null,null,null,null,null,null,null,null,null,null,null,null,null,null,null,null,null,null,null,null,null,null,null,null,null,null,"Výše náhradového poměru se liší podle výše příjmu. Situace by měla po verdiktu ÚS o změně výpočtu důchodů od září  2011  vypadat VELICE ZJEDNODUŠENĚ následovně:"]
[]
[null,null,null,null,null,null,null,null,null,null,null,null,null,null,null,null,null,null,null,null,null,null,null,null,null,null,null,null,null,"hrubá",null,null,"náhradový",null,null,null,null,null,null,"Současná hrubá mzda",null,null,null,null,null,null,null,null,null,null,null,null,null,null,null,50000,null,null,null,null,{"$f":"IF(OR(BD27>0.4,BD27<0.2),\"UPOZORNĚNÍ\",\"\")","v":""}]
[null,null,null,null,null,null,null,null,null,null,null,null,null,null,null,null,null,null,null,null,null,null,null,null,null,null,null,null,null,"mzda",null,null,"poměr (2011)",null,null,null,null,null,null,"Počet roků do důchodu",null,null,null,null,null,null,null,null,null,null,null,null,null,null,null,33,null,null,null,null,{"$f":"IF(OR(BD27>0.4,BD27<0.2),\"Očekává se, že u většiny penzistů bude v horizontu dvaceti až třiceti let náhradový poměr mezi 20 % až 40 %, zadali jste náhradový poměr mimo tento rosah. Zvažte prosím jeho výši.\",\"\")","v":""}]
[null,null,null,null,null,null,null,null,null,null,null,null,null,null,null,null,null,null,null,null,null,null,null,null,null,null,null,null,null,20000,null,null,0.5,null,null,null,null,null,null,"Předpokládaná průměrná inflace",null,null,null,null,null,null,null,null,null,null,null,null,null,null,null,1.4999999999999999E-2]
[null,null,null,null,null,null,null,null,null,null,null,null,null,null,null,null,null,null,null,null,null,null,null,null,null,null,null,null,null,40000,null,null,0.33,null,null,null,null,null,null,"Mzda valorizovaná o inflaci při odchodu do důchodu",null,null,null,null,null,null,null,null,null,null,null,null,null,null,null,{"$f":"BD23*((1+BD25)^BD24)","v":81723.959247875624}]
[null,null,null,null,null,null,null,null,null,null,null,null,null,null,null,null,null,null,null,null,null,null,null,null,null,null,null,null,null,80000,null,null,0.25,null,null,null,null,null,null,"Náhradový poměr",null,null,null,null,null,null,null,null,null,null,null,null,null,null,null,0.25,null,null,null,{"$f":"IF(BD23>80000,0.2,IF(BD23>40000,0.25,0.35))","v":0.25}]
[null,null,null,null,null,null,null,null,null,null,null,null,null,null,null,null,null,null,null,null,null,null,null,null,null,null,null,null,null,null,null,null,null,null,null,null,null,null,null,"Předpokládaný ORIENTAČNÍ důchod",null,null,null,null,null,null,null,null,null,null,null,null,null,null,null,{"$f":"BD26*BD27","v":20430.989811968906}]
[]
[]
[]
[]
[null,null,null,null,null,null,null,null,null,null,null,null,null,null,null,null,null,null,null,null,null,null,null,null,null,null,null,null,null,"invalidni duchod",null,null,null,null,null,null,null,null,null,null,null,null,null,null,null,null,"MPSV, ale kalkulačka není"]
[]
[]
[]
[]
[]
[]
[]
[]
[]
[]
[]
[]
[]
[]
[]
[]
[null,null,null,null,null,null,null,null,null,null,null,null,null,null,null,null,null,null,null,null,null,null,null,null,null,null,null,null,null,"Podpora v nezaměstnanosti"]
[]
[null,null,null,null,null,null,null,null,null,null,null,null,null,null,null,null,null,null,null,null,null,null,null,null,null,null,null,null,null,"Průměrný čistý příjem",null,null,null,null,null,null,8000,null,null,null,null,null,"výplata",null,null,null,"do 50 let",null,null,null,"50 - 55 let",null,null,null,"nad 55 let",null,null,null,null,null,"Zdroj: zákon 435/2004 o zaměstnanosti, §43 odst. 1, §50 odst. 3 a 6"]
[null,null,null,null,null,null,null,null,null,null,null,null,null,null,null,null,null,null,null,null,null,null,null,null,null,null,null,null,null,null,null,null,null,null,null,null,null,null,null,null,null,null,null,null,"1. měsíc",null,{"$f":"MIN(0.65*$AK$52,AK$54)","v":5200},null,null,null,{"$f":"MIN(0.65*$AK$52,AK$54)","v":5200},null,null,null,{"$f":"MIN(0.65*$AK$52,AK$54)","v":5200}]
[null,null,null,null,null,null,null,null,null,null,null,null,null,null,null,null,null,null,null,null,null,null,null,null,null,null,null,null,null,"Max. výše pro rok 2012",null,null,null,null,null,null,13761,null,null,null,null,null,null,null,"2. měsíc",null,{"$f":"MIN(0.65*$AK$52,AK$54)","v":5200},null,null,null,{"$f":"MIN(0.65*$AK$52,AK$54)","v":5200},null,null,null,{"$f":"MIN(0.65*$AK$52,AK$54)","v":5200}]
[null,null,null,null,null,null,null,null,null,null,null,null,null,null,null,null,null,null,null,null,null,null,null,null,null,null,null,null,null,null,null,null,null,null,null,null,null,null,null,null,null,null,null,null,"3. měsíc",null,{"$f":"MIN(0.5*$AK$52,AK$54)","v":4000},null,null,null,{"$f":"MIN(0.5*$AK$52,AK$54)","v":4000},null,null,null,{"$f":"MIN(0.5*$AK$52,AK$54)","v":4000}]
[null,null,null,null,null,null,null,null,null,null,null,null,null,null,null,null,null,null,null,null,null,null,null,null,null,null,null,null,null,null,null,null,null,null,null,null,null,null,null,null,null,null,null,null,"4. měsíc",null,{"$f":"MIN(0.5*$AK$52,AK$54)","v":4000},null,null,null,{"$f":"MIN(0.5*$AK$52,AK$54)","v":4000},null,null,null,{"$f":"MIN(0.5*$AK$52,AK$54)","v":4000}]
[null,null,null,null,null,null,null,null,null,null,null,null,null,null,null,null,null,null,null,null,null,null,null,null,null,null,null,null,null,null,null,null,null,null,null,null,null,null,null,null,null,null,null,null,"5. měsíc",null,{"$f":"MIN(0.45*$AK$52,AK$54)","v":3600},null,null,null,{"$f":"MIN(0.45*$AK$52,AK$54)","v":3600},null,null,null,{"$f":"MIN(0.45*$AK$52,AK$54)","v":3600}]
[null,null,null,null,null,null,null,null,null,null,null,null,null,null,null,null,null,null,null,null,null,null,null,null,null,null,null,null,null,null,null,null,null,null,null,null,null,null,null,null,null,null,null,null,"6. měsíc",null,null,null,null,null,{"$f":"MIN(0.45*$AK$52,AK$54)","v":3600},null,null,null,3600]
[null,null,null,null,null,null,null,null,null,null,null,null,null,null,null,null,null,null,null,null,null,null,null,null,null,null,null,null,null,null,null,null,null,null,null,null,null,null,null,null,null,null,null,null,"7. měsíc",null,null,null,null,null,{"$f":"MIN(0.45*$AK$52,AK$54)","v":3600},null,null,null,3600]
[null,null,null,null,null,null,null,null,null,null,null,null,null,null,null,null,null,null,null,null,null,null,null,null,null,null,null,null,null,null,null,null,null,null,null,null,null,null,null,null,null,null,null,null,"8. měsíc",null,null,null,null,null,{"$f":"MIN(0.45*$AK$52,AK$54)","v":3600},null,null,null,3600]
[null,null,null,null,null,null,null,null,null,null,null,null,null,null,null,null,null,null,null,null,null,null,null,null,null,null,null,null,null,null,null,null,null,null,null,null,null,null,null,null,null,null,null,null,"9. měsíc",null,null,null,null,null,null,null,null,null,3600]
[null,null,null,null,null,null,null,null,null,null,null,null,null,null,null,null,null,null,null,null,null,null,null,null,null,null,null,null,null,null,null,null,null,null,null,null,null,null,null,null,null,null,null,null,"10. měsíc",null,null,null,null,null,null,null,null,null,3600]
[null,null,null,null,null,null,null,null,null,null,null,null,null,null,null,null,null,null,null,null,null,null,null,null,null,null,null,null,null,null,null,null,null,null,null,null,null,null,null,null,null,null,null,null,"11. měsíc",null,null,null,null,null,null,null,null,null,3600]
[]
[]
[]
[]
[]
[]
[]
[]
[]
[]
[]
[null,null,null,null,null,null,null,null,null,null,null,null,null,null,null,null,null,null,null,null,null,null,null,null,null,null,null,null,null,null,"nahrada mzdy od zamestnavatele prvnich 21 dni",null,null,null,null,null,null,null,null,null,null,null,null,null,null,null,null,"zdroj: MPSV"]
[]
[]
[]
[]
[]
[]
[]
[]
[]
[]
[]
[]
[]
[]
[]
[]
[]
[]
[]
[]
[null,null,null,null,null,null,null,null,null,null,null,null,null,null,null,null,null,null,null,null,null,null,null,null,null,null,null,null,null,"Nemocenská",null,null,null,null,null,null,null,null,null,"předpoklad: 8 hodin pracovní den, 30 dnů v měsíci, 172 pracovních hodin v měsíci"]
[]
[null,null,null,null,null,null,null,null,null,null,null,null,null,null,null,null,null,null,null,null,null,null,null,null,null,null,null,null,null,"Průměrný hrubý příjem",null,null,null,null,null,null,50000,null,null,null,null,null,"první 3 dny:",null,null,null,null,null,null,null,null,null,null,0,null,null,null,"celkem za 1. měsíc:",null,null,null,null,null,null,null,{"$f":"18*BA99+9*BA100","v":24997.037023255816},null,null,null,null,null,null,null,null,null,null,"zdroj: MPSV"]
["Výpočet výše nemocenského - sociálka",null,null,null,null,null,null,null,null,null,null,null,null,null,null,null,null,null,null,null,null,null,null,null,null,null,null,null,null,null,null,null,null,null,null,null,null,null,null,null,null,null,"4. až 21. kalendářní den:",null,null,null,null,null,null,null,null,null,{"$f":"J136","v":1051.7242790697676},null,null,null,null,"za každý následující měsíc:",null,null,null,null,null,null,null,{"$f":"30*BA100","v":20220}]
["podle zákona č. 187/2006 Sb.",null,null,null,null,null,null,null,null,null,null,null,null,null,null,null,null,null,null,null,null,null,null,null,null,null,null,null,null,null,null,null,null,null,null,null,null,null,null,null,null,null,"každý následující kalendářní den:",null,null,null,null,null,null,null,null,null,{"$f":"I118","v":674}]
["při vzniku dočasné pracovní neschopnosti (karantény) v roce 2012"]
["vložte údaje do zelených políček"]
["Počet  kalendářních dnů pracovní neschopnosti1)",null,null,null,null,null,{"$f":"MIN(MAX(0,ROUND(H103,0)),380-14)","v":30},30]
["Vyměřovací základ",null,null,null,"denní  = D   nebo měsíční = M  ","m",null,{"$f":"AK98","v":50000}]
["Denní vyměřovací základ pro nemocenské (DVZ ) neredukovaný",null,null,null,null,null,null,{"$f":"ROUND(IF(F104=\"D\",H104,H104*12/365),2)","v":1643.84}]
["orientačně odpovídá průměrnému měsíčnímu příjmu cca",null,null,null,null,null,null,{"$f":"H105*365/12","v":50000.133333333331}]
[]
["Počet kalendářních dnů pro náhradu mzdy  ",null,null,null,null,null,null,{"$f":"MIN($G$5,21)","v":21}]
[]
["Počet kalendářních dnů nemocenského od 22. dne PN",null,null,null,null,null,null,{"$f":"MAX(G103-21,0)","v":9}]
["Redukce DVZ"]
[null,null,"do",838,"redukce na",0.9,"tj. na",{"$f":"ROUND(F112*MIN(H105,D112),2)","v":754.2}]
["nad",{"$f":"+D112","v":838},"do",1257,"redukce na",0.6,"tj. na",{"$f":"ROUND(F113*IF(H105>B113,MIN(H105,B114)-B113,0),2)","v":251.4}]
["nad",{"$f":"+D113","v":1257},"do ",2514,"redukce na",0.3,"tj. na",{"$f":"ROUND(F114*IF(H105>B114,MIN(H105,B115)-B114,0),2)","v":116.05}]
["nad",{"$f":"+D114","v":2514},"nezohledňuje se"]
[null,null,null,null,null,"Redukovaný DVZ",null,{"$f":"ROUNDUP(+H112+H113+H114,0)","v":1122}]
["Nemocenské od 22. dne",null,null,0.6,{"$f":"\"z  \"&TEXT($H$18,\"# ###\")","v":"z  "},{"$f":"\"tj. \"&CEILING($H$18*$D$19,1)&\" x \"&H110&G118","v":"tj. 0 x 9 dnů ="},null,{"$f":"CEILING(H116*D117,1)*H110","v":6066}]
[null,"NEMOCENSKÉ celkem",null,null,null,null,{"$f":"IF(H110=1,\" den =\",IF(AND(H110<5,H110>0),\" dny =\",\" dnů =\"))","v":" dnů ="},{"$f":"H117","v":6066},{"$f":"H118/H110","v":674}]
["1) počet kalendářních dnů od 1. dne pracovní neschopnosti."]
["DVZ je průměr započitatelných příjmů připadajících na jeden kalendářní den v tzv. rozhodném období, což je  doba zpravidla 12 kalendářních měsíců před měsícem, v němž vznikla dočasná pracovní neschopnost či jiná sociální událost."]
[]
[]
[]
["Výpočet výše NÁHRADY MZDY *) - zaměstnavatel"]
["podle zákona 262/2006 Sb."]
["při dočasné pracovní neschopnosti nebo karanténě v době od 1. ledna 2012"]
["Vložit údaje do následujících zelených políček - počet hodin a průměrný hodinový výdělek"]
["Počet hodin pracovní neschopnosti (nemoci) pro náhradu mzdy **)",null,null,null,null,null,null,null,96]
["Počet hodin karantény (od prvního dne) ",null,null,null,null,null,null,null,0]
["Průměrný hodinový výdělek  (PHV)  (je stejný pro nemoc i pro karanténu)",null,null,null,null,null,null,null,{"$f":"AK98/172","v":290.69767441860466}]
["Redukce PHV"]
[null,null," do",146.65,null,"redukce na",0.9,"tj. na",{"$f":"G132*MIN(I130,D132)","v":131.98500000000001}]
["nad",{"$f":"+D132","v":146.65},"do",219.98,null,"redukce na",0.6,"tj. na",{"$f":"G133*IF(I130>B133,MIN(I130,B134)-B133,0)","v":43.99799999999999}]
["nad",{"$f":"+D133","v":219.98},"do ",439.95,null,"redukce na",0.3,"tj. na",{"$f":"G134*IF(I130>B134,MIN(I130,B135)-B134,0)","v":21.215302325581401}]
["nad",{"$f":"+D134","v":439.95},"nezohledňuje se"]
[null,null,null,null,"Redukovaný PHV",null,null,null,{"$f":"+I132+I133+I134","v":197.19830232558141},{"$f":"I136*I128/18","v":1051.7242790697676}]
[null,"Náhrada mzdy  (nemoc)",{"$f":"+I128","v":96},"hodin",0.6,{"$f":"\"z \"&$I$13","v":"z "},{"$f":"\"tj. \"&($I$13*E137)&\" x \"&I128","v":"tj. 0 x 96"},null,{"$f":"($I$13*E137)*I128","v":0}]
[null,"Karanténa od 1. dne",{"$f":"+I129","v":0},"hodin",0.6,{"$f":"\"z \"&$I$13","v":"z "},{"$f":"\"tj. \"&($I$13*E138)&\" x \"&I129","v":"tj. 0 x 0"},null,{"$f":"($I$13*E138)*I129","v":0}]
["Celkem náhrada",null,{"$f":"+C137+C138","v":96},"hodin"]
[" NÁHRADA MZDY  (KARANTÉNA)   ",null,null,null,null,null,null,null,{"$f":"CEILING(I137+I138,1)","v":0}]
["*) poskytuje se pouze v době prvních 21 kalendářních dnů pracovní neschopnosti nebo karantény. "]
["**) počet hodin bez karenční doby,  nevyplňuje se pro karanténu."]

{"sheet":"Vypocty2","index":17,"n_rows":44,"n_cols":78,"rows_kept":44,"cut":false,"hidden":false,"merged":[[7,47,7,62],[39,29,39,36],[20,47,20,62],[20,65,20,83],[10,59,10,62],[11,59,11,62],[12,59,12,62],[13,59,13,62],[32,29,32,44],[7,29,7,44],[20,29,20,44],[32,47,32,62],[15,41,15,44],[15,37,15,40],[16,41,16,44],[34,77,34,80],[35,77,35,80],[36,77,36,80],[37,77,37,80],[38,77,38,80],[37,41,37,44],[38,41,38,44],[34,59,34,62],[35,59,35,62],[36,59,36,62],[37,59,37,62],[38,59,38,62],[26,77,26,80],[22,41,22,44],[24,77,24,80],[25,77,25,80],[24,41,24,44],[23,59,23,62],[24,59,24,62],[25,59,25,62],[26,59,26,62],[25,41,25,44],[26,41,26,44],[10,41,10,44],[8,52,8,55],[9,41,9,44],[11,41,11,44],[12,41,12,44],[43,41,43,44],[17,41,17,44],[18,41,18,44],[13,41,13,44],[14,41,14,44],[23,41,23,44],[41,41,41,44],[39,41,39,44],[42,41,42,44],[34,41,34,44],[35,41,35,44],[36,41,36,44],[40,41,40,44]]}
[]
[]
[]
[]
[]
[]
[null,null,null,null,null,null,null,null,null,null,null,null,null,null,null,null,null,null,null,null,null,null,null,null,null,null,null,null,null,"Ve výpočtech nejsou zohledněny daně ani poplatky"]
[null,null,null,null,null,null,null,null,null,null,null,null,null,null,null,null,null,null,null,null,null,null,null,null,null,null,null,null,null,"Zhodnocení / znehodnocení investic \n(pravidelných i jednorázových)",null,null,null,null,null,null,null,null,null,null,null,null,null,null,null,null,null,"Jaký bude nominál dnešní hodnoty?"]
[]
[null,null,null,null,null,null,null,null,null,null,null,null,null,null,null,null,null,null,null,null,null,null,null,null,null,null,null,null,null,"Jednorázový vklad na počátku",null,null,null,null,null,null,null,null,null,null,null,5000]
[null,null,null,null,null,null,null,null,null,null,null,null,null,null,null,null,null,null,null,null,null,null,null,null,null,null,null,null,null,"Pravidelný měsíční vklad",null,null,null,null,null,null,null,null,null,null,null,1000,null,null,null,null,null,"Dnešní hodnota",null,null,null,null,null,null,null,null,null,null,null,15000]
[null,null,null,null,null,null,null,null,null,null,null,null,null,null,null,null,null,null,null,null,null,null,null,null,null,null,null,null,null,"Počet roků investování",null,null,null,null,null,null,null,null,null,null,null,5,null,null,null,null,null,"Počet roků",null,null,null,null,null,null,null,null,null,null,null,29]
[null,null,null,null,null,null,null,null,null,null,null,null,null,null,null,null,null,null,null,null,null,null,null,null,null,null,null,null,null,"Průměrné roční zhodnocení",null,null,null,null,null,null,null,null,null,null,null,4.2000000000000003E-2,null,null,null,null,null,"Inflace",null,null,null,null,null,null,null,null,null,null,null,0.02]
[null,null,null,null,null,null,null,null,null,null,null,null,null,null,null,null,null,null,null,null,null,null,null,null,null,null,null,null,null,"Výsledná suma",null,null,null,null,null,null,null,null,null,null,null,{"$f":"FV(AP13/12,12*AP12,-AP11,-1*AP10,1)","v":73035.303867740004},null,null,null,null,null,{"$f":"\"Nominál hodnoty \"  & TEXT(BH11,\"# ###\") & \" za \" & BH12 & \" let\"","v":"Nominál hodnoty 15 000 za 29 let"},null,null,null,null,null,null,null,null,null,null,null,{"$f":"-FV(BH13/12,12*BH12,0,BH11,1)","v":26777.645174044443}]
[null,null,null,null,null,null,null,null,null,null,null,null,null,null,null,null,null,null,null,null,null,null,null,null,null,null,null,null,null,"Výnos",null,null,null,null,null,null,null,null,null,null,null,{"$f":"AP14-AP10-AP12*12*AP11","v":8035.3038677400036}]
[null,null,null,null,null,null,null,null,null,null,null,null,null,null,null,null,null,null,null,null,null,null,null,null,null,null,null,null,null,"Reálná hodnota při inflaci",null,null,null,null,null,null,null,1.4999999999999999E-2,null,null,null,{"$f":"FV((AP13-AL16)/12,12*AP12,-AP11,-1*AP10,1)","v":70027.615515531419}]
[null,null,null,null,null,null,null,null,null,null,null,null,null,null,null,null,null,null,null,null,null,null,null,null,null,null,null,null,null,"Rálný výnos po započtení inflace",null,null,null,null,null,null,null,null,null,null,null,{"$f":"AP16-AP10-AP12*12*AP11","v":5027.6155155314191}]
[null,null,null,null,null,null,null,null,null,null,null,null,null,null,null,null,null,null,null,null,null,null,null,null,null,null,null,null,null,"Suma při valorizaci vkladu (orient.)",null,null,null,null,null,null,null,null,null,null,null,{"$f":"splatky!S1","v":76123.890858702798}]
[null,null,null,null,null,null,null,null,null,null,null,null,null,null,null,null,null,null,null,null,null,null,null,null,null,null,null,null,null,"Reálná suma při valorizaci vkl. (orient.)",null,null,null,null,null,null,null,null,null,null,null,{"$f":"splatky!V1","v":72678.49361437888}]
[]
[null,null,null,null,null,null,null,null,null,null,null,null,null,null,null,null,null,null,null,null,null,null,null,null,null,null,null,null,null,"Kolik musím mít pro pravidelnou měsíční rentu",null,null,null,null,null,null,null,null,null,null,null,null,null,null,null,null,null,{"$f":" \"Kolik musím měsíčně spořit                                   abych naspořil \" & TEXT(AP27,\"# ###\")& \" ?\"","v":"Kolik musím měsíčně spořit                                   abych naspořil 556 107 ?"},null,null,null,null,null,null,null,null,null,null,null,null,null,null,null,null,null,"Kolik musím jednorázově vložit?                                             (vklad se nezmenšuje a na konci jej můžu vybrat v plné výši)"]
[]
[null,null,null,null,null,null,null,null,null,null,null,null,null,null,null,null,null,null,null,null,null,null,null,null,null,null,null,null,null,"Výše požadované měsíční renty",null,null,null,null,null,null,null,null,null,null,null,2000]
[null,null,null,null,null,null,null,null,null,null,null,null,null,null,null,null,null,null,null,null,null,null,null,null,null,null,null,null,null,"Průměrné roční zhodnocení",null,null,null,null,null,null,null,null,null,null,null,0.04,null,null,null,null,null,"Průměrné roční zhodnocení",null,null,null,null,null,null,null,null,null,null,null,0.03]
[null,null,null,null,null,null,null,null,null,null,null,null,null,null,null,null,null,null,null,null,null,null,null,null,null,null,null,null,null,"Chci aby mi na konci zbylo",null,null,null,null,null,null,null,null,null,null,null,500000,null,null,null,null,null,"Jednorázový vklad na počátku",null,null,null,null,null,null,null,null,null,null,null,0,null,null,null,null,null,"Výše požadovaných měsíčních výnosů",null,null,null,null,null,null,null,null,null,null,null,1000]
[null,null,null,null,null,null,null,null,null,null,null,null,null,null,null,null,null,null,null,null,null,null,null,null,null,null,null,null,null,"Počet let pobírání renty",null,null,null,null,null,null,null,null,null,null,null,20,null,null,null,null,null,"Počet roků investování",null,null,null,null,null,null,null,null,null,null,null,30,null,null,null,null,null,"Průměrné roční zhodnocení",null,null,null,null,null,null,null,null,null,null,null,0.1]
[null,null,null,null,null,null,null,null,null,null,null,null,null,null,null,null,null,null,null,null,null,null,null,null,null,null,null,null,null,"Potřebná suma",null,null,null,null,null,null,null,null,null,null,null,{"$f":"-PV(AP24/12,AP26*12,AP23,AP25,1)","v":556107.43180279201},null,null,null,null,null,"Pravidelný měsíční vklad",null,null,null,null,null,null,null,null,null,null,null,{"$f":"-PMT(BH24/12,BH26*12,-BH25,AP27,1)","v":951.92297739934577},null,null,null,null,null,"Výše potřebného vkladu",null,null,null,null,null,null,null,null,null,null,null,{"$f":"12*BZ25/BZ26","v":120000}]
[]
[]
[]
[]
[]
[null,null,null,null,null,null,null,null,null,null,null,null,null,null,null,null,null,null,null,null,null,null,null,null,null,null,null,null,null,"Kolik musím měsíčně spořit abych naspořil požadovanou sumu?",null,null,null,null,null,null,null,null,null,null,null,null,null,null,null,null,null,"Jak vysoká bude měsíční renta z naspořené sumy?",null,null,null,null,null,null,null,null,null,null,null,null,null,null,null,null,null,"Kolik let můžu z naspořené sumy pobírat rentu?"]
[]
[null,null,null,null,null,null,null,null,null,null,null,null,null,null,null,null,null,null,null,null,null,null,null,null,null,null,null,null,null,"Požadovaná suma",null,null,null,null,null,null,null,null,null,null,null,1000000,null,null,null,null,null,"Naspořená suma",null,null,null,null,null,null,null,null,null,null,null,1000000,null,null,null,null,null,"Naspořená suma",null,null,null,null,null,null,null,null,null,null,null,1000000]
[null,null,null,null,null,null,null,null,null,null,null,null,null,null,null,null,null,null,null,null,null,null,null,null,null,null,null,null,null,"Průměrné roční zhodnocení",null,null,null,null,null,null,null,null,null,null,null,0.03,null,null,null,null,null,"Průměrné roční zhodnocení",null,null,null,null,null,null,null,null,null,null,null,0.04,null,null,null,null,null,"Průměrné roční zhodnocení",null,null,null,null,null,null,null,null,null,null,null,0.04]
[null,null,null,null,null,null,null,null,null,null,null,null,null,null,null,null,null,null,null,null,null,null,null,null,null,null,null,null,null,"Jednorázový vklad na počátku",null,null,null,null,null,null,null,null,null,null,null,100000,null,null,null,null,null,"Chci aby mi na konci zbylo",null,null,null,null,null,null,null,null,null,null,null,500000,null,null,null,null,null,"Chci aby mi na konci zbylo",null,null,null,null,null,null,null,null,null,null,null,0]
[null,null,null,null,null,null,null,null,null,null,null,null,null,null,null,null,null,null,null,null,null,null,null,null,null,null,null,null,null,"Počet roků investování",null,null,null,null,null,null,null,null,null,null,null,10,null,null,null,null,null,"Počet let pobírání renty",null,null,null,null,null,null,null,null,null,null,null,20,null,null,null,null,null,"Pravidelný měsíční renta",null,null,null,null,null,null,null,null,null,null,null,5261]
[null,null,null,null,null,null,null,null,null,null,null,null,null,null,null,null,null,null,null,null,null,null,null,null,null,null,null,null,null,"Pravidelný měsíční vklad",null,null,null,null,null,null,null,null,null,null,null,{"$f":"-PMT(AP36/12,AP38*12,-AP37,AP35,1)","v":6175.0294492319772},null,null,null,null,null,"Pravidelný měsíční renta",null,null,null,null,null,null,null,null,null,null,null,{"$f":"PMT(BH36/12,BH38*12,-BH35,BH37,1)","v":4680.9650961765046},null,null,null,null,null,"Počet let pobírání renty",null,null,null,null,null,null,null,null,null,null,null,{"$f":"NPER(BZ36/12,BZ38,-BZ35,BZ37,1)/12","v":24.99863202191661}]
[null,null,null,null,null,null,null,null,null,null,null,null,null,null,null,null,null,null,null,null,null,null,null,null,null,null,null,null,null,"Zohlednění inflace ve výši",null,null,null,null,null,null,null,null,null,null,null,1.4999999999999999E-2]
[null,null,null,null,null,null,null,null,null,null,null,null,null,null,null,null,null,null,null,null,null,null,null,null,null,null,null,null,null,"Vklad valorizovaný o inflaci (orient.)",null,null,null,null,null,null,null,null,null,null,null,5725.0294492321163]
[null,null,null,null,null,null,null,null,null,null,null,null,null,null,null,null,null,null,null,null,null,null,null,null,null,null,null,null,null,{"$f":"\"Nominál hodnoty \"  & TEXT(AP35,\"# ###\") & \" za \" & AP38 & \" let\"","v":"Nominál hodnoty 1 000 000 za 10 let"},null,null,null,null,null,null,null,null,null,null,null,{"$f":"-FV(AP40/12,12*AP38,0,AP35,1)","v":1161725.4165483732}]
[null,null,null,null,null,null,null,null,null,null,null,null,null,null,null,null,null,null,null,null,null,null,null,null,null,null,null,null,null,{"$f":"\"Pravidelný měsíční vklad pro \"& TEXT(AP42,\"# ###\")","v":"Pravidelný měsíční vklad pro 1 161 725"},null,null,null,null,null,null,null,null,null,null,null,{"$f":"-PMT(AP36/12,AP38*12,-AP37,AP42,1)","v":7329.4624911131568}]
[null,null,null,null,null,null,null,null,null,null,null,null,null,null,null,null,null,null,null,null,null,null,null,null,null,null,null,null,null,"Vklad valorizovaný o inflaci (orient.)",null,null,null,null,null,null,null,null,null,null,null,6789.4624911133224]

{"sheet":"splatky","index":18,"n_rows":63,"n_cols":22,"rows_kept":63,"cut":false,"hidden":false,"merged":[]}
[null,null,null,null,null,{"$f":"12*Vypocty2!AP39","v":74100.353390783726},{"$f":"Vypocty2!AP40","v":1.4999999999999999E-2},{"$f":"VLOOKUP(I1,A4:I63,9)","v":999451.92770060268},{"$f":"Vypocty2!AP38","v":10},null,{"$f":"12*Vypocty2!AP43","v":87953.549893357878},{"$f":"Vypocty2!AP40","v":1.4999999999999999E-2},{"$f":"VLOOKUP(N1,A4:N63,14)","v":1160289.3109510886},{"$f":"Vypocty2!AP38","v":10},null,null,{"$f":"Vypocty2!AP14","v":73035.303867740004},{"$f":"Vypocty2!AL16","v":1.4999999999999999E-2},{"$f":"VLOOKUP(T1,A4:T63,20)","v":76123.890858702798},{"$f":"Vypocty2!AP12","v":5},null,{"$f":"VLOOKUP(T1,A4:V63,22)","v":72678.49361437888}]
[null,null,null,null,null,{"$f":"F4/12","v":5725.0294492321163},{"$f":"Vypocty2!AP36","v":0.03},{"$f":"Vypocty2!AP35","v":1000000},null,null,{"$f":"K4/12","v":6789.4624911133224},{"$f":"Vypocty2!AP36","v":0.03},{"$f":"Vypocty2!AP42","v":1161725.4165483732},null,null,null,null,{"$f":"Vypocty2!AP13","v":4.2000000000000003E-2}]
[]
[1,null,null,null,null,68700.3533907854,{"$f":"Vypocty2!AP37","v":100000},{"$f":"(F4+G4)*G2","v":5061.0106017235621},{"$f":"F4+G4+H4","v":173761.36399250897},null,81473.549893359872,{"$f":"Vypocty2!AP37","v":100000},{"$f":"(K4+L4)*L2","v":5444.2064968007962},{"$f":"K4+L4+M4","v":186917.75639016068},null,null,{"$f":"12*Vypocty2!AP11","v":12000},{"$f":"Vypocty2!AP10","v":5000},{"$f":"(Q4+R4)*R2","v":714},{"$f":"Q4+R4+S4","v":17714},{"$f":"(Q4+R4)*(R2-R1)","v":459.00000000000006},{"$f":"Q4+R4+U4","v":17459}]
[2,null,null,null,null,{"$f":"F4*(1+G$1)","v":69730.858691647169},null,{"$f":"(I4+F5)*G$2","v":7304.7666805246845},{"$f":"I4+F5+H5","v":250796.98936468083},null,{"$f":"K4*(1+L$1)","v":82695.653141760267},null,{"$f":"(N4+K5)*L$2","v":8088.4022859576271},{"$f":"N4+K5+M5","v":277701.81181787857},null,null,{"$f":"Q4*(1+R$1)","v":12179.999999999998},null,{"$f":"(T4+Q5)*R$2","v":1255.548},{"$f":"T4+Q5+S5","v":31149.547999999999},{"$f":"(V4+Q5)*(R$2-R$1)","v":800.25300000000004},{"$f":"V4+Q5+U5","v":30439.253000000001}]
[3,null,null,null,null,70776.821572021872,null,9647.2143281010813,{"$f":"I5+F6+H6","v":331221.02526480379},null,83936.08793888666,null,10849.136992702955,{"$f":"N5+K6+M6","v":372487.03674946819},null,null,{"$f":"Q5*(1+R$1)","v":12362.699999999997},null,{"$f":"(T5+Q6)*R$2","v":1827.5144159999998},{"$f":"T5+Q6+S6","v":45339.76241599999},{"$f":"(V5+Q6)*(R$2-R$1)","v":1155.6527309999999},{"$f":"V5+Q6+U6","v":43957.605730999996}]
[4,null,null,null,null,71838.47389560219,null,12091.784974812177,415151.28413521813,null,85195.129257969951,null,13730.464980223143,471412.63098766131,null,null,12548.140499999996,null,2431.2919224719994,{"$f":"T6+Q7+S7","v":60319.194838471987},1525.6551482369998,58031.401379236988]
[5,null,null,null,null,72916.051004036213,null,14642.02005417763,502709.35519343195,null,86473.05619683949,null,16736.57061553502,574622.25780003576,null,null,12736.362607499994,null,3068.3334127308235,76123.890858702798,1910.7296276418988,72678.49361437888]
[6,null,null,null,null,74009.791769096744,null,17301.574408875862,594020.72137140459,null,87770.152039792069,null,19871.772295194834,682264.18213502259,null,null,{"$f":"Q8*(1+R$1)","v":12927.408046612492},null,3740.1545540232423,92791.453459338532,2311.3593448467673,87917.26100583814]
[7,null,null,null,null,75119.938645633185,null,20074.219800511131,689214.87981754891,null,89086.704320388948,null,23140.526593662347,794491.41304907389,null,null,13121.319167311678,null,4448.3364503193088,110361.10907696953,2728.0416646750455,103766.62183782487]
[8,null,null,null,null,76246.737725317682,null,22963.848526285998,788425.46606915258,null,90423.004885194779,null,26547.432538028061,911461.85047229682,null,null,13318.138954821352,null,5194.5284173352175,128873.77644912609,3161.2885414014486,120246.04933404767]
[9,null,null,null,null,77390.438791197434,null,25974.477145810502,891790.38200616057,null,91779.349958472696,null,30097.236012923084,1033338.4364436925,null,null,13517.911039143672,null,5980.4508745073299,148372.1383627771,3611.6269300761664,137375.5873032675]
[10,null,null,null,null,78551.295373065383,null,29110.250321376778,999451.92770060268,null,93156.040207849772,null,33794.834299546266,1160289.3109510886,null,null,13720.679704730825,null,6807.898358835334,168900.71642634328,4079.5992092159554,155175.86621721429]
[11,null,null,null,null,79729.564803661357,null,32375.444775127919,1111556.9372793918,null,94553.380810967516,null,37645.280752861676,1292487.9725149176,null,null,13926.489900301785,null,7678.7426657190936,190505.94899236417,4565.7636151729348,173668.11973268903]
[12,null,null,null,null,80925.508275716275,null,35774.473366653241,1228256.9189217614,null,95971.681523132022,null,41653.789621141492,1430113.4436591913,null,null,14135.387248806312,null,8594.9361221291601,213236.27236329962,5070.6946885003745,192874.2016699957]
[13,null,null,null,null,82139.390899852006,null,39311.889294648397,1349708.1991162617,null,97411.256745978986,null,45825.741012155107,1573350.4414173253,null,null,14347.418057538405,null,9558.5149976751964,237142.20541851321,5594.9837326434208,212816.60346017752]
[14,null,null,null,null,83371.481763349773,null,42992.390426388345,1476072.0713059998,null,98872.425597168665,null,50166.686010434816,1722389.5530249288,null,null,14562.629328401479,null,10571.603059370418,262276.4378062851,6139.2392852916337,233518.47207387062]
[15,null,null,null,null,84622.053989800013,null,46820.823758873987,1607514.9490546738,null,100355.51198112618,null,54682.351950181648,1877427.4169562366,null,null,14781.068768327499,null,11636.415276133728,288693.92185074632,6704.0876027393506,255003.62844493747]
[16,null,null,null,null,85891.384799646999,null,50802.190015629618,1744208.5238699503,null,101860.84466084307,null,59378.647848512388,2038666.9094655919,null,null,15002.78479985241,null,12755.261679325147,316451.96832992387,7290.1731576093271,277296.58640239917]
[17,null,null,null,null,87179.755571641697,null,54941.648383247761,1886329.9278248397,null,103388.7573307557,null,64261.670003890424,2206317.3368002381,null,null,15227.826571850195,null,13930.551385874513,345610.3462876486,7898.1591503047348,300422.57212455414]
[18,null,null,null,null,88487.451905216309,null,59244.521391901682,2034061.9011219577,null,104939.58869071704,null,69337.707764728664,2380594.6332556838,null,null,15456.243970427946,null,15164.796790839217,376231.38704891579,8528.7280345645177,324407.54412954662]
[19,null,null,null,null,89814.763683794547,null,63716.299944172562,2187592.9647499248,null,106513.68252107778,null,74613.249473302843,2561721.5652500642,null,null,15688.087629984364,null,16460.617936513809,408380.09261541395,9182.5820575073376,349278.21381703834]
[20,null,null,null,null,91161.985139051452,null,68362.648496669281,2347117.5983856455,null,108111.38775889394,null,80094.988590268738,2749927.941599227,null,null,15923.408944434128,null,17820.74706551362,442124.24862536171,9860.4438145597578,375062.06657603226]
[21,null,null,null,null,92529.414916137219,null,73189.410399053479,2512836.4237008365,null,109733.05857527733,null,85789.830005235126,2945450.8301797393,null,null,16162.260078600639,null,19248.033365566422,477534.54206952878,10563.05681967509,401787.38347430801]
[22,null,null,null,null,93917.356139879266,null,78202.613395221473,2684956.3932359372,null,111379.05445390649,null,91704.89653900938,3148534.7811726551,null,null,16404.693979779648,null,20745.447914070955,514684.68396337942,11291.186091260368,429483.26354534802]
[23,null,null,null,null,95326.116481977442,null,83408.475291537441,2863690.9850094523,null,113049.74027071508,null,97847.535643301104,3359432.0570866712,null,null,16650.764389476342,null,22316.088830819943,553651.53718367568,12045.618754240259,458179.64668906463]
[24,null,null,null,null,96756.008229207087,null,88813.40979715978,3049260.4030358195,null,114745.48637477579,null,104225.32630384341,3578402.8697652905,null,null,16900.525855318487,null,23963.186647637758,594515.24968663196,12827.164658698344,487907.33720308146]
[25,null,null,null,null,98207.348352645189,null,94424.032541653927,3241891.7839301187,null,116466.66867039741,null,110846.08615307063,3805715.6245887582,null,null,17154.033743148262,null,25690.109904050772,637359.3933338311,13636.657015548204,518698.02796177793]
[26,null,null,null,null,99680.458577934856,null,100247.16727524159,3441819.4097832949,null,118213.66870045336,null,117717.87879867635,4041647.1720878878,null,null,17411.344249295485,null,27500.370978491319,682271.1085616179,14474.953049698985,550584.32526077237]
[27,null,null,null,null,101175.66545660386,null,106289.85225719695,3649284.9274970954,null,119986.87373096014,null,124849.02137456543,4286483.0671934132,null,null,17672.514413034914,null,29397.632164935418,729341.25513958826,15342.934671192797,583599.77434500004]
[28,null,null,null,null,102693.3004384529,null,112559.34683806644,3864537.5747736148,null,121786.67683692453,null,132248.09232091013,4540517.8363512475,null,null,17937.602129230436,null,31385.712005290385,778664.56927410909,16241.509164804223,617778.88563903468]
[29,null,null,null,null,104233.69994502969,null,119063.13824155933,4087834.4129602038,null,123613.47698947838,null,139923.93940022177,4804055.2527409485,null,null,18206.666161168891,null,33468.591888281677,830339.82732355956,17171.609898605497,653157.16169880901]
[30,null,null,null,null,105797.20544420512,null,125808.94855213226,4319440.5669565415,null,125467.67914432054,null,147885.68795655805,5077408.6198418261,null,null,18479.766153586421,null,35650.422926040133,884470.01640318613,18134.197052014679,689771.1249044101]
[31,null,null,null,null,{"$f":"F33*(1+G$1)","v":107384.16352586818},null,{"$f":"(I33+F34)*G$2","v":132804.74191447228},{"$f":"I33+F34+H34","v":4559629.4723968823},null,{"$f":"K33*(1+L$1)","v":127349.69433148534},null,{"$f":"(N33+K34)*L$2","v":156142.74942519935},5360901.0635985117,null,null,18756.962645890217,null,{"$f":"(T33+Q34)*R$2","v":37935.533120061205},{"$f":"T33+Q34+S34","v":941162.51216913748},19130.258363858109,727658.34591415839]
[32,null,null,null,null,108994.92597875619,null,140058.73195126915,4808683.1303269081,null,129259.9397464576,null,164704.83010034906,5654865.833445318,null,null,19038.317085578568,null,40328.434828698075,1000529.2640834141,20160.809900992899,766857.47290072986]
[33,null,null,null,null,110629.84986843752,null,147579.38940586036,5066892.3696012059,null,131198.83884265446,null,173581.94016863918,5959646.6124566123,null,null,19323.891841862245,null,42833.83254886161,1062686.9884741378,21226.89684804999,807408.26159064204]
[34,null,null,null,null,112289.29761646407,null,155375.45001653009,5334557.1172342002,null,133166.82142529427,null,182784.40301645719,6275597.8368983641,null,null,19613.750219490175,null,45456.631025132381,1127757.3697187605,22329.594318873573,849351.60612900578]
[35,null,null,null,null,113973.63708071102,null,163455.92262944733,5611986.6769443592,null,135164.32374667368,null,192322.86481935112,6603085.0254643895,null,null,19907.956472782527,null,48201.943700044802,1195867.2698915878,23470.008190248289,892729.5707920366]
[36,null,null,null,null,115683.24163692168,null,171830.09755743842,5899500.0161387194,null,137191.78860287377,null,202208.30442201789,6942485.1184892813,null,null,20206.575819874262,null,51075.101519881406,1267148.9472313435,24649.275958521597,937585.42257043254]
[37,null,null,null,null,117418.4902614755,null,180507.55519200585,6197426.0615922008,null,139249.66543191686,null,212452.04351763593,7294186.8274388341,null,null,20509.674457172376,null,54081.66211091767,1341740.2837994336,25868.567619745336,983963.66464735032]
[38,null,null,null,null,119179.76761539762,null,189498.17487622795,6506104.0040838262,null,141338.41041339558,null,223065.75713556688,7658590.994987797,null,null,20817.31957402996,null,57227.419341685469,1419785.022715149,27129.086573977271,1031910.0707953576]
[39,null,null,null,null,120967.46412962857,null,198812.14404640364,6825883.6122598583,null,143458.48656959651,null,234061.48444672179,8036110.9660041155,null,null,21129.579367640406,null,60518.41328747716,1501433.0153702665,28432.070554400947,1081471.7207173989]
[40,null,null,null,null,122781.97609157299,null,208459.96765054294,7157125.5560019743,null,145610.36386814044,null,245451.63989616768,8427172.9697684236,null,null,21446.523058155009,null,63960.940613993713,1586840.4790424153,29778.792581939961,1132697.0363574941]
[41,null,null,null,null,124623.70573294658,null,218452.4778520476,7500201.739586968,null,147794.51932616252,null,257249.02467283755,8832216.5137674231,null,null,21768.220904027334,null,67561.565397750601,1676170.2653441932,31170.561946061083,1185635.8192075824]
[42,null,null,null,null,126493.06131894076,null,228800.84402717726,7855495.6449330859,null,150011.43711605493,null,269466.83852650435,9251694.789409982,null,null,22094.74421758774,null,71327.130401594797,1769592.1399633756,32608.725212479596,1240339.2886376497]
[43,null,null,null,null,128390.45723872486,null,239516.58306515429,8223402.6852369644,null,152261.60867279573,null,282118.6919424833,9686075.090025261,null,null,22426.165380851555,null,75264.768824457555,1867283.0741686849,34094.667258499539,1296860.1212770008]
[44,null,null,null,null,130316.31409730572,null,250611.56998002809,8604330.5693142973,null,154545.53280288764,null,295218.61868484446,10135839.241512993,null,null,22762.557861564324,null,79381.916545270462,1969427.5485755196,35629.812336741255,1355252.4914753062]
[45,null,null,null,null,132271.05880876529,null,262098.04884369185,8998699.6769667529,null,156863.71579493093,null,308781.08871923771,10601484.046027161,null,null,23103.996229487788,null,83686.324881810317,2076217.8696868175,37215.625168029437,1415572.1128728234]
[46,null,null,null,null,134255.12469089674,null,273988.64404972945,9406943.4457073789,null,159216.6715318549,null,322821.02152677043,11083521.739085786,null,null,23450.556172930101,null,88186.0738861094,2187854.499745857,38853.612064235349,1477876.2811099889]
[47,null,null,null,null,136268.95156126018,null,286296.37191805919,9829508.7691866998,null,161604.92160483269,null,337353.79982071853,11582480.460511338,null,null,23802.314515524049,null,92889.58619897801,2304546.4004603592,40545.322081888859,1542223.9177074018]
[48,null,null,null,null,138312.98583467907,null,299034.65265064134,10266856.40767202,null,164028.99542890515,null,352395.28367820726,12098904.73961845,null,null,24159.349233256908,null,97805.641487131885,2426511.3911807481,42292.348207397787,1608675.6151480565]
[49,null,null,null,null,140387.68062219923,null,312217.32264882658,10719461.410943046,null,166489.43036033871,null,367961.82509936369,12633355.995078154,null,null,24521.739471755758,null,102943.39148740517,2553976.5221399092,44096.328574734936,1677293.6831945472]
[50,null,null,null,null,142493.4958315322,null,325858.64720323734,11187813.553977815,null,168986.77181574376,null,384070.28300681693,13186413.049900714,null,null,24889.565563832093,null,108312.37568355714,2687178.4633872984,45958.94771647625,1748142.1964748555]
[51,null,null,null,null,144630.89826900518,null,339973.3335674046,11672417.785814226,null,171521.57339297992,null,400738.03869881079,13758672.661992505,null,null,25262.909047289573,null,113922.5376422527,2826363.9100768408,47881.937849097922,1821287.0433712429]
[52,null,null,null,null,146800.36174304024,null,354576.54442671797,12173794.691983985,null,174094.3969938746,null,417983.01176959142,14350750.070755972,null,null,25641.852682998913,null,119784.24203591327,2971790.0047957529,49867.080193464535,1896795.9762477065]
[53,null,null,null,null,149002.36716918583,null,369683.91177459515,12692480.970927766,null,176705.8129487827,null,435823.67651114258,14963279.560215896,null,null,26026.480473243893,null,125908.29238129788,3123724.7776502948,51916.206331465663,1974738.6630524159]
[54,null,null,null,null,151237.40267672361,null,385311.55120813468,13229029.924812624,null,179356.40014301441,null,454279.07881076727,15596915.039169677,null,null,26416.87768034255,null,132305.94952388678,3282447.6048545241,54031.199599784486,2055186.7403325432]
[55,null,null,null,null,153505.96371687445,null,401476.07665588491,13784011.965185383,null,182046.74614515962,null,473368.85355944507,16252330.638874281,null,null,26813.130845547686,null,138988.95089940302,3448249.6865994749,56213.996521808462,2138213.8676998992]
[56,null,null,null,null,155808.55317262755,null,418194.61555074033,14358015.13390875,null,184777.44733733698,null,493113.2425863485,16930221.328797966,null,null,27215.327808230901,null,145969.53060512367,3621434.5450128298,58466.58827871953,2223895.7837868501]
[57,null,null,null,null,158145.68147021695,null,435484.82446136902,14951645.639840337,null,187549.10904739701,null,513533.11313536088,17631303.550980724,null,null,27623.557725354363,null,153260.44031500374,3802318.5430531884,60791.022220829531,2312310.3637330341]
[58,null,null,null,null,160517.86669227018,null,453364.90519597824,15565528.411728585,null,190362.34568310794,null,534649.97689991503,18356315.873563748,null,null,28037.911091234677,null,160874.97107406578,3991231.4252184886,63189.403420255258,2403537.6782445237]
[59,null,null,null,null,162925.63469265422,null,471853.62139263714,16200307.667813877,null,193217.78086835454,null,556486.00963296311,19106019.664065067,null,null,28458.479757603196,null,168826.97600899587,4188516.8809850877,65663.896266057433,2497660.0542681846]
[60,null,null,null,null,165369.51921304403,null,490970.31561080756,16856647.502637729,null,196116.04758137985,null,579064.07134939334,19881199.782995839,null,null,28885.356953967243,null,177130.89399344032,4394533.1319324952,68216.726102998116,2594762.13732515]

{"sheet":"spolecnosti","index":19,"n_rows":7,"n_cols":1,"rows_kept":7,"cut":false,"hidden":false,"merged":[]}
[]
[1]
[2]
[3]
[4]
[5]
[6]

{"sheet":"Sheet1","index":20,"n_rows":0,"n_cols":0,"rows_kept":0,"cut":false,"hidden":false,"merged":[]}